BEGIN:VCALENDAR
VERSION:2.0
PRODID:-//Aivovammayhdistykset - ECPv6.15.18//NONSGML v1.0//EN
CALSCALE:GREGORIAN
METHOD:PUBLISH
X-ORIGINAL-URL:https://aivovammayhdistykset.fi
X-WR-CALDESC:Tapahtumat Aivovammayhdistykset
REFRESH-INTERVAL;VALUE=DURATION:PT1H
X-Robots-Tag:noindex
X-PUBLISHED-TTL:PT1H
BEGIN:VTIMEZONE
TZID:Europe/Helsinki
BEGIN:DAYLIGHT
TZOFFSETFROM:+0200
TZOFFSETTO:+0300
TZNAME:EEST
DTSTART:20240331T010000
END:DAYLIGHT
BEGIN:STANDARD
TZOFFSETFROM:+0300
TZOFFSETTO:+0200
TZNAME:EET
DTSTART:20241027T010000
END:STANDARD
BEGIN:DAYLIGHT
TZOFFSETFROM:+0200
TZOFFSETTO:+0300
TZNAME:EEST
DTSTART:20250330T010000
END:DAYLIGHT
BEGIN:STANDARD
TZOFFSETFROM:+0300
TZOFFSETTO:+0200
TZNAME:EET
DTSTART:20251026T010000
END:STANDARD
BEGIN:DAYLIGHT
TZOFFSETFROM:+0200
TZOFFSETTO:+0300
TZNAME:EEST
DTSTART:20260329T010000
END:DAYLIGHT
BEGIN:STANDARD
TZOFFSETFROM:+0300
TZOFFSETTO:+0200
TZNAME:EET
DTSTART:20261025T010000
END:STANDARD
END:VTIMEZONE
BEGIN:VEVENT
DTSTART;VALUE=DATE:20251017
DTEND;VALUE=DATE:20251101
DTSTAMP:20260420T072148
CREATED:20251010T065823Z
LAST-MODIFIED:20251010T065823Z
UID:17444-1760659200-1761955199@aivovammayhdistykset.fi
SUMMARY:SataNeuro yhteistyö: Tule mukaan taideterapiaan
DESCRIPTION:
URL:https://aivovammayhdistykset.fi/tapahtuma/sataneuro-yhteistyo-tule-mukaan-taideterapiaan/
CATEGORIES:Satakunnan aivovammayhdistys ry
END:VEVENT
BEGIN:VEVENT
DTSTART;TZID=Europe/Helsinki:20251022T100000
DTEND;TZID=Europe/Helsinki:20251022T170000
DTSTAMP:20260420T072148
CREATED:20251010T070148Z
LAST-MODIFIED:20251010T070148Z
UID:17450-1761127200-1761152400@aivovammayhdistykset.fi
SUMMARY:SataNeuro yhteistyö: Retki Kivikylään ja Raumalle
DESCRIPTION:
URL:https://aivovammayhdistykset.fi/tapahtuma/sataneuro-yhteistyo-retki-kivikylaan-ja-raumalle/
CATEGORIES:Satakunnan aivovammayhdistys ry
END:VEVENT
END:VCALENDAR