BEGIN:VCALENDAR
VERSION:2.0
PRODID:-//Aivovammayhdistykset - ECPv6.15.18//NONSGML v1.0//EN
CALSCALE:GREGORIAN
METHOD:PUBLISH
X-ORIGINAL-URL:https://aivovammayhdistykset.fi
X-WR-CALDESC:Tapahtumat Aivovammayhdistykset
REFRESH-INTERVAL;VALUE=DURATION:PT1H
X-Robots-Tag:noindex
X-PUBLISHED-TTL:PT1H
BEGIN:VTIMEZONE
TZID:Europe/Helsinki
BEGIN:DAYLIGHT
TZOFFSETFROM:+0200
TZOFFSETTO:+0300
TZNAME:EEST
DTSTART:20230326T010000
END:DAYLIGHT
BEGIN:STANDARD
TZOFFSETFROM:+0300
TZOFFSETTO:+0200
TZNAME:EET
DTSTART:20231029T010000
END:STANDARD
BEGIN:DAYLIGHT
TZOFFSETFROM:+0200
TZOFFSETTO:+0300
TZNAME:EEST
DTSTART:20240331T010000
END:DAYLIGHT
BEGIN:STANDARD
TZOFFSETFROM:+0300
TZOFFSETTO:+0200
TZNAME:EET
DTSTART:20241027T010000
END:STANDARD
BEGIN:DAYLIGHT
TZOFFSETFROM:+0200
TZOFFSETTO:+0300
TZNAME:EEST
DTSTART:20250330T010000
END:DAYLIGHT
BEGIN:STANDARD
TZOFFSETFROM:+0300
TZOFFSETTO:+0200
TZNAME:EET
DTSTART:20251026T010000
END:STANDARD
END:VTIMEZONE
BEGIN:VEVENT
DTSTART;TZID=Europe/Helsinki:20240515T120000
DTEND;TZID=Europe/Helsinki:20240515T170000
DTSTAMP:20260420T144052
CREATED:20240116T122000Z
LAST-MODIFIED:20240301T114641Z
UID:14358-1715774400-1715792400@aivovammayhdistykset.fi
SUMMARY:Satakunnan aivovammayhdistyksen kevätjuhla
DESCRIPTION:Satakunnan aivovammayhdistyksen kevätjuhla järjestetään Eurajoen Lahdenperässä keskiviikkona 15.5. kello 12-17. Tervetuloa!
URL:https://aivovammayhdistykset.fi/tapahtuma/satakunnan-aivovammayhdistyksen-kevatjuhla/
CATEGORIES:Satakunnan aivovammayhdistys ry
END:VEVENT
END:VCALENDAR