BEGIN:VCALENDAR
VERSION:2.0
PRODID:-//Aivovammayhdistykset - ECPv6.15.18//NONSGML v1.0//EN
CALSCALE:GREGORIAN
METHOD:PUBLISH
X-ORIGINAL-URL:https://aivovammayhdistykset.fi
X-WR-CALDESC:Tapahtumat Aivovammayhdistykset
REFRESH-INTERVAL;VALUE=DURATION:PT1H
X-Robots-Tag:noindex
X-PUBLISHED-TTL:PT1H
BEGIN:VTIMEZONE
TZID:Europe/Helsinki
BEGIN:DAYLIGHT
TZOFFSETFROM:+0200
TZOFFSETTO:+0300
TZNAME:EEST
DTSTART:20250330T010000
END:DAYLIGHT
BEGIN:STANDARD
TZOFFSETFROM:+0300
TZOFFSETTO:+0200
TZNAME:EET
DTSTART:20251026T010000
END:STANDARD
BEGIN:DAYLIGHT
TZOFFSETFROM:+0200
TZOFFSETTO:+0300
TZNAME:EEST
DTSTART:20260329T010000
END:DAYLIGHT
BEGIN:STANDARD
TZOFFSETFROM:+0300
TZOFFSETTO:+0200
TZNAME:EET
DTSTART:20261025T010000
END:STANDARD
BEGIN:DAYLIGHT
TZOFFSETFROM:+0200
TZOFFSETTO:+0300
TZNAME:EEST
DTSTART:20270328T010000
END:DAYLIGHT
BEGIN:STANDARD
TZOFFSETFROM:+0300
TZOFFSETTO:+0200
TZNAME:EET
DTSTART:20271031T010000
END:STANDARD
END:VTIMEZONE
BEGIN:VEVENT
DTSTART;TZID=Europe/Helsinki:20261123T080000
DTEND;TZID=Europe/Helsinki:20261123T170000
DTSTAMP:20260422T053745
CREATED:20260421T151654Z
LAST-MODIFIED:20260421T151654Z
UID:18344-1795420800-1795453200@aivovammayhdistykset.fi
SUMMARY:Suljettu vertaistukiryhmä 5/6
DESCRIPTION:klo 18-20 / lisätiedot päivitetään myöhemmin
URL:https://aivovammayhdistykset.fi/tapahtuma/suljettu-vertaistukiryhma-5-6/
LOCATION:Aivola\, Puutarhakatu 19 a\, liiketila 4\, Turku\, 20100\, Finland
CATEGORIES:Varsinais-Suomen aivovammayhdistys ry
END:VEVENT
BEGIN:VEVENT
DTSTART;TZID=Europe/Helsinki:20261130T080000
DTEND;TZID=Europe/Helsinki:20261130T170000
DTSTAMP:20260422T053745
CREATED:20260421T151723Z
LAST-MODIFIED:20260421T151723Z
UID:18346-1796025600-1796058000@aivovammayhdistykset.fi
SUMMARY:Suljettu vertaistukiryhmä 6/6
DESCRIPTION:klo 18-20 / lisätiedot päivitetään myöhemmin
URL:https://aivovammayhdistykset.fi/tapahtuma/suljettu-vertaistukiryhma-6-6/
LOCATION:Aivola\, Puutarhakatu 19 a\, liiketila 4\, Turku\, 20100\, Finland
CATEGORIES:Varsinais-Suomen aivovammayhdistys ry
END:VEVENT
BEGIN:VEVENT
DTSTART;TZID=Europe/Helsinki:20261201T180000
DTEND;TZID=Europe/Helsinki:20261201T200000
DTSTAMP:20260422T053745
CREATED:20260421T143138Z
LAST-MODIFIED:20260421T143138Z
UID:18323-1796148000-1796155200@aivovammayhdistykset.fi
SUMMARY:Läheisten ryhmä
DESCRIPTION:Aivovammautuneen läheisten vertaistukiryhmä kokoontuu kerran kuussa vaihtamaan kuulumisiaan vertaistensa kanssa. Kokoontuminen on kuukauden ensimmäisenä tiistaina Aivolassa. Toisinaan on myös muuta ohjelmaa. Ryhmään on kaikilla vapaa pääsy.\nLeila\, puh. 044 314 4838
URL:https://aivovammayhdistykset.fi/tapahtuma/laheisten-ryhma-6/
LOCATION:Aivola\, Puutarhakatu 19 a\, liiketila 4\, Turku\, 20100\, Finland
CATEGORIES:Varsinais-Suomen aivovammayhdistys ry
END:VEVENT
BEGIN:VEVENT
DTSTART;TZID=Europe/Helsinki:20261202T140000
DTEND;TZID=Europe/Helsinki:20261202T160000
DTSTAMP:20260422T053745
CREATED:20260421T143555Z
LAST-MODIFIED:20260421T143555Z
UID:18331-1796220000-1796227200@aivovammayhdistykset.fi
SUMMARY:Miesten Karjukerho
DESCRIPTION:Miesten ryhmä (Karjukerho) kokoontuu pari kertaa kuukaudessa. Miehet kokoontuvat kuukauden ensimmäisenä keskiviikkona Aivolassa juttelemassa ja kahvittelemassa samalla he yhteisesti päättävät siitä mikä on kuukauden toisen tapaamisen aihe ja missä se pidetään. Miesten ryhmään ovat kaikki tervetulleita. Miesten ryhmästä voit kysellä\nRisto\, puh. 040 506 5192.
URL:https://aivovammayhdistykset.fi/tapahtuma/miesten-karjukerho-6/
LOCATION:Aivola\, Puutarhakatu 19 a\, liiketila 4\, Turku\, 20100\, Finland
CATEGORIES:Varsinais-Suomen aivovammayhdistys ry
END:VEVENT
BEGIN:VEVENT
DTSTART;TZID=Europe/Helsinki:20261203T140000
DTEND;TZID=Europe/Helsinki:20261203T160000
DTSTAMP:20260422T053745
CREATED:20260421T142629Z
LAST-MODIFIED:20260421T142629Z
UID:18317-1796306400-1796313600@aivovammayhdistykset.fi
SUMMARY:Naisten kerho
DESCRIPTION:Vammautuneiden naisten ryhmä kokoontuu kuukauden ensimmäisenä torstaina Aivolassa. Myös naisten ryhmään ovat kaikki tervetulleita. Naisten ryhmästä voit kysellä\nRiitta\, puh. 040 770 3032.
URL:https://aivovammayhdistykset.fi/tapahtuma/naisten-kerho-4/
LOCATION:Aivola\, Puutarhakatu 19 a\, liiketila 4\, Turku\, 20100\, Finland
CATEGORIES:Varsinais-Suomen aivovammayhdistys ry
END:VEVENT
END:VCALENDAR