BEGIN:VCALENDAR
VERSION:2.0
PRODID:-//Aivovammayhdistykset - ECPv6.15.18//NONSGML v1.0//EN
CALSCALE:GREGORIAN
METHOD:PUBLISH
X-ORIGINAL-URL:https://aivovammayhdistykset.fi
X-WR-CALDESC:Tapahtumat Aivovammayhdistykset
REFRESH-INTERVAL;VALUE=DURATION:PT1H
X-Robots-Tag:noindex
X-PUBLISHED-TTL:PT1H
BEGIN:VTIMEZONE
TZID:Europe/Helsinki
BEGIN:DAYLIGHT
TZOFFSETFROM:+0200
TZOFFSETTO:+0300
TZNAME:EEST
DTSTART:20250330T010000
END:DAYLIGHT
BEGIN:STANDARD
TZOFFSETFROM:+0300
TZOFFSETTO:+0200
TZNAME:EET
DTSTART:20251026T010000
END:STANDARD
BEGIN:DAYLIGHT
TZOFFSETFROM:+0200
TZOFFSETTO:+0300
TZNAME:EEST
DTSTART:20260329T010000
END:DAYLIGHT
BEGIN:STANDARD
TZOFFSETFROM:+0300
TZOFFSETTO:+0200
TZNAME:EET
DTSTART:20261025T010000
END:STANDARD
BEGIN:DAYLIGHT
TZOFFSETFROM:+0200
TZOFFSETTO:+0300
TZNAME:EEST
DTSTART:20270328T010000
END:DAYLIGHT
BEGIN:STANDARD
TZOFFSETFROM:+0300
TZOFFSETTO:+0200
TZNAME:EET
DTSTART:20271031T010000
END:STANDARD
END:VTIMEZONE
BEGIN:VEVENT
DTSTART;TZID=Europe/Helsinki:20260326T080000
DTEND;TZID=Europe/Helsinki:20260526T170000
DTSTAMP:20260421T182700
CREATED:20260326T081434Z
LAST-MODIFIED:20260326T081434Z
UID:18230-1774512000-1779814800@aivovammayhdistykset.fi
SUMMARY:Huhtikuun tapahtuma
DESCRIPTION:Huhtikuussa museo Aalto 2 Museo Alvar Aallonkatu 7 \ntorstaina 16.4 klo14 Museossa on nyt kahvila juomme ensin kahvit \nsen jälkeen kierrämme näyttelyjä kiinnostuksen ja jaksamisen mukaan. \n  \nToukokokuussa Leena on luvannut suvaita meitä mökillään. Loukkumäentie 106 Höytiä \ntiistaina 19.5 klo15 juodaan kahvia ehkä makkaraa ehkä sauna? \nPullatarpeen varmistamiseksi ilmoita Saku p 0400541119 sp saku.virtanen@elisanet.fi
URL:https://aivovammayhdistykset.fi/tapahtuma/huhtikuun-tapahtuma/
CATEGORIES:Jyväskylä
END:VEVENT
BEGIN:VEVENT
DTSTART;TZID=Europe/Helsinki:20260326T080000
DTEND;TZID=Europe/Helsinki:20260526T170000
DTSTAMP:20260421T182700
CREATED:20260326T084813Z
LAST-MODIFIED:20260326T084813Z
UID:18232-1774512000-1779814800@aivovammayhdistykset.fi
SUMMARY:Tapahtumat
DESCRIPTION:Huhtikuussa torstaina 16.4 klo14 Tapaaminen Aalto2 Museossa Alvar Aallonkatu 7 \nKahvio on avoinna\, juodaan ensi kahvit ja sen jälkeen tutustutaan näyttelyihin \n  \nToukokuussa Leena on luvanut meidät mökilleen Loukkumäentie 106 Höytiä \nTiistaina 19 toukokuuta klo14 Keitellään kahvia ehkä makkaraa. Saunakin mahdollista. \nPullatarpeen määritelemieksi ilmoita Sakulle p04005411116 sp saku.virtanen@elisanet.fi
URL:https://aivovammayhdistykset.fi/tapahtuma/tapahtumat/
CATEGORIES:Jyväskylä,Keski-Suomen aivovammayhdistys ry
END:VEVENT
BEGIN:VEVENT
DTSTART;TZID=Europe/Helsinki:20260326T080000
DTEND;TZID=Europe/Helsinki:20260527T170000
DTSTAMP:20260421T182700
CREATED:20260326T173911Z
LAST-MODIFIED:20260326T175053Z
UID:18234-1774512000-1779901200@aivovammayhdistykset.fi
SUMMARY:Huhtikuu
DESCRIPTION:Huhtikuussa menemme museoon Aalto2 Alvar Aallonkatu 7 \ntorstaina 16.4 klo14 Juodaan kahvit ensin ja tutustutaan siten näyttelyihin \n  \nToukokuussa Leena on luvannut meille vierailun mökilleen Luokuntie 106 Höytiä \nJuodaan kahvit ihaillaan Leenan maisemia ehkä makkaraa saunakin mahdollinen\, \npullatarpeen varmistamiseksi ilmoita Sakulle p0400541119 sp saku.virtanen@elisanet.fi
URL:https://aivovammayhdistykset.fi/tapahtuma/huhtikuu/
CATEGORIES:Jyväskylä
END:VEVENT
BEGIN:VEVENT
DTSTART;TZID=Europe/Helsinki:20260408T180000
DTEND;TZID=Europe/Helsinki:20260408T200000
DTSTAMP:20260421T182700
CREATED:20251231T132314Z
LAST-MODIFIED:20251231T132314Z
UID:17858-1775671200-1775678400@aivovammayhdistykset.fi
SUMMARY:Turun jäsenilta
DESCRIPTION:Vierailijana ovat neuropsykologi Arja Seinelä sekä puheterapeutti Marjaana Raukola-Lindblom. Heidän aiheenaan on luonto- ja eläinavusteinen kuntoutus.
URL:https://aivovammayhdistykset.fi/tapahtuma/turun-jasenilta-12/
LOCATION:Aivola\, Puutarhakatu 19 a\, liiketila 4\, Turku\, 20100\, Finland
CATEGORIES:Varsinais-Suomen aivovammayhdistys ry
END:VEVENT
BEGIN:VEVENT
DTSTART;TZID=Europe/Helsinki:20260409T160000
DTEND;TZID=Europe/Helsinki:20260409T183000
DTSTAMP:20260421T182700
CREATED:20260322T081938Z
LAST-MODIFIED:20260322T081938Z
UID:18215-1775750400-1775759400@aivovammayhdistykset.fi
SUMMARY:HUHTIKUUN JÄSENTAPAAMINEN  Keilaus 9.4. klo.16.00 - 18.00 S.Q.B.CENTER SEINÄJOKI
DESCRIPTION:Meille varattuna 4 rataa kahdeksi tunniksi.\nMukaan tulee myös pieni ryhmä Oulunseudun Avy.stä\, ottamaan meistä ”mittaa”\nleikkimielisessä keilaus kisassa. Keilata voi myös kisajoukkueen ulkopuolella.\nEli ei tarvitse osallistua ”kisaan”\nPäätteeksi tarjolla pullakahvit.\nTERVETULOA MUKAAN
URL:https://aivovammayhdistykset.fi/tapahtuma/huhtikuun-jasentapaaminen-keilaus-9-4-klo-16-00-18-00-s-q-b-center-seinajoki/
LOCATION:S.Q.B. Center Seinäjoki\, Urheilupuisto 4\, Seinäjoki\, 60100\, Suomi
CATEGORIES:Etelä-Pohjanmaan aivovammayhdistys ry
END:VEVENT
BEGIN:VEVENT
DTSTART;TZID=Europe/Helsinki:20260412T150000
DTEND;TZID=Europe/Helsinki:20260412T170000
DTSTAMP:20260421T182700
CREATED:20251231T144223Z
LAST-MODIFIED:20260219T072555Z
UID:17893-1776006000-1776013200@aivovammayhdistykset.fi
SUMMARY:Taidekerho huom. su 12.4. klo 15-17
DESCRIPTION:Taidekerhossa tehdään ja harjoitellaan monia taiteeseen liittyviä töitä\, maalausta\, askartelua\, musiikkia jne. Kerho kokoontuu Aivolassa. Tiedustelut Marjo p. 040 530 5803.
URL:https://aivovammayhdistykset.fi/tapahtuma/taidekerho-13/
LOCATION:Aivola\, Puutarhakatu 19 a\, liiketila 4\, Turku\, 20100\, Finland
CATEGORIES:Varsinais-Suomen aivovammayhdistys ry
END:VEVENT
BEGIN:VEVENT
DTSTART;TZID=Europe/Helsinki:20260413T120000
DTEND;TZID=Europe/Helsinki:20260413T130000
DTSTAMP:20260421T182700
CREATED:20251231T131827Z
LAST-MODIFIED:20251231T131827Z
UID:17847-1776081600-1776085200@aivovammayhdistykset.fi
SUMMARY:Keilaus
DESCRIPTION:Tervetuloa keilaamaan Raision keilailukeskukseen maanantaisin klo 12.00–13.00. Kevätkauden kurssimaksu on 30 € (15 kertaa) ja yksittäisen käyntikerran osallistujamaksu on 4 €/kerta. Lisäksi tulee 1 € kenkävuokra\, joka maksetaan kassalle aina osallistuessa. Kauden kurssimaksu tai yksittäisen kerran osallistuminen maksetaan käteisellä (tasaraha) Terjelle tai Mobile Paylla yhdistyksen tapahtumakassaan\, numeroon 25861. Tiedustelut 044 314 4838.
URL:https://aivovammayhdistykset.fi/tapahtuma/keilaus-201/
CATEGORIES:Varsinais-Suomen aivovammayhdistys ry
END:VEVENT
BEGIN:VEVENT
DTSTART;TZID=Europe/Helsinki:20260413T170000
DTEND;TZID=Europe/Helsinki:20260413T190000
DTSTAMP:20260421T182700
CREATED:20251231T133614Z
LAST-MODIFIED:20260219T072830Z
UID:17875-1776099600-1776106800@aivovammayhdistykset.fi
SUMMARY:Hallituksen kokous
DESCRIPTION:Hallitus hoitaa yhdistyksen yhteisiä asioita ja tekee niistä päätöksiä.  \nMikäli sinulla on asiaa hallituksen jäsenille tai haluat\, että hallitus käsittelee kokouksessaan jonkin sinulle tärkeän asian\, ota yhteyttä hallituksen jäseniin joko suullisesti tai kirjallisesti ja esitä heille asiasi.
URL:https://aivovammayhdistykset.fi/tapahtuma/hallituksen-kokous-11/
LOCATION:Aivola\, Puutarhakatu 19 a\, liiketila 4\, Turku\, 20100\, Finland
CATEGORIES:Varsinais-Suomen aivovammayhdistys ry
END:VEVENT
BEGIN:VEVENT
DTSTART;TZID=Europe/Helsinki:20260414T173000
DTEND;TZID=Europe/Helsinki:20260414T193000
DTSTAMP:20260421T182700
CREATED:20251231T144522Z
LAST-MODIFIED:20251231T144522Z
UID:17895-1776187800-1776195000@aivovammayhdistykset.fi
SUMMARY:Salon toimintaryhmän tapaaminen
DESCRIPTION:Salon seudun toimintaryhmä kokoontuu SYTY:n tiloissa os. Helsingintie 6\, Salo. Ryhmän vetäjinä toimivat Terhi Hellberg ja Raisa Salonen. Heidät tavoittaa numerosta 050 555 0545.
URL:https://aivovammayhdistykset.fi/tapahtuma/salon-toimintaryhman-tapaaminen-3/
LOCATION:Aivola\, Puutarhakatu 19 a\, liiketila 4\, Turku\, 20100\, Finland
CATEGORIES:Varsinais-Suomen aivovammayhdistys ry
END:VEVENT
BEGIN:VEVENT
DTSTART;TZID=Europe/Helsinki:20260415T153000
DTEND;TZID=Europe/Helsinki:20260415T170000
DTSTAMP:20260421T182700
CREATED:20251201T171624Z
LAST-MODIFIED:20251201T171624Z
UID:17647-1776267000-1776272400@aivovammayhdistykset.fi
SUMMARY:Nuoret Aikuiset
DESCRIPTION:Tule mukaan nuorten rentoon vertaistapaamiseen keskiviikkona 15.4. klo 15.30.- 17. Kahvila Iso-Ilmari (Huovisen leipomon myymälä) os. Ilmarinkatu 16\, Oulu. Tapaaminen on tarkoitettu nuorille ja nuorille aikuisille. Yhdistys tarjoaa pullakahvit.\nLisätietoja: Eila Sääskö. p. 040 765 6989\, eila.saasko@gmail.com
URL:https://aivovammayhdistykset.fi/tapahtuma/nuoret-aikuiset-27/
CATEGORIES:Oulun Seudun Aivovammayhdistys ry
END:VEVENT
BEGIN:VEVENT
DTSTART;TZID=Europe/Helsinki:20260420T120000
DTEND;TZID=Europe/Helsinki:20260420T130000
DTSTAMP:20260421T182700
CREATED:20251231T131917Z
LAST-MODIFIED:20251231T131917Z
UID:17850-1776686400-1776690000@aivovammayhdistykset.fi
SUMMARY:Keilaus
DESCRIPTION:Tervetuloa keilaamaan Raision keilailukeskukseen maanantaisin klo 12.00–13.00. Kevätkauden kurssimaksu on 30 € (15 kertaa) ja yksittäisen käyntikerran osallistujamaksu on 4 €/kerta. Lisäksi tulee 1 € kenkävuokra\, joka maksetaan kassalle aina osallistuessa. Kauden kurssimaksu tai yksittäisen kerran osallistuminen maksetaan käteisellä (tasaraha) Terjelle tai Mobile Paylla yhdistyksen tapahtumakassaan\, numeroon 25861. Tiedustelut 044 314 4838.
URL:https://aivovammayhdistykset.fi/tapahtuma/keilaus-202/
CATEGORIES:Varsinais-Suomen aivovammayhdistys ry
END:VEVENT
BEGIN:VEVENT
DTSTART;TZID=Europe/Helsinki:20260421T080000
DTEND;TZID=Europe/Helsinki:20260421T170000
DTSTAMP:20260421T182700
CREATED:20260421T150626Z
LAST-MODIFIED:20260421T150626Z
UID:18333-1776758400-1776790800@aivovammayhdistykset.fi
SUMMARY:Suljettu vertaistukiryhmä 1/6
DESCRIPTION:klo 18-20 / lisätiedot päivitetään myöhemmin
URL:https://aivovammayhdistykset.fi/tapahtuma/suljettu-vertaistukiryhma-1-6/
END:VEVENT
BEGIN:VEVENT
DTSTART;TZID=Europe/Helsinki:20260421T150000
DTEND;TZID=Europe/Helsinki:20260421T160000
DTSTAMP:20260421T182700
CREATED:20251201T144943Z
LAST-MODIFIED:20251201T144943Z
UID:17635-1776783600-1776787200@aivovammayhdistykset.fi
SUMMARY:Keilaus
DESCRIPTION:Yhdistys on varannut jäsentemme käyttöön kaksi keilarataa tiistaisin 21.4\, klo 15-16\, Oulun Keilahallilta\, os. Isokatu 97. Keilaus on jäsenille maksuton ja tila on esteetön. Kenkävuokra 2 € on omakustanteinen.
URL:https://aivovammayhdistykset.fi/tapahtuma/keilaus-188/
CATEGORIES:Oulun Seudun Aivovammayhdistys ry
END:VEVENT
BEGIN:VEVENT
DTSTART;TZID=Europe/Helsinki:20260422T150000
DTEND;TZID=Europe/Helsinki:20260422T163000
DTSTAMP:20260421T182700
CREATED:20260415T093515Z
LAST-MODIFIED:20260415T093515Z
UID:18268-1776870000-1776875400@aivovammayhdistykset.fi
SUMMARY:Luento Kehon viisaus Mirka Kirjavainen fysioterapeutti
DESCRIPTION:Luento Kehon viisaus Mirka Kirjavainen fysioterapeutti
URL:https://aivovammayhdistykset.fi/tapahtuma/luento-kehon-viisaus-mirka-kirjavainen-fysioterapeutti/
LOCATION:Syystien palvelukeskus\, Takaniitynkuja 3\, Helsinki\, 0078
CATEGORIES:AVY Aivovammayhdistys ry
END:VEVENT
BEGIN:VEVENT
DTSTART;TZID=Europe/Helsinki:20260422T180000
DTEND;TZID=Europe/Helsinki:20260422T200000
DTSTAMP:20260421T182700
CREATED:20251231T132433Z
LAST-MODIFIED:20251231T132433Z
UID:17860-1776880800-1776888000@aivovammayhdistykset.fi
SUMMARY:Turun jäsenilta
DESCRIPTION:Vieraana laulupedagogi Heli Savolainen aiheenaan äänenkäytön fysiologia.
URL:https://aivovammayhdistykset.fi/tapahtuma/turun-jasenilta-13/
LOCATION:Aivola\, Puutarhakatu 19 a\, liiketila 4\, Turku\, 20100\, Finland
CATEGORIES:Varsinais-Suomen aivovammayhdistys ry
END:VEVENT
BEGIN:VEVENT
DTSTART;TZID=Europe/Helsinki:20260423T170000
DTEND;TZID=Europe/Helsinki:20260423T190000
DTSTAMP:20260421T182700
CREATED:20260330T163032Z
LAST-MODIFIED:20260415T094620Z
UID:18245-1776963600-1776970800@aivovammayhdistykset.fi
SUMMARY:Tikkurilan Jäsentapaaminen  23.4.2026 Peruttu!
DESCRIPTION:Tikkurilan ryhmä tapaaminen 23.4. \n 
URL:https://aivovammayhdistykset.fi/tapahtuma/tikkurilan-jasentapaaminen-keskiviikko-22-4-2026/
CATEGORIES:AVY Aivovammayhdistys ry
END:VEVENT
BEGIN:VEVENT
DTSTART;TZID=Europe/Helsinki:20260426T150000
DTEND;TZID=Europe/Helsinki:20260426T170000
DTSTAMP:20260421T182700
CREATED:20260420T180912Z
LAST-MODIFIED:20260420T181050Z
UID:18308-1777215600-1777222800@aivovammayhdistykset.fi
SUMMARY:Taidekerho
DESCRIPTION:Taidekerhossa tehdään ja harjoitellaan monia taiteeseen liittyviä töitä\, maalausta\, askartelua\, musiikkia jne. Kerho kokoontuu Aivolassa. Tiedustelut Marjo p. 040 530 5803.
URL:https://aivovammayhdistykset.fi/tapahtuma/taidekerho-12/
LOCATION:Aivola\, Puutarhakatu 19 a\, liiketila 4\, Turku\, 20100\, Finland
CATEGORIES:Varsinais-Suomen aivovammayhdistys ry
END:VEVENT
BEGIN:VEVENT
DTSTART;TZID=Europe/Helsinki:20260427T120000
DTEND;TZID=Europe/Helsinki:20260427T130000
DTSTAMP:20260421T182700
CREATED:20251231T131957Z
LAST-MODIFIED:20251231T131957Z
UID:17852-1777291200-1777294800@aivovammayhdistykset.fi
SUMMARY:Keilaus
DESCRIPTION:Tervetuloa keilaamaan Raision keilailukeskukseen maanantaisin klo 12.00–13.00. Kevätkauden kurssimaksu on 30 € (15 kertaa) ja yksittäisen käyntikerran osallistujamaksu on 4 €/kerta. Lisäksi tulee 1 € kenkävuokra\, joka maksetaan kassalle aina osallistuessa. Kauden kurssimaksu tai yksittäisen kerran osallistuminen maksetaan käteisellä (tasaraha) Terjelle tai Mobile Paylla yhdistyksen tapahtumakassaan\, numeroon 25861. Tiedustelut 044 314 4838.
URL:https://aivovammayhdistykset.fi/tapahtuma/keilaus-203/
CATEGORIES:Varsinais-Suomen aivovammayhdistys ry
END:VEVENT
BEGIN:VEVENT
DTSTART;TZID=Europe/Helsinki:20260428T110000
DTEND;TZID=Europe/Helsinki:20260428T130000
DTSTAMP:20260421T182700
CREATED:20260415T093921Z
LAST-MODIFIED:20260415T093921Z
UID:18270-1777374000-1777381200@aivovammayhdistykset.fi
SUMMARY:Kippistä kohtuudella Vapputapahtuma
DESCRIPTION:Torstaina 28.4.2026 Malmitalolla klo 11.00 – 13.00
URL:https://aivovammayhdistykset.fi/tapahtuma/kippista-kohtuudella-vapputapahtuma/
CATEGORIES:AVY Aivovammayhdistys ry
END:VEVENT
BEGIN:VEVENT
DTSTART;TZID=Europe/Helsinki:20260429T143000
DTEND;TZID=Europe/Helsinki:20260429T163000
DTSTAMP:20260421T182700
CREATED:20251202T102214Z
LAST-MODIFIED:20251202T102214Z
UID:17659-1777473000-1777480200@aivovammayhdistykset.fi
SUMMARY:Vertaistapaminen
DESCRIPTION:Vertaistapaaminen keskiviikkona 29.4. klo 14.30- 16.30. Kahvila\nIso-Ilmari (Huovisen leipomon myymälä) os. Ilmarinkatu 16\, Oulu.\nVertaistapaamiseen ovat myös läheiset tervetulleita.\nTavataan yhdessäolon ja kahvittelun merkeissä.\nYhdistys tarjoaa pullakahvit.
URL:https://aivovammayhdistykset.fi/tapahtuma/vertaistapaminen/
CATEGORIES:Oulun Seudun Aivovammayhdistys ry
END:VEVENT
BEGIN:VEVENT
DTSTART;TZID=Europe/Helsinki:20260502T130000
DTEND;TZID=Europe/Helsinki:20260502T150000
DTSTAMP:20260421T182700
CREATED:20251231T140024Z
LAST-MODIFIED:20251231T140125Z
UID:17888-1777726800-1777734000@aivovammayhdistykset.fi
SUMMARY:Viihdekonsertti läheisille: Let's vits again
DESCRIPTION:Päijät-Hämeen Aivovammayhdistys haluaa kiittää läheisiä huolenpidosta ja avusta\, joita vammautunut on tarvinnut. Siksi yhdistys tarjoaa läheisille virkistykseksi teatterikäynnin.\nLa 2.5. Lahden kaupunginteatterissa Let’s vits again -viihdekonsertissa Mikko ”Tökä” Töyssy ja Mikael ”Micke” Konttinen lyövät musiikilliset ja humoristiset hynttyynsä yhteen. Kesto 1 h 45 min\, sisältää väliajan. \nMukaan pääsee kymmenen ensimmäisenä ilmoittautunutta\, joten ilmoittaudu heti: info.phavy@gmail.com tai Sarille p. 0400 757468. Liput jaetaan ennen esitystä klo 12.30-12.45 teatterin aulassa.
URL:https://aivovammayhdistykset.fi/tapahtuma/viihdekonsertti-laheisille-lets-vits-again/
LOCATION:Lahden kaupunginteatteri\, Kirkkokatu 14\, Lahti\, 15140
CATEGORIES:Päijät-Hämeen aivovammayhdistys ry
END:VEVENT
BEGIN:VEVENT
DTSTART;TZID=Europe/Helsinki:20260504T120000
DTEND;TZID=Europe/Helsinki:20260504T130000
DTSTAMP:20260421T182700
CREATED:20251231T132044Z
LAST-MODIFIED:20251231T132044Z
UID:17854-1777896000-1777899600@aivovammayhdistykset.fi
SUMMARY:Keilaus
DESCRIPTION:Tervetuloa keilaamaan Raision keilailukeskukseen maanantaisin klo 12.00–13.00. Kevätkauden kurssimaksu on 30 € (15 kertaa) ja yksittäisen käyntikerran osallistujamaksu on 4 €/kerta. Lisäksi tulee 1 € kenkävuokra\, joka maksetaan kassalle aina osallistuessa. Kauden kurssimaksu tai yksittäisen kerran osallistuminen maksetaan käteisellä (tasaraha) Terjelle tai Mobile Paylla yhdistyksen tapahtumakassaan\, numeroon 25861. Tiedustelut 044 314 4838.
URL:https://aivovammayhdistykset.fi/tapahtuma/keilaus-204/
CATEGORIES:Varsinais-Suomen aivovammayhdistys ry
END:VEVENT
BEGIN:VEVENT
DTSTART;TZID=Europe/Helsinki:20260504T170000
DTEND;TZID=Europe/Helsinki:20260504T190000
DTSTAMP:20260421T182700
CREATED:20251231T133702Z
LAST-MODIFIED:20260219T072945Z
UID:17877-1777914000-1777921200@aivovammayhdistykset.fi
SUMMARY:Hallituksen kokous
DESCRIPTION:Hallitus hoitaa yhdistyksen yhteisiä asioita ja tekee niistä päätöksiä.  \nMikäli sinulla on asiaa hallituksen jäsenille tai haluat\, että hallitus käsittelee kokouksessaan jonkin sinulle tärkeän asian\, ota yhteyttä hallituksen jäseniin joko suullisesti tai kirjallisesti ja esitä heille asiasi.
URL:https://aivovammayhdistykset.fi/tapahtuma/hallituksen-kokous-12/
LOCATION:Aivola\, Puutarhakatu 19 a\, liiketila 4\, Turku\, 20100\, Finland
CATEGORIES:Varsinais-Suomen aivovammayhdistys ry
END:VEVENT
BEGIN:VEVENT
DTSTART;TZID=Europe/Helsinki:20260505T130000
DTEND;TZID=Europe/Helsinki:20260505T150000
DTSTAMP:20260421T182700
CREATED:20260415T095416Z
LAST-MODIFIED:20260415T100235Z
UID:18274-1777986000-1777993200@aivovammayhdistykset.fi
SUMMARY:Hyvinkään toimintaryhmä 5.5.2026
DESCRIPTION:Hyvinkään toimintaryhmän tapaaminen: Käymme tutustumassa Suomen rautatiemuseoon Hyvinkäällä ja nautitaan kahvit ennen museoon tutustumista. Omakustanteinen \n5.5.2026 Suomen rautatiemuseo
URL:https://aivovammayhdistykset.fi/tapahtuma/hyvinkaan-toimintaryhma-4/
LOCATION:suomen rautatiemuseo\, Hyvinkäänkatu 9 05800 Hyvinkää\, HYVINKÄÄ\, 05800\, Finland
CATEGORIES:AVY Aivovammayhdistys ry,AVY Hyvinkään seutu
ORGANIZER;CN="sakari pihlaja":MAILTO:sakke.pihlaja@elisanet.fi
END:VEVENT
BEGIN:VEVENT
DTSTART;TZID=Europe/Helsinki:20260505T180000
DTEND;TZID=Europe/Helsinki:20260505T200000
DTSTAMP:20260421T182700
CREATED:20251231T133456Z
LAST-MODIFIED:20251231T133456Z
UID:17873-1778004000-1778011200@aivovammayhdistykset.fi
SUMMARY:Läheisten ryhmä
DESCRIPTION:Aivovammautuneen läheisten vertaistukiryhmä kokoontuu kerran kuussa vaihtamaan kuulumisiaan vertaistensa kanssa. Kokoontuminen on kuukauden ensimmäisenä tiistaina Aivolassa Toisinaan on myös muuta ohjelmaa. Ryhmään on kaikilla vapaa pääsy.\nLeila\, puh. 044 314 4838
URL:https://aivovammayhdistykset.fi/tapahtuma/laheisten-ryhma-17/
LOCATION:Aivola\, Puutarhakatu 19 a\, liiketila 4\, Turku\, 20100\, Finland
CATEGORIES:Varsinais-Suomen aivovammayhdistys ry
END:VEVENT
BEGIN:VEVENT
DTSTART;TZID=Europe/Helsinki:20260506T140000
DTEND;TZID=Europe/Helsinki:20260506T160000
DTSTAMP:20260421T182700
CREATED:20251231T133231Z
LAST-MODIFIED:20251231T133231Z
UID:17869-1778076000-1778083200@aivovammayhdistykset.fi
SUMMARY:Miesten Karjukerho
DESCRIPTION:Miesten ryhmä (Karjukerho) kokoontuu pari kertaa kuukaudessa. Miehet kokoontuvat kuukauden ensimmäisenä keskiviikkona Aivolassa juttelemassa ja kahvittelemassa samalla he yhteisesti päättävät siitä mikä on kuukauden toisen tapaamisen aihe ja missä se pidetään. Miesten ryhmään ovat kaikki tervetulleita. Miesten ryhmästä voit kysellä\nRisto\, puh. 040 506 5192.
URL:https://aivovammayhdistykset.fi/tapahtuma/miesten-karjukerho-34/
LOCATION:Aivola\, Puutarhakatu 19 a\, liiketila 4\, Turku\, 20100\, Finland
CATEGORIES:Varsinais-Suomen aivovammayhdistys ry
END:VEVENT
BEGIN:VEVENT
DTSTART;TZID=Europe/Helsinki:20260506T180000
DTEND;TZID=Europe/Helsinki:20260506T200000
DTSTAMP:20260421T182700
CREATED:20251231T132702Z
LAST-MODIFIED:20251231T160156Z
UID:17862-1778090400-1778097600@aivovammayhdistykset.fi
SUMMARY:KEVÄTJUHLA
DESCRIPTION:Ohjelmallista kevätjuhlaa vietetään hyvän tarjoilun merkeissä Aivolassa.
URL:https://aivovammayhdistykset.fi/tapahtuma/turun-jasenilta-14/
LOCATION:Aivola\, Puutarhakatu 19 a\, liiketila 4\, Turku\, 20100\, Finland
CATEGORIES:Varsinais-Suomen aivovammayhdistys ry
END:VEVENT
BEGIN:VEVENT
DTSTART;TZID=Europe/Helsinki:20260507T140000
DTEND;TZID=Europe/Helsinki:20260507T160000
DTSTAMP:20260421T182700
CREATED:20251231T133943Z
LAST-MODIFIED:20251231T134015Z
UID:17879-1778162400-1778169600@aivovammayhdistykset.fi
SUMMARY:Naisten kerho
DESCRIPTION:Vammautuneiden naisten ryhmä kokoontuu kuukauden ensimmäisenä torstaina Aivolassa. Myös naisten ryhmään ovat kaikki tervetulleita. Naisten ryhmästä voit kysellä\nRiitta\, puh. 040 770 3032.
URL:https://aivovammayhdistykset.fi/tapahtuma/naisten-kerho-15/
LOCATION:Aivola\, Puutarhakatu 19 a\, liiketila 4\, Turku\, 20100\, Finland
CATEGORIES:Varsinais-Suomen aivovammayhdistys ry
END:VEVENT
BEGIN:VEVENT
DTSTART;TZID=Europe/Helsinki:20260511T120000
DTEND;TZID=Europe/Helsinki:20260511T130000
DTSTAMP:20260421T182700
CREATED:20251231T132119Z
LAST-MODIFIED:20251231T132119Z
UID:17856-1778500800-1778504400@aivovammayhdistykset.fi
SUMMARY:Keilaus
DESCRIPTION:Tervetuloa keilaamaan Raision keilailukeskukseen maanantaisin klo 12.00–13.00. Kevätkauden kurssimaksu on 30 € (15 kertaa) ja yksittäisen käyntikerran osallistujamaksu on 4 €/kerta. Lisäksi tulee 1 € kenkävuokra\, joka maksetaan kassalle aina osallistuessa. Kauden kurssimaksu tai yksittäisen kerran osallistuminen maksetaan käteisellä (tasaraha) Terjelle tai Mobile Paylla yhdistyksen tapahtumakassaan\, numeroon 25861. Tiedustelut 044 314 4838.
URL:https://aivovammayhdistykset.fi/tapahtuma/keilaus-205/
CATEGORIES:Varsinais-Suomen aivovammayhdistys ry
END:VEVENT
BEGIN:VEVENT
DTSTART;TZID=Europe/Helsinki:20260512T150000
DTEND;TZID=Europe/Helsinki:20260512T160000
DTSTAMP:20260421T182700
CREATED:20251201T145023Z
LAST-MODIFIED:20251201T145023Z
UID:17637-1778598000-1778601600@aivovammayhdistykset.fi
SUMMARY:Keilaus
DESCRIPTION:Yhdistys on varannut jäsentemme käyttöön kaksi keilarataa tiistaisin 12.5\, klo 15-16\, Oulun Keilahallilta\, os. Isokatu 97. Keilaus on jäsenille maksuton ja tila on esteetön. Kenkävuokra 2 € on omakustanteinen.
URL:https://aivovammayhdistykset.fi/tapahtuma/keilaus-189/
CATEGORIES:Oulun Seudun Aivovammayhdistys ry
END:VEVENT
END:VCALENDAR