BEGIN:VCALENDAR
VERSION:2.0
PRODID:-//Aivovammayhdistykset - ECPv6.15.18//NONSGML v1.0//EN
CALSCALE:GREGORIAN
METHOD:PUBLISH
X-ORIGINAL-URL:https://aivovammayhdistykset.fi
X-WR-CALDESC:Tapahtumat Aivovammayhdistykset
REFRESH-INTERVAL;VALUE=DURATION:PT1H
X-Robots-Tag:noindex
X-PUBLISHED-TTL:PT1H
BEGIN:VTIMEZONE
TZID:Europe/Helsinki
BEGIN:DAYLIGHT
TZOFFSETFROM:+0200
TZOFFSETTO:+0300
TZNAME:EEST
DTSTART:20250330T010000
END:DAYLIGHT
BEGIN:STANDARD
TZOFFSETFROM:+0300
TZOFFSETTO:+0200
TZNAME:EET
DTSTART:20251026T010000
END:STANDARD
BEGIN:DAYLIGHT
TZOFFSETFROM:+0200
TZOFFSETTO:+0300
TZNAME:EEST
DTSTART:20260329T010000
END:DAYLIGHT
BEGIN:STANDARD
TZOFFSETFROM:+0300
TZOFFSETTO:+0200
TZNAME:EET
DTSTART:20261025T010000
END:STANDARD
BEGIN:DAYLIGHT
TZOFFSETFROM:+0200
TZOFFSETTO:+0300
TZNAME:EEST
DTSTART:20270328T010000
END:DAYLIGHT
BEGIN:STANDARD
TZOFFSETFROM:+0300
TZOFFSETTO:+0200
TZNAME:EET
DTSTART:20271031T010000
END:STANDARD
END:VTIMEZONE
BEGIN:VEVENT
DTSTART;TZID=Europe/Helsinki:20260219T170000
DTEND;TZID=Europe/Helsinki:20260219T190000
DTSTAMP:20260421T213803
CREATED:20260114T123206Z
LAST-MODIFIED:20260205T104151Z
UID:17973-1771520400-1771527600@aivovammayhdistykset.fi
SUMMARY:Tikkurilan helmikuun jäsenilta/Hakopolku 2
DESCRIPTION:Tikkurilan jäsenilta/Suuhygienistin esitelmä. \nPaikkana tällä kertaa Koivukylän asukastila. Monitoimitila käytössämme. \nTarjolla kahvit. Ilmoitathan tulostasi\, niin osataan varata riittävästi kahveja. \nHuom! Osoite on Hakopolku 2\, 01360 VANTAA \nhttps://www.vantaa.fi/fi/palveluhakemisto/toimipiste/koivukylan-asukastila
URL:https://aivovammayhdistykset.fi/tapahtuma/tikkurilan-helmikuun-jasenilta-suuhygienistin-esitelma-huom-paikka-ei-viela-tiedossa/
CATEGORIES:AVY Aivovammayhdistys ry,Uudenmaan Aivovammayhdistys ry
END:VEVENT
BEGIN:VEVENT
DTSTART;TZID=Europe/Helsinki:20260223T120000
DTEND;TZID=Europe/Helsinki:20260223T130000
DTSTAMP:20260421T213803
CREATED:20251231T120119Z
LAST-MODIFIED:20251231T120119Z
UID:17773-1771848000-1771851600@aivovammayhdistykset.fi
SUMMARY:Keilaus
DESCRIPTION:Tervetuloa keilaamaan Raision keilailukeskukseen maanantaisin klo 12.00–13.00. Kevätkauden kurssimaksu on 30 € (15 kertaa) ja yksittäisen käyntikerran osallistujamaksu on 4 €/kerta. Lisäksi tulee 1 € kenkävuokra\, joka maksetaan kassalle aina osallistuessa. Kauden kurssimaksu tai yksittäisen kerran osallistuminen maksetaan käteisellä (tasaraha) Terjelle tai Mobile Paylla yhdistyksen tapahtumakassaan\, numeroon 25861. Tiedustelut 044 314 4838.
URL:https://aivovammayhdistykset.fi/tapahtuma/keilaus-195/
CATEGORIES:Varsinais-Suomen aivovammayhdistys ry
END:VEVENT
BEGIN:VEVENT
DTSTART;TZID=Europe/Helsinki:20260223T180000
DTEND;TZID=Europe/Helsinki:20260223T190000
DTSTAMP:20260421T213803
CREATED:20260115T073210Z
LAST-MODIFIED:20260115T073210Z
UID:17982-1771869600-1771873200@aivovammayhdistykset.fi
SUMMARY:Sählyryhmä - Helsinki
DESCRIPTION:Kuntoutuskeskus Synapsia | Validia\, Nordenskiöldinkatu 18 B\, 00250 Helsinki. \nKausimaksu 70€ jäsenille. Tiedustelut yhdistyksen sähköpostiin: uudenmaan.aivovammayhdistys(at)gmail.com. \nJäsenmaksu sekä kausimaksu tulee olla maksettuna ennen osallistumista. \n\nRyhmä on suunnattu pääasiallisesti hyvin liikkuville. Ensimmäisillä kerroilla tehdään arviointi molemmin puolin\, riittääkö kunto/vamman tilanne siihen\, että pystyy turvallisesti pelaamaan. Koekerrasta ei tarvitse maksaa mikäli ei jatka!
URL:https://aivovammayhdistykset.fi/tapahtuma/sahlyryhma-helsinki-2/
CATEGORIES:AVY Aivovammayhdistys ry,Uudenmaan Aivovammayhdistys ry
END:VEVENT
BEGIN:VEVENT
DTSTART;TZID=Europe/Helsinki:20260224T150000
DTEND;TZID=Europe/Helsinki:20260224T160000
DTSTAMP:20260421T213803
CREATED:20251201T144632Z
LAST-MODIFIED:20251201T144632Z
UID:17627-1771945200-1771948800@aivovammayhdistykset.fi
SUMMARY:Keilaus
DESCRIPTION:Yhdistys on varannut jäsentemme käyttöön kaksi keilarataa tiistaisin 24.2\, klo 15-16\, Oulun Keilahallilta\, os. Isokatu 97. Keilaus on jäsenille maksuton ja tila on esteetön. Kenkävuokra 2 € on omakustanteinen.
URL:https://aivovammayhdistykset.fi/tapahtuma/keilaus-184/
CATEGORIES:Oulun Seudun Aivovammayhdistys ry
END:VEVENT
BEGIN:VEVENT
DTSTART;TZID=Europe/Helsinki:20260225T143000
DTEND;TZID=Europe/Helsinki:20260225T163000
DTSTAMP:20260421T213803
CREATED:20251202T102025Z
LAST-MODIFIED:20251202T102025Z
UID:17655-1772029800-1772037000@aivovammayhdistykset.fi
SUMMARY:Vertaistapaaminen
DESCRIPTION:Vertaistapaaminen keskiviikkona 25.2. klo 14.30- 16.30. Kahvila\nIso-Ilmari (Huovisen leipomon myymälä) os. Ilmarinkatu 16\, Oulu.\nVertaistapaamiseen ovat myös läheiset tervetulleita.\nTavataan yhdessäolon ja kahvittelun merkeissä.\nYhdistys tarjoaa pullakahvit.
URL:https://aivovammayhdistykset.fi/tapahtuma/vertaistapaaminen-13/
CATEGORIES:Oulun Seudun Aivovammayhdistys ry
END:VEVENT
BEGIN:VEVENT
DTSTART;TZID=Europe/Helsinki:20260225T150000
DTEND;TZID=Europe/Helsinki:20260225T170000
DTSTAMP:20260421T213803
CREATED:20260115T073823Z
LAST-MODIFIED:20260115T075900Z
UID:17988-1772031600-1772038800@aivovammayhdistykset.fi
SUMMARY:Helsingin seudun avoin vertaistukiryhmä – Aivoklubi
DESCRIPTION:Helsingin seudun avoin vertaistukiryhmä – Aivoklubi\nVetäjät: Esa Hyttinen\, Hannele Manner. Tiedustelut: uudenmaan.aivovammayhdistys@gmail.com \nTapaamiset ovat joka parittoman viikon ke klo 15–17 Kampin palvelukeskuksessa\, Famu-tila. Kahvitarjoilu omakustanteisesti\, (tapahtuman kulu on siis sen verran kuin käytät kahviin ja pullaan). \nLämpimästi tervetuloa.
URL:https://aivovammayhdistykset.fi/tapahtuma/helsingin-seudun-avoin-vertaistukiryhma-aivoklubi-4/
CATEGORIES:AVY Aivovammayhdistys ry,Uudenmaan Aivovammayhdistys ry
END:VEVENT
BEGIN:VEVENT
DTSTART;TZID=Europe/Helsinki:20260225T160000
DTEND;TZID=Europe/Helsinki:20260225T180000
DTSTAMP:20260421T213803
CREATED:20251231T130829Z
LAST-MODIFIED:20251231T130829Z
UID:17839-1772035200-1772042400@aivovammayhdistykset.fi
SUMMARY:Museoretki Malvaan
DESCRIPTION:Keskiviikkona 25.2. klo 16 vierailemme Malvassa\, Päijänteenkatu 9\, Lahti. Näyttelyinä ovat pysyvä Juuret – Aarteita kokoelmista\, teknologian kosketusta pohtiva Outo vetovoima ja Pasi Rauhala: Type 3 – Uuden maailman raunioilla\, joka ammentaa videopelien maailmoista ja vie kävijät mielikuvitusmatkalle tulevaisuuden yhteiskuntaan. \nYhdistys tarjoaa vierailun. Mikäli sinulla on Museokortti\, ota se mukaan. Kokoonnutaan aulassa vähän ennen neljää.
URL:https://aivovammayhdistykset.fi/tapahtuma/museoretki-malvaan/
LOCATION:Lahden visuaalisten taiteiden museo\, Päijänteenkatu 9\, Lahti
CATEGORIES:Lahti,Päijät-Häme,Päijät-Hämeen aivovammayhdistys ry
END:VEVENT
BEGIN:VEVENT
DTSTART;TZID=Europe/Helsinki:20260225T180000
DTEND;TZID=Europe/Helsinki:20260225T200000
DTSTAMP:20260421T213803
CREATED:20251231T123102Z
LAST-MODIFIED:20251231T123102Z
UID:17802-1772042400-1772049600@aivovammayhdistykset.fi
SUMMARY:Turun jäsenilta
DESCRIPTION:Vierailijana Ina Vihilehti / TULE-keskus aiheena uni ja lepo.
URL:https://aivovammayhdistykset.fi/tapahtuma/turun-jasenilta-10/
LOCATION:Aivola\, Puutarhakatu 19 a\, liiketila 4\, Turku\, 20100\, Finland
CATEGORIES:Varsinais-Suomen aivovammayhdistys ry
END:VEVENT
BEGIN:VEVENT
DTSTART;TZID=Europe/Helsinki:20260302T120000
DTEND;TZID=Europe/Helsinki:20260302T130000
DTSTAMP:20260421T213803
CREATED:20251231T123318Z
LAST-MODIFIED:20251231T123318Z
UID:17807-1772452800-1772456400@aivovammayhdistykset.fi
SUMMARY:Keilaus
DESCRIPTION:Tervetuloa keilaamaan Raision keilailukeskukseen maanantaisin klo 12.00–13.00. Kevätkauden kurssimaksu on 30 € (15 kertaa) ja yksittäisen käyntikerran osallistujamaksu on 4 €/kerta. Lisäksi tulee 1 € kenkävuokra\, joka maksetaan kassalle aina osallistuessa. Kauden kurssimaksu tai yksittäisen kerran osallistuminen maksetaan käteisellä (tasaraha) Terjelle tai Mobile Paylla yhdistyksen tapahtumakassaan\, numeroon 25861. Tiedustelut 044 314 4838.
URL:https://aivovammayhdistykset.fi/tapahtuma/keilaus-196/
CATEGORIES:Varsinais-Suomen aivovammayhdistys ry
END:VEVENT
BEGIN:VEVENT
DTSTART;TZID=Europe/Helsinki:20260302T170000
DTEND;TZID=Europe/Helsinki:20260302T190000
DTSTAMP:20260421T213803
CREATED:20251231T124403Z
LAST-MODIFIED:20260219T071329Z
UID:17827-1772470800-1772478000@aivovammayhdistykset.fi
SUMMARY:Hallituksen kokous
DESCRIPTION:Hallitus hoitaa yhdistyksen yhteisiä asioita ja tekee niistä päätöksiä.  \nMikäli sinulla on asiaa hallituksen jäsenille tai haluat\, että hallitus käsittelee kokouksessaan jonkin sinulle tärkeän asian\, ota yhteyttä hallituksen jäseniin joko suullisesti tai kirjallisesti ja esitä heille asiasi.
URL:https://aivovammayhdistykset.fi/tapahtuma/hallituksen-kokous-10/
LOCATION:Aivola\, Puutarhakatu 19 a\, liiketila 4\, Turku\, 20100\, Finland
CATEGORIES:Varsinais-Suomen aivovammayhdistys ry
END:VEVENT
BEGIN:VEVENT
DTSTART;TZID=Europe/Helsinki:20260303T140000
DTEND;TZID=Europe/Helsinki:20260303T150000
DTSTAMP:20260421T213803
CREATED:20260114T121607Z
LAST-MODIFIED:20260114T121607Z
UID:17967-1772546400-1772550000@aivovammayhdistykset.fi
SUMMARY:Hyvinkään toimintaryhmä maaliskuu Keilausta
DESCRIPTION:Tapaaminen tiistaina 3.3.26 Terhinpuusti https://terhinpuusti.fi/ 14.00-15.00  ja sen jälkeen Hyvinkään keilahalli https://www.hyvinkaankeilahalli.fi/   keilaus 15.00-16.00 \n\n\n\n\n\nTerhin puusti\nKauppalankatu 7-11\n05800 Hyvinkää\nHyvinkään keilahalli\nKauppalankatu 7-11\n05800 Hyvinkää\n\nLisätiedot vetäjältä: sakke.pihlaja@elisanet.fi.
URL:https://aivovammayhdistykset.fi/tapahtuma/hyvinkaan-toimintaryhma-maaliskuu-keilausta/
CATEGORIES:AVY Aivovammayhdistys ry,Uudenmaan Aivovammayhdistys ry
END:VEVENT
BEGIN:VEVENT
DTSTART;TZID=Europe/Helsinki:20260303T180000
DTEND;TZID=Europe/Helsinki:20260303T200000
DTSTAMP:20260421T213803
CREATED:20251231T124558Z
LAST-MODIFIED:20251231T124558Z
UID:17830-1772560800-1772568000@aivovammayhdistykset.fi
SUMMARY:Läheisten ryhmä
DESCRIPTION:Aivovammautuneen läheisten vertaistukiryhmä kokoontuu kerran kuussa vaihtamaan kuulumisiaan vertaistensa kanssa. Kokoontuminen on kuukauden ensimmäisenä tiistaina Aivolassa Toisinaan on myös muuta ohjelmaa. Ryhmään on kaikilla vapaa pääsy.\nLeila\, puh. 044 314 4838
URL:https://aivovammayhdistykset.fi/tapahtuma/laheisten-ryhma-15/
LOCATION:Aivola\, Puutarhakatu 19 a\, liiketila 4\, Turku\, 20100\, Finland
CATEGORIES:Varsinais-Suomen aivovammayhdistys ry
END:VEVENT
BEGIN:VEVENT
DTSTART;TZID=Europe/Helsinki:20260304T140000
DTEND;TZID=Europe/Helsinki:20260304T160000
DTSTAMP:20260421T213803
CREATED:20251231T124814Z
LAST-MODIFIED:20251231T124814Z
UID:17832-1772632800-1772640000@aivovammayhdistykset.fi
SUMMARY:Miesten Karjukerho
DESCRIPTION:Miesten ryhmä (Karjukerho) kokoontuu pari kertaa kuukaudessa. Miehet kokoontuvat kuukauden ensimmäisenä keskiviikkona Aivolassa juttelemassa ja kahvittelemassa samalla he yhteisesti päättävät siitä mikä on kuukauden toisen tapaamisen aihe ja missä se pidetään. Miesten ryhmään ovat kaikki tervetulleita. Miesten ryhmästä voit kysellä\nRisto\, puh. 040 506 5192.
URL:https://aivovammayhdistykset.fi/tapahtuma/miesten-karjukerho-32/
LOCATION:Aivola\, Puutarhakatu 19 a\, liiketila 4\, Turku\, 20100\, Finland
CATEGORIES:Varsinais-Suomen aivovammayhdistys ry
END:VEVENT
BEGIN:VEVENT
DTSTART;TZID=Europe/Helsinki:20260305T140000
DTEND;TZID=Europe/Helsinki:20260305T160000
DTSTAMP:20260421T213803
CREATED:20251231T125122Z
LAST-MODIFIED:20251231T125122Z
UID:17834-1772719200-1772726400@aivovammayhdistykset.fi
SUMMARY:Naisten kerho
DESCRIPTION:Vammautuneiden naisten ryhmä kokoontuu kuukauden ensimmäisenä torstaina Aivolassa. Myös naisten ryhmään ovat kaikki tervetulleita. Naisten ryhmästä voit kysellä\nRiitta\, puh. 040 770 3032.
URL:https://aivovammayhdistykset.fi/tapahtuma/naisten-kerho-14/
LOCATION:Aivola\, Puutarhakatu 19 a\, liiketila 4\, Turku\, 20100\, Finland
CATEGORIES:Varsinais-Suomen aivovammayhdistys ry
END:VEVENT
BEGIN:VEVENT
DTSTART;TZID=Europe/Helsinki:20260305T160000
DTEND;TZID=Europe/Helsinki:20260305T180000
DTSTAMP:20260421T213803
CREATED:20251231T125232Z
LAST-MODIFIED:20260120T053434Z
UID:17836-1772726400-1772733600@aivovammayhdistykset.fi
SUMMARY:Taidekerho
DESCRIPTION:Taidekerhossa tehdään ja harjoitellaan monia taiteeseen liittyviä töitä\, maalausta\, askartelua\, musiikkia jne. Kerho kokoontuu Aivolassa. Tiedustelut Marjo p. 040 530 5803.
URL:https://aivovammayhdistykset.fi/tapahtuma/taidekerho-10/
LOCATION:Aivola\, Puutarhakatu 19 a\, liiketila 4\, Turku\, 20100\, Finland
CATEGORIES:Varsinais-Suomen aivovammayhdistys ry
END:VEVENT
BEGIN:VEVENT
DTSTART;TZID=Europe/Helsinki:20260307T130000
DTEND;TZID=Europe/Helsinki:20260307T150000
DTSTAMP:20260421T213803
CREATED:20251202T101813Z
LAST-MODIFIED:20251202T101813Z
UID:17651-1772888400-1772895600@aivovammayhdistykset.fi
SUMMARY:Kevätkokous
DESCRIPTION:KUTSU SÄÄNTÖMÄÄRÄISEEN KEVÄTKOKOUKSEEN \n\nAika: lauantaina 7.3.2026 klo 13.00-15.00.\nPaikka: Kumppanuuskeskus\, kokoustila Asema 2. kerros\,\nos. Kansankatu 53\, Oulu (sisäänkäynti Vanhantullinkadun puolelta).\n\n\nKokouksessa käsitellään:\n– Esitellään vuoden 2025 tilinpäätös\, vuosikertomus ja toiminnantarkastajan lausunto\n– Päätetään tilinpäätöksen vahvistamisesta ja vastuuvapauden myöntämisestä hallitukselle\n– Valitaan kokousedustajat Aivovammaliitto ry:n liittokokouksiin vuodelle 2026\n– Mahdolliset muut asiat\n* Kahvitarjoilu*\nTervetuloa!
URL:https://aivovammayhdistykset.fi/tapahtuma/kevatkokous-6/
CATEGORIES:Oulun Seudun Aivovammayhdistys ry
END:VEVENT
BEGIN:VEVENT
DTSTART;TZID=Europe/Helsinki:20260309T120000
DTEND;TZID=Europe/Helsinki:20260309T130000
DTSTAMP:20260421T213803
CREATED:20251231T123436Z
LAST-MODIFIED:20251231T123436Z
UID:17809-1773057600-1773061200@aivovammayhdistykset.fi
SUMMARY:Keilaus
DESCRIPTION:Tervetuloa keilaamaan Raision keilailukeskukseen maanantaisin klo 12.00–13.00. Kevätkauden kurssimaksu on 30 € (15 kertaa) ja yksittäisen käyntikerran osallistujamaksu on 4 €/kerta. Lisäksi tulee 1 € kenkävuokra\, joka maksetaan kassalle aina osallistuessa. Kauden kurssimaksu tai yksittäisen kerran osallistuminen maksetaan käteisellä (tasaraha) Terjelle tai Mobile Paylla yhdistyksen tapahtumakassaan\, numeroon 25861. Tiedustelut 044 314 4838.
URL:https://aivovammayhdistykset.fi/tapahtuma/keilaus-197/
CATEGORIES:Varsinais-Suomen aivovammayhdistys ry
END:VEVENT
BEGIN:VEVENT
DTSTART;TZID=Europe/Helsinki:20260309T120000
DTEND;TZID=Europe/Helsinki:20260309T150000
DTSTAMP:20260421T213803
CREATED:20260228T085910Z
LAST-MODIFIED:20260228T090101Z
UID:18144-1773057600-1773068400@aivovammayhdistykset.fi
SUMMARY:Aivoverenkiertohäiriöiden ehkäisy sekä HIFU essentiellin vapinan ja Parkinsonin taudin hoidossa
DESCRIPTION:Aivoviikon luento Tyksissä. \nAivoverenkiertohäiriöiden ehkäisy sekä HIFU essentiellin vapinan ja Parkinsonin taudin hoidossa\n12:00-12:05 Puheenjohtajan avaus\, erikoislääkäri Susanna Roine\n12:05-12:45 Aivoverenkiertohäiriöiden ehkäisy\, erikoislääkäri Susanna Roine\n12:45-13:20 Aivoverenkiertohäiriön (AVH) sairastaneen omahoidon ohjauksen sisällöt\, KHA Riitta Danielsson-Ojala\n13:20-13:35 Kahvitauko\, omakustanteinen\n13:35-14:15 Hifu-hoito\, erikoislääkäri Jaakko Luoma\n14:15-14:50 Neuromodulaatiohoitajan osuus Hifu-hoidossa\, sairaanhoitaja\n14:50-15:00 Yhteenveto päivästä\, KHA Riitta Danielsson-Ojala
URL:https://aivovammayhdistykset.fi/tapahtuma/aivoverenkiertohairioiden-ehkaisy-seka-hifu-essentiellin-vapinan-ja-parkinsonin-taudin-hoidossa/
LOCATION:T-Sairaala\, Lahesmaa-sali
CATEGORIES:Varsinais-Suomen aivovammayhdistys ry
END:VEVENT
BEGIN:VEVENT
DTSTART;TZID=Europe/Helsinki:20260310T080000
DTEND;TZID=Europe/Helsinki:20260321T170000
DTSTAMP:20260421T213803
CREATED:20260310T104022Z
LAST-MODIFIED:20260310T104027Z
UID:18171-1773129600-1774112400@aivovammayhdistykset.fi
SUMMARY:Aivoviikko
DESCRIPTION:Jyväskylän yliopisto järjestää aivoviikon tapahtuman tiistaina 17.3 klo16-18 \nOppivat ja muotoutuvat aivot. professori Mirja Nokia profesori Harri Piitulainen \nyliopistolehtori Piia Asikainen  Kokemusasiantuntia \nPaikka Yliopiston kirjasto Lähde rakennus B Seminaarinkau 15
URL:https://aivovammayhdistykset.fi/tapahtuma/aivoviikko/
CATEGORIES:Keski-Suomen aivovammayhdistys ry
END:VEVENT
BEGIN:VEVENT
DTSTART;TZID=Europe/Helsinki:20260310T120000
DTEND;TZID=Europe/Helsinki:20260310T150000
DTSTAMP:20260421T213803
CREATED:20260228T090357Z
LAST-MODIFIED:20260228T090357Z
UID:18148-1773144000-1773154800@aivovammayhdistykset.fi
SUMMARY:Tietoa pitkäaikaisten kipujen hoidosta ja tutkimuksesta Neurokeskuksen Kipupoliklinikalla
DESCRIPTION:Aivoviikon luento Tyksissä. \nTietoa pitkäaikaisten kipujen hoidosta ja tutkimuksesta Neurokeskuksen Kipupoliklinikalla\n12:00-12:05 Puheenjohtajan avaus\, erikoislääkäri Sini Laaksonen\n12:05-12:45 Kipupoliklinikan tehtävä\, erikoislääkäri Sini Laaksonen\n12:45-13:20 Hoitopolku Kipupoliklinikalla\, erikoislääkäri Sini Laaksonen\n13:20-13:35 Kahvitauko\, omakustanteinen\n13:35-14:15 Lääkkeelliset ja lääkkeettömät kivunhoidon menetelmät hoitotyön näkökulmasta\, sairaanhoitaja Päivi Alho\n14:15-14:50 Kivun psykologinen hoito\, Vera Leo\, PsT \, neuropsykologian erikoispsykologi\n14:50-15:00 Yhteenveto päivästä\, erikoislääkäri Sini Laaksonen
URL:https://aivovammayhdistykset.fi/tapahtuma/tietoa-pitkaaikaisten-kipujen-hoidosta-ja-tutkimuksesta-neurokeskuksen-kipupoliklinikalla/
LOCATION:T-Sairaala\, Lahesmaa-sali
CATEGORIES:Varsinais-Suomen aivovammayhdistys ry
END:VEVENT
BEGIN:VEVENT
DTSTART;TZID=Europe/Helsinki:20260310T150000
DTEND;TZID=Europe/Helsinki:20260310T160000
DTSTAMP:20260421T213803
CREATED:20251201T144728Z
LAST-MODIFIED:20251201T144728Z
UID:17629-1773154800-1773158400@aivovammayhdistykset.fi
SUMMARY:Keilaus
DESCRIPTION:Yhdistys on varannut jäsentemme käyttöön kaksi keilarataa tiistaisin 10.3\, klo 15-16\, Oulun Keilahallilta\, os. Isokatu 97. Keilaus on jäsenille maksuton ja tila on esteetön. Kenkävuokra 2 € on omakustanteinen.
URL:https://aivovammayhdistykset.fi/tapahtuma/keilaus-185/
CATEGORIES:Oulun Seudun Aivovammayhdistys ry
END:VEVENT
BEGIN:VEVENT
DTSTART;TZID=Europe/Helsinki:20260310T173000
DTEND;TZID=Europe/Helsinki:20260310T193000
DTSTAMP:20260421T213803
CREATED:20251231T125517Z
LAST-MODIFIED:20251231T125646Z
UID:16901-1773163800-1773171000@aivovammayhdistykset.fi
SUMMARY:Salon toimintaryhmän tapaaminen
DESCRIPTION:Salon seudun toimintaryhmä kokoontuu SYTY:n tiloissa os. Helsingintie 6\, Salo. Ryhmän vetäjinä toimivat Terhi Hellberg ja Raisa Salonen. Heidät tavoittaa numerosta 050 555 0545.
URL:https://aivovammayhdistykset.fi/tapahtuma/salon-ryhman-jasenilta-5/
LOCATION:Aivola\, Puutarhakatu 19 a\, liiketila 4\, Turku\, 20100\, Finland
CATEGORIES:Varsinais-Suomen aivovammayhdistys ry
END:VEVENT
BEGIN:VEVENT
DTSTART;TZID=Europe/Helsinki:20260311T120000
DTEND;TZID=Europe/Helsinki:20260311T130000
DTSTAMP:20260421T213803
CREATED:20260228T090846Z
LAST-MODIFIED:20260228T090846Z
UID:18150-1773230400-1773234000@aivovammayhdistykset.fi
SUMMARY:Potilaan itsemääräämisoikeuden rajoittamisesta sekä  magneettivyökoulutukset
DESCRIPTION:Aivoviikon luento Tyksissä. \n12:00-13:00 Potilaan itsemääräämisoikeuden rajoittamisesta sekä magneettivyökoulutukset\, osastonhoitaja Miia Sepponen
URL:https://aivovammayhdistykset.fi/tapahtuma/potilaan-itsemaaraamisoikeuden-rajoittamisesta-seka-magneettivyokoulutukset/
LOCATION:Tyks\, SH-auditorio\, rakennus nro 11
CATEGORIES:Varsinais-Suomen aivovammayhdistys ry
END:VEVENT
BEGIN:VEVENT
DTSTART;TZID=Europe/Helsinki:20260311T180000
DTEND;TZID=Europe/Helsinki:20260311T200000
DTSTAMP:20260421T213803
CREATED:20251231T123821Z
LAST-MODIFIED:20251231T123821Z
UID:17821-1773252000-1773259200@aivovammayhdistykset.fi
SUMMARY:Turun jäsenilta
DESCRIPTION:Petri Visa kertoo kokemuksistaan kierrettyään kaikki Suomen lentokentät helikopterilla.
URL:https://aivovammayhdistykset.fi/tapahtuma/turun-jasenilta-11/
LOCATION:Aivola\, Puutarhakatu 19 a\, liiketila 4\, Turku\, 20100\, Finland
CATEGORIES:Varsinais-Suomen aivovammayhdistys ry
END:VEVENT
BEGIN:VEVENT
DTSTART;TZID=Europe/Helsinki:20260313T130000
DTEND;TZID=Europe/Helsinki:20260313T150000
DTSTAMP:20260421T213803
CREATED:20260219T153350Z
LAST-MODIFIED:20260219T153354Z
UID:18099-1773406800-1773414000@aivovammayhdistykset.fi
SUMMARY:AIVOVIIKON MUSIIKKITAPAHTUMA
DESCRIPTION:Perjantaina 13.3. klo 13.00-15.00 Oulunsuun Pirtillä os. Pirtintie 8.  Musiikkia\, tanssia\, laulua. Karaokeisäntä Ari Hyvälä. Oviarpa 5€ sisältää pullakahvit. Tapahtuman järjestää Oulun Seudun Muistiyhdistys ry ja Oulun Seudun Aivovammayhdistys ry. Tervetuloa!
URL:https://aivovammayhdistykset.fi/tapahtuma/aivoviikon-musiikkitapahtuma/
CATEGORIES:Oulun Seudun Aivovammayhdistys ry
END:VEVENT
BEGIN:VEVENT
DTSTART;TZID=Europe/Helsinki:20260316T120000
DTEND;TZID=Europe/Helsinki:20260316T130000
DTSTAMP:20260421T213803
CREATED:20251231T123512Z
LAST-MODIFIED:20251231T123512Z
UID:17812-1773662400-1773666000@aivovammayhdistykset.fi
SUMMARY:Keilaus
DESCRIPTION:Tervetuloa keilaamaan Raision keilailukeskukseen maanantaisin klo 12.00–13.00. Kevätkauden kurssimaksu on 30 € (15 kertaa) ja yksittäisen käyntikerran osallistujamaksu on 4 €/kerta. Lisäksi tulee 1 € kenkävuokra\, joka maksetaan kassalle aina osallistuessa. Kauden kurssimaksu tai yksittäisen kerran osallistuminen maksetaan käteisellä (tasaraha) Terjelle tai Mobile Paylla yhdistyksen tapahtumakassaan\, numeroon 25861. Tiedustelut 044 314 4838.
URL:https://aivovammayhdistykset.fi/tapahtuma/keilaus-198/
CATEGORIES:Varsinais-Suomen aivovammayhdistys ry
END:VEVENT
BEGIN:VEVENT
DTSTART;TZID=Europe/Helsinki:20260317T200000
DTEND;TZID=Europe/Helsinki:20260318T190000
DTSTAMP:20260421T213803
CREATED:20251231T130121Z
LAST-MODIFIED:20260219T071510Z
UID:17842-1773777600-1773860400@aivovammayhdistykset.fi
SUMMARY:RISTEILY Viking Line Grace\, Turun satamasta
DESCRIPTION:Ti 17.3. – ke 18.3. Viking Line Grace\, lähtö Turun satama klo 20.55\, hyttikorttien jako alkaa klo 19.45. Hinta määräytyy halutun hyttiluokan mukaan ja jäsenalennus loppusummasta on 20 €\, vuoden 2025 jäsenmaksun maksaneille yhdistyksemme jäsenille. Henkilötodistus tai passi tarvitaan mukaan. \nIlmoittautumiset viimeistään 7.2.2026 osoitteeseen info\,vsavy(at)gmail.com\, tiedustelut yhdistyksen nrosta 044 314 4838. Ilmoita lähtijän nimi ja syntymäaika\, hyttikaveri\, ikkuna- vai sisähytti\, ruokailun kanssa vai ilman ja invahytin tarve. Ilmoittaja saa laskun\, joka maksetaan yhdistyksen tilille viimeistään 14.2.2026\, maksamalla varmistat varauksesi.  \nHinnat sisältäen henkilölipun\, hyttipaikan\, Buffet-päivällisen\, kahvi- ja pullakupongin sekä polttoaineveron\n•	58 euroa/henkilö kahden hengen sisähytissä\n•	64 euroa/henkilö kahden hengen ikkunahytissä \nHinnat ilman ruokailuja\, sisältäen henkilölipun\, hyttipaikan\, kahvi- ja pullakupongin sekä polttoaineveron\n•	23 euroa/henkilö kahden hengen sisähytti\n•	29 euroa/henkilö kahden hengen ikkunahytti \nInva hyttejä rajoitetusti. \nOhjelmasta laivalla:\n•	Esiintyjät Keiski & PNP\n•	Kokoustila varattu 12.00–13.00\n•	VIP shopping kello 14.15–15.00\n•	Buffet ruokailu kello 15.00 alkaen
URL:https://aivovammayhdistykset.fi/tapahtuma/risteily-viking-line-grace-turun-satamasta-ilm-viimeistaan-la-7-2/
CATEGORIES:Varsinais-Suomen aivovammayhdistys ry
END:VEVENT
BEGIN:VEVENT
DTSTART;TZID=Europe/Helsinki:20260318T153000
DTEND;TZID=Europe/Helsinki:20260318T170000
DTSTAMP:20260421T213803
CREATED:20251201T171509Z
LAST-MODIFIED:20251201T171509Z
UID:17645-1773847800-1773853200@aivovammayhdistykset.fi
SUMMARY:Nuoret Aikuiset
DESCRIPTION:Tule mukaan nuorten rentoon vertaistapaamiseen keskiviikkona 18.3. klo 15.30.- 17. Kahvila Iso-Ilmari (Huovisen leipomon myymälä) os. Ilmarinkatu 16\, Oulu. Tapaaminen on tarkoitettu nuorille ja nuorille aikuisille. Yhdistys tarjoaa pullakahvit.\nLisätietoja: Eila Sääskö. p. 040 765 6989\, eila.saasko@gmail.com
URL:https://aivovammayhdistykset.fi/tapahtuma/nuoret-aikuiset-26/
CATEGORIES:Oulun Seudun Aivovammayhdistys ry
END:VEVENT
BEGIN:VEVENT
DTSTART;TZID=Europe/Helsinki:20260319T170000
DTEND;TZID=Europe/Helsinki:20260319T190000
DTSTAMP:20260421T213803
CREATED:20260115T080216Z
LAST-MODIFIED:20260115T080254Z
UID:17990-1773939600-1773946800@aivovammayhdistykset.fi
SUMMARY:Tikkurilan jäsenilta/HUOM! Paikka ei vielä tiedossa
DESCRIPTION:Tikkurilan jäsenilta/Tapaaminen/HUOM! Paikka ei vielä tiedossa
URL:https://aivovammayhdistykset.fi/tapahtuma/tikkurilan-helmikuun-jasenilta-suuhygienistin-esitelma-huom-paikka-ei-viela-tiedossa-2/
CATEGORIES:AVY Aivovammayhdistys ry,Uudenmaan Aivovammayhdistys ry
END:VEVENT
BEGIN:VEVENT
DTSTART;TZID=Europe/Helsinki:20260323T120000
DTEND;TZID=Europe/Helsinki:20260323T130000
DTSTAMP:20260421T213803
CREATED:20251231T123559Z
LAST-MODIFIED:20251231T123559Z
UID:17816-1774267200-1774270800@aivovammayhdistykset.fi
SUMMARY:Keilaus
DESCRIPTION:Tervetuloa keilaamaan Raision keilailukeskukseen maanantaisin klo 12.00–13.00. Kevätkauden kurssimaksu on 30 € (15 kertaa) ja yksittäisen käyntikerran osallistujamaksu on 4 €/kerta. Lisäksi tulee 1 € kenkävuokra\, joka maksetaan kassalle aina osallistuessa. Kauden kurssimaksu tai yksittäisen kerran osallistuminen maksetaan käteisellä (tasaraha) Terjelle tai Mobile Paylla yhdistyksen tapahtumakassaan\, numeroon 25861. Tiedustelut 044 314 4838.
URL:https://aivovammayhdistykset.fi/tapahtuma/keilaus-199/
CATEGORIES:Varsinais-Suomen aivovammayhdistys ry
END:VEVENT
END:VCALENDAR