BEGIN:VCALENDAR
VERSION:2.0
PRODID:-//Aivovammayhdistykset - ECPv6.15.18//NONSGML v1.0//EN
CALSCALE:GREGORIAN
METHOD:PUBLISH
X-ORIGINAL-URL:https://aivovammayhdistykset.fi
X-WR-CALDESC:Tapahtumat Aivovammayhdistykset
REFRESH-INTERVAL;VALUE=DURATION:PT1H
X-Robots-Tag:noindex
X-PUBLISHED-TTL:PT1H
BEGIN:VTIMEZONE
TZID:Europe/Helsinki
BEGIN:DAYLIGHT
TZOFFSETFROM:+0200
TZOFFSETTO:+0300
TZNAME:EEST
DTSTART:20240331T010000
END:DAYLIGHT
BEGIN:STANDARD
TZOFFSETFROM:+0300
TZOFFSETTO:+0200
TZNAME:EET
DTSTART:20241027T010000
END:STANDARD
BEGIN:DAYLIGHT
TZOFFSETFROM:+0200
TZOFFSETTO:+0300
TZNAME:EEST
DTSTART:20250330T010000
END:DAYLIGHT
BEGIN:STANDARD
TZOFFSETFROM:+0300
TZOFFSETTO:+0200
TZNAME:EET
DTSTART:20251026T010000
END:STANDARD
BEGIN:DAYLIGHT
TZOFFSETFROM:+0200
TZOFFSETTO:+0300
TZNAME:EEST
DTSTART:20260329T010000
END:DAYLIGHT
BEGIN:STANDARD
TZOFFSETFROM:+0300
TZOFFSETTO:+0200
TZNAME:EET
DTSTART:20261025T010000
END:STANDARD
BEGIN:DAYLIGHT
TZOFFSETFROM:+0200
TZOFFSETTO:+0300
TZNAME:EEST
DTSTART:20270328T010000
END:DAYLIGHT
BEGIN:STANDARD
TZOFFSETFROM:+0300
TZOFFSETTO:+0200
TZNAME:EET
DTSTART:20271031T010000
END:STANDARD
END:VTIMEZONE
BEGIN:VEVENT
DTSTART;TZID=Europe/Helsinki:20250901T180000
DTEND;TZID=Europe/Helsinki:20251208T190000
DTSTAMP:20260422T024022
CREATED:20250814T075401Z
LAST-MODIFIED:20250915T105154Z
UID:17214-1756749600-1765220400@aivovammayhdistykset.fi
SUMMARY:Maanantain Sählyryhmä
DESCRIPTION:Syyskausi 1.9.-8.12.2025 maanantaisin kello 18-19 \n70€/lukukausi. Jos käy vain kerran kokeilemassa\, niin maksu palautetaan. \nIlmoittaudu uudenmaan.aivovammayhdistys@gmail.com. \nKuntoutuskeskus Synapsia | Validia
URL:https://aivovammayhdistykset.fi/tapahtuma/maanantain-sahlyryhma/
LOCATION:Validia kuntoutus\, Nordenskiöldinkatu 18 B\, Helsinki\, 00250\, Suomi
CATEGORIES:AVY Aivovammayhdistys ry,Uudenmaan Aivovammayhdistys ry
END:VEVENT
BEGIN:VEVENT
DTSTART;TZID=Europe/Helsinki:20250915T180000
DTEND;TZID=Europe/Helsinki:20251222T190000
DTSTAMP:20260422T024022
CREATED:20250915T115026Z
LAST-MODIFIED:20250915T115026Z
UID:17369-1757959200-1766430000@aivovammayhdistykset.fi
SUMMARY:Maanantain Sählyryhmä
DESCRIPTION:Syyskausi 1.9.-8.12.2025 maanantaisin kello 18-19 \n70€/lukukausi. Jos käy vain kerran kokeilemassa\, niin maksu palautetaan. \nIlmoittaudu uudenmaan.aivovammayhdistys@gmail.com. \nKuntoutuskeskus Synapsia | Validia
URL:https://aivovammayhdistykset.fi/tapahtuma/maanantain-sahlyryhma-2/
LOCATION:Validia kuntoutus\, Nordenskiöldinkatu 18 B\, Helsinki\, 00250\, Suomi
CATEGORIES:AVY Aivovammayhdistys ry,Uudenmaan Aivovammayhdistys ry
END:VEVENT
BEGIN:VEVENT
DTSTART;TZID=Europe/Helsinki:20250922T180000
DTEND;TZID=Europe/Helsinki:20251229T190000
DTSTAMP:20260422T024022
CREATED:20250915T115206Z
LAST-MODIFIED:20250915T115206Z
UID:17371-1758564000-1767034800@aivovammayhdistykset.fi
SUMMARY:Maanantain Sählyryhmä
DESCRIPTION:Syyskausi 1.9.-8.12.2025 maanantaisin kello 18-19 \n70€/lukukausi. Jos käy vain kerran kokeilemassa\, niin maksu palautetaan. \nIlmoittaudu uudenmaan.aivovammayhdistys@gmail.com. \nKuntoutuskeskus Synapsia | Validia
URL:https://aivovammayhdistykset.fi/tapahtuma/maanantain-sahlyryhma-3/
LOCATION:Validia kuntoutus\, Nordenskiöldinkatu 18 B\, Helsinki\, 00250\, Suomi
CATEGORIES:AVY Aivovammayhdistys ry,Uudenmaan Aivovammayhdistys ry
END:VEVENT
BEGIN:VEVENT
DTSTART;TZID=Europe/Helsinki:20250929T180000
DTEND;TZID=Europe/Helsinki:20260105T190000
DTSTAMP:20260422T024022
CREATED:20250915T115238Z
LAST-MODIFIED:20250915T115238Z
UID:17373-1759168800-1767639600@aivovammayhdistykset.fi
SUMMARY:Maanantain Sählyryhmä
DESCRIPTION:Syyskausi 1.9.-8.12.2025 maanantaisin kello 18-19 \n70€/lukukausi. Jos käy vain kerran kokeilemassa\, niin maksu palautetaan. \nIlmoittaudu uudenmaan.aivovammayhdistys@gmail.com. \nKuntoutuskeskus Synapsia | Validia
URL:https://aivovammayhdistykset.fi/tapahtuma/maanantain-sahlyryhma-4/
LOCATION:Validia kuntoutus\, Nordenskiöldinkatu 18 B\, Helsinki\, 00250\, Suomi
CATEGORIES:AVY Aivovammayhdistys ry,Uudenmaan Aivovammayhdistys ry
END:VEVENT
BEGIN:VEVENT
DTSTART;TZID=Europe/Helsinki:20251117T120000
DTEND;TZID=Europe/Helsinki:20251117T130000
DTSTAMP:20260422T024022
CREATED:20250623T115340Z
LAST-MODIFIED:20251019T132505Z
UID:16990-1763380800-1763384400@aivovammayhdistykset.fi
SUMMARY:Keilaus
DESCRIPTION:Tervetuloa keilaamaan Raision keilakeskukselle maanantaisin 8.9.2025 – 15.12. 2025  klo. 12.00 – 13.00. Syyskauden kurssimaksu on 30€ (15 kertaa) ja yksittäisen käyntikerran osallistujamaksu on 4€/kerta. Lisäksi tulee 1€ kenkävuokra\, joka maksetaan kassalle aina osallistuessa. Kauden kurssimaksu tai yksittäisen kerran osallistuminen maksetaan käteisellä (tasaraha) Terjelle tai Mobile Paylla yhdistyksen tapahtumakassaan\, numeroon 25861.
URL:https://aivovammayhdistykset.fi/tapahtuma/keilaus-171/
CATEGORIES:Varsinais-Suomen aivovammayhdistys ry
END:VEVENT
BEGIN:VEVENT
DTSTART;TZID=Europe/Helsinki:20251119T153000
DTEND;TZID=Europe/Helsinki:20251119T170000
DTSTAMP:20260422T024022
CREATED:20250920T133730Z
LAST-MODIFIED:20250920T133730Z
UID:17422-1763566200-1763571600@aivovammayhdistykset.fi
SUMMARY:Nuoret aikuiset
DESCRIPTION:Keskiviikkoisin  19.11. klo 15.30-17.00 kahvila Iso-Ilmari (Huovisen leipomon myymälä) os. Ilmarinkatu 16. Tapaamiset ovat tarkoitettu nuorille ja nuorille aikuisille. Yhdistys tarjoaa pullakahvit. \nLisätietoja: Eila Sääskö p. 040 765 6989\, eila.saasko@gmail.com
URL:https://aivovammayhdistykset.fi/tapahtuma/nuoret-aikuiset-25/
CATEGORIES:Oulun Seudun Aivovammayhdistys ry
END:VEVENT
BEGIN:VEVENT
DTSTART;TZID=Europe/Helsinki:20251120T170000
DTEND;TZID=Europe/Helsinki:20251120T190000
DTSTAMP:20260422T024022
CREATED:20251014T065310Z
LAST-MODIFIED:20251014T065403Z
UID:17467-1763658000-1763665200@aivovammayhdistykset.fi
SUMMARY:Tikkurilan jäsenilta/Aspa-koti Pihlajan esittely
DESCRIPTION:Tällä kertaa vieraana on Aspa-kodin johtaja Jani Takkunen\, joka esittelee Pihlajan päivätoimintakeskusta. \n 
URL:https://aivovammayhdistykset.fi/tapahtuma/tikkurilan-jasenilta-2/
LOCATION:Tikkurilan asukastila\, Lummetie 2 b A\, VANTAA\, 01300
CATEGORIES:AVY Aivovammayhdistys ry,Uudenmaan Aivovammayhdistys ry
END:VEVENT
BEGIN:VEVENT
DTSTART;TZID=Europe/Helsinki:20251122T120000
DTEND;TZID=Europe/Helsinki:20251122T160000
DTSTAMP:20260422T024022
CREATED:20250902T080229Z
LAST-MODIFIED:20250902T080229Z
UID:17301-1763812800-1763827200@aivovammayhdistykset.fi
SUMMARY:Länsi-Uudenmaan jäsenten tapaaminen
DESCRIPTION:Tapaaminen vertaistuen merkeissä ABC-huoltoaseman neuvotteluhuoneella lauantaina 22.11.2025 klo 12- 16\n\nIlmoittautumiset ja ruoka-aineallergiat Sirkalle: sirkka.dahlman@gmail.com\nTarjolla sämpylä ja kahvi\n\n\n\n\n\nLohjan ABC\n\n\n\n\nOs. Hossanmäentie 1\n08350 Lohja
URL:https://aivovammayhdistykset.fi/tapahtuma/lansi-uudenmaan-jasenten-tapaaminen/
CATEGORIES:AVY Aivovammayhdistys ry,Uudenmaan Aivovammayhdistys ry
END:VEVENT
BEGIN:VEVENT
DTSTART;TZID=Europe/Helsinki:20251124T120000
DTEND;TZID=Europe/Helsinki:20251124T130000
DTSTAMP:20260422T024022
CREATED:20250623T115409Z
LAST-MODIFIED:20251019T132603Z
UID:16992-1763985600-1763989200@aivovammayhdistykset.fi
SUMMARY:Keilaus
DESCRIPTION:Tervetuloa keilaamaan Raision keilakeskukselle maanantaisin 8.9.2025 – 15.12. 2025  klo. 12.00 – 13.00. Syyskauden kurssimaksu on 30€ (15 kertaa) ja yksittäisen käyntikerran osallistujamaksu on 4€/kerta. Lisäksi tulee 1€ kenkävuokra\, joka maksetaan kassalle aina osallistuessa. Kauden kurssimaksu tai yksittäisen kerran osallistuminen maksetaan käteisellä (tasaraha) Terjelle tai Mobile Paylla yhdistyksen tapahtumakassaan\, numeroon 25861.
URL:https://aivovammayhdistykset.fi/tapahtuma/keilaus-172/
CATEGORIES:Varsinais-Suomen aivovammayhdistys ry
END:VEVENT
BEGIN:VEVENT
DTSTART;TZID=Europe/Helsinki:20251125T150000
DTEND;TZID=Europe/Helsinki:20251125T160000
DTSTAMP:20260422T024022
CREATED:20250626T140427Z
LAST-MODIFIED:20250626T140431Z
UID:17055-1764082800-1764086400@aivovammayhdistykset.fi
SUMMARY:Keilaus
DESCRIPTION:Yhdistys on varannut jäsentemme käyttöön kaksi keilarataa tiistaisin  25.11. klo 15-16\, Oulun Keilahallilta\, os. Isokatu 97. Keilaus on jäsenille maksuton ja tila on esteetön. Kenkävuokra 2 € on omakustanteinen.
URL:https://aivovammayhdistykset.fi/tapahtuma/keilaus-178/
CATEGORIES:Oulun Seudun Aivovammayhdistys ry
END:VEVENT
BEGIN:VEVENT
DTSTART;TZID=Europe/Helsinki:20251126T160000
DTEND;TZID=Europe/Helsinki:20251126T180000
DTSTAMP:20260422T024022
CREATED:20250626T135659Z
LAST-MODIFIED:20250626T135702Z
UID:17047-1764172800-1764180000@aivovammayhdistykset.fi
SUMMARY:Vertaistapaaminen
DESCRIPTION:Vertaistapaaminen 26.11. klo 16-18. Kumppanuuskeskus kahvilatila Laituri\, 1. kerros os. Kansankatu 53\, sisäänkäynti Vanhantullinkadun puolelta. Vieraana Heikki Niemimäki\, kertoo oman tarinansa ”Elävä\, tosipohjainen kertomus toivosta\, selviytymisestä ja sinnikkyydestä”. Vuonna 2018 hukkumisonnettomuus Vietnamissa muutti kaiken.\nKahvitarjoilu. Tervetuloa!
URL:https://aivovammayhdistykset.fi/tapahtuma/vertaistapaaminen-11/
CATEGORIES:Oulun Seudun Aivovammayhdistys ry
END:VEVENT
BEGIN:VEVENT
DTSTART;TZID=Europe/Helsinki:20251126T180000
DTEND;TZID=Europe/Helsinki:20251126T200000
DTSTAMP:20260422T024022
CREATED:20250623T120002Z
LAST-MODIFIED:20250623T120002Z
UID:16998-1764180000-1764187200@aivovammayhdistykset.fi
SUMMARY:Turun jäsenilta
DESCRIPTION:Vieraina: puheterapeutti Marjaana Raukola-Lindblom ja toimintaterapeutti Sami Haltia
URL:https://aivovammayhdistykset.fi/tapahtuma/turun-jasenilta-6/
CATEGORIES:Varsinais-Suomen aivovammayhdistys ry
END:VEVENT
BEGIN:VEVENT
DTSTART;TZID=Europe/Helsinki:20251127T160000
DTEND;TZID=Europe/Helsinki:20251127T173000
DTSTAMP:20260422T024022
CREATED:20250623T120244Z
LAST-MODIFIED:20250623T120244Z
UID:17000-1764259200-1764264600@aivovammayhdistykset.fi
SUMMARY:Taidekerho
DESCRIPTION:Ohjaajana Marjo Tiainen.
URL:https://aivovammayhdistykset.fi/tapahtuma/taidekerho-6/
CATEGORIES:Varsinais-Suomen aivovammayhdistys ry
END:VEVENT
BEGIN:VEVENT
DTSTART;TZID=Europe/Helsinki:20251129T150000
DTEND;TZID=Europe/Helsinki:20251129T173000
DTSTAMP:20260422T024022
CREATED:20250920T082306Z
LAST-MODIFIED:20251102T154055Z
UID:17405-1764428400-1764437400@aivovammayhdistykset.fi
SUMMARY:JOULUPÄIVÄLLINEN
DESCRIPTION:Lauantaina 29.11. klo 15.00-17.30 Scandic Oulu Cityn ravintola Roast\, Saaristonkatu\n4\, 90100 Oulu. Lautastarjoiluna valinnainen pääruoka ja jälkiruoka sekä kahvi tai tee\,\nruokajuomana jäävesi. Päivitetty ruokalista ilmestyy lokakuun puolessa välissä\, josta\nnäkee vaihtoehdot. Laitamme sen yhdistyksen kotisivuille\, sähköpostitse sekä\nviestinä puhelimeen\, joilta puuttuu sähköpostiosoite.\nIlmoittautumiset\, ruokavalinnat sekä mahdolliset ruoka-aineallergiat/rajoitteet 3.11.\nmennessä. puh. 044 217 8505/Sari.\nHinta jäseniltä 15€ ja ei jäseniltä ravintolan veloittama summa.\nTERVETULOA! \nJoulupäivällinen lauantaina 29.11 klo 15-17.30 Scandic Oulu Cityn ravintola Roast\, Saaristonkatu 4\, 90100 Oulu. \nLautastarjoiluna valinnainen pääruoka ja jälkiruoka sekä kahvi tai tee\, ruokajuomana jäävesi. \nIlmoittautumiset\, ruokavalinnat sekä mahdolliset ruoka-aine allergiat/rajoitteet 9.11 mennessä\, p.044 217 8505/Sari \nHinta jäseniltä 15\,- ja ei jäseniltä ravintolan veloittama summa. \nTERVETULOA! \n  \nValitse yksi pääruoka: \n*RISOTTO (L\,G)   22\,50 € (lisäksi grillattua kananrintaa +6 €) \nPunajuuririsottoa\, uunipunajuuria ja Grand Reserve vuohenjuustoa \n  \n*SALMON (L\,G)  29\,50 € \nGrillattua lohta\, palsternakkapyreetä\, pikkelöityjä kantarelleja ja rapukastiketta \n  \n* STEAK (L\,G) 37\,50 € Grillattu 200 g kotimainen rotukarjan ulkofileepihvi\, kermaista jaloviina-viherpippurikastiketta\, paahdettuja perunoita ja maa-artisokkaa \n  \n*Myös VEGAANINEN annos saatavilla \n  \n* BISTRO BURGER (L\, pyydettäessä G) \nKotimainen 100 g smash burger -pihvi\, Kuusamon savujuustoa\, mustapippuriaiolia\, karamellisoitua sipulia\, makeaa sinappia ja suolakurkkua \nSingle 17\,50 € /Double 21\,50 €     Lisää burgeriin: pekonia tai Aurajuustoa +1\,50 € \n  \n*HALLOUMI BURGER (L) \nFriteerattua halloumia\, grillattuja vihanneksia\, paholaisen hilloa ja mustapippuriaiolia\, \nSingle 17\,50 €/Double 21\,50 €      Lisää burgeriin pekonia tai Aurajuustoa +1\,50€ \n  \nBurgeriin voit ottaa lisäksi ranskalaiset ja dipin tai salaatin\,  (sisältyy jäsenhintaan) \n-Raikas vihersalaatti kauden kasviksista (M\, G\, V) 4\,00€ \n-Pieni Caesar-salaatti Västerbotten-juustolla ja hapanjuurileipäkrutonkeilla (L) 4\,00 € \n-Ranskalaiset perunat M\, G\, V 3\,00 € \n-Ranskalaisia\, Västerbotten-juustoa\, pekonia ja ruohosipulia (L\, G) 7\,50 € \n-Aurajuustomajoneesi (L\, G) 1\,50 € \n-Mustapippuriaioli (M\, V\, G) 1\,50 € \n-Sitruunamajoneesi (M\, V\, G)1\,50 \n  \nValitse yksi jälkiruoka \n*CHOCOLATE (L\,G)  8\,00 € \nLämmin suklaakakku\, vadelmacoulis ja vaniljajäätelöä \n  \n*FLAN CARAMEL (L\,G)  8\,00 € \nKaramellivanukas\, kardemummakermaa ja mustikkahilloketta \n  \n*ICE CREAM 4\,50 €/pallo \nArtesaanijäätelöä tai vegaanista sorbettia \nValinnainen pää- ja jälkiruoka\, ruokajuomana vesi\, sekä kahvi tai tee kuuluu jäsenhintaan 15\,- \, \nei jäsenet ravintolan veloittama hinta \nListalta voi tilata omakustanteisesti juomia ym \nIlmoitathan valitsemasi pää- ja jälkiruoan\, ruoka-aineallergiat/rajoitteet\, sekä mahdolliset muutokset annoksiin\, (ruokavalinnat myös jo aiemmin ilmoittautuneilta) \nSari puh.044 217 8505        Maksuohjeet lähetetään ilmoittautuneille \n 
URL:https://aivovammayhdistykset.fi/tapahtuma/joulupaivallinen-2/
CATEGORIES:Oulun Seudun Aivovammayhdistys ry
END:VEVENT
BEGIN:VEVENT
DTSTART;TZID=Europe/Helsinki:20251201T120000
DTEND;TZID=Europe/Helsinki:20251201T130000
DTSTAMP:20260422T024022
CREATED:20250623T121440Z
LAST-MODIFIED:20251019T132650Z
UID:17005-1764590400-1764594000@aivovammayhdistykset.fi
SUMMARY:Keilaus
DESCRIPTION:Tervetuloa keilaamaan Raision keilakeskukselle maanantaisin 8.9.2025 – 15.12. 2025  klo. 12.00 – 13.00. Syyskauden kurssimaksu on 30€ (15 kertaa) ja yksittäisen käyntikerran osallistujamaksu on 4€/kerta. Lisäksi tulee 1€ kenkävuokra\, joka maksetaan kassalle aina osallistuessa. Kauden kurssimaksu tai yksittäisen kerran osallistuminen maksetaan käteisellä (tasaraha) Terjelle tai Mobile Paylla yhdistyksen tapahtumakassaan\, numeroon 25861.
URL:https://aivovammayhdistykset.fi/tapahtuma/keilaus-173/
CATEGORIES:Varsinais-Suomen aivovammayhdistys ry
END:VEVENT
BEGIN:VEVENT
DTSTART;TZID=Europe/Helsinki:20251202T180000
DTEND;TZID=Europe/Helsinki:20251202T200000
DTSTAMP:20260422T024022
CREATED:20250623T121710Z
LAST-MODIFIED:20250623T121710Z
UID:17011-1764698400-1764705600@aivovammayhdistykset.fi
SUMMARY:Läheisten tapaaminen
DESCRIPTION:Koollekutsujana Leila Visa
URL:https://aivovammayhdistykset.fi/tapahtuma/laheisten-tapaaminen-11/
LOCATION:Aurakatu 15\, Aurakatu 15\, Turku\, Finland
CATEGORIES:Varsinais-Suomen aivovammayhdistys ry
END:VEVENT
BEGIN:VEVENT
DTSTART;TZID=Europe/Helsinki:20251204T140000
DTEND;TZID=Europe/Helsinki:20251204T163000
DTSTAMP:20260422T024022
CREATED:20250115T193714Z
LAST-MODIFIED:20250403T192835Z
UID:16146-1764856800-1764865800@aivovammayhdistykset.fi
SUMMARY:Naisten ja Miesten vertaistukitapaaminen
DESCRIPTION:
URL:https://aivovammayhdistykset.fi/tapahtuma/naisten-ja-miesten-vertaistuki-tapaaminen-9/
CATEGORIES:Varsinais-Suomen aivovammayhdistys ry
END:VEVENT
BEGIN:VEVENT
DTSTART;TZID=Europe/Helsinki:20251208T120000
DTEND;TZID=Europe/Helsinki:20251208T130000
DTSTAMP:20260422T024022
CREATED:20250623T121536Z
LAST-MODIFIED:20251019T132726Z
UID:17007-1765195200-1765198800@aivovammayhdistykset.fi
SUMMARY:Keilaus
DESCRIPTION:Tervetuloa keilaamaan Raision keilakeskukselle maanantaisin 8.9.2025 – 15.12. 2025  klo. 12.00 – 13.00. Syyskauden kurssimaksu on 30€ (15 kertaa) ja yksittäisen käyntikerran osallistujamaksu on 4€/kerta. Lisäksi tulee 1€ kenkävuokra\, joka maksetaan kassalle aina osallistuessa. Kauden kurssimaksu tai yksittäisen kerran osallistuminen maksetaan käteisellä (tasaraha) Terjelle tai Mobile Paylla yhdistyksen tapahtumakassaan\, numeroon 25861.
URL:https://aivovammayhdistykset.fi/tapahtuma/keilaus-174/
CATEGORIES:Varsinais-Suomen aivovammayhdistys ry
END:VEVENT
BEGIN:VEVENT
DTSTART;TZID=Europe/Helsinki:20251209T143000
DTEND;TZID=Europe/Helsinki:20251209T163000
DTSTAMP:20260422T024022
CREATED:20251014T095120Z
LAST-MODIFIED:20251118T114554Z
UID:17485-1765290600-1765297800@aivovammayhdistykset.fi
SUMMARY:Aivovammautuneen hyvinvointi ja palautuminen rasituksesta-3. luento
DESCRIPTION:Tiistai 9.12. kello 14:30-16:30 Aiheena aivovamma ja hyvinvointia tukevat tekijät. Puhujana Jaana Sarajuuri\, neuropsykologian erikoispsykologi\, PsT\, VET\, neuropsykologian työnohjaaja- ja kouluttajapätevyys (TOHJ). \nPaikka Syystien palvelukeskus\, Takaniitynkuja 3\, 00780 Helsinki\, Malmi \nTilaisuus on ilmainen. \n 
URL:https://aivovammayhdistykset.fi/tapahtuma/aivovammautuneen-hyvinvointi-ja-palautuminen-rasituksesta-3-luento/
LOCATION:Syystien palvelukeskus\, Takaniitynkuja 3\, Helsinki\, 0078
CATEGORIES:AVY Aivovammayhdistys ry,Uudenmaan Aivovammayhdistys ry
END:VEVENT
BEGIN:VEVENT
DTSTART;TZID=Europe/Helsinki:20251209T150000
DTEND;TZID=Europe/Helsinki:20251209T160000
DTSTAMP:20260422T024022
CREATED:20250626T140537Z
LAST-MODIFIED:20250626T140548Z
UID:17057-1765292400-1765296000@aivovammayhdistykset.fi
SUMMARY:Keilaus
DESCRIPTION:Yhdistys on varannut jäsentemme käyttöön kaksi keilarataa tiistaisin 9.12\, klo 15-16\, Oulun Keilahallilta\, os. Isokatu 97. Keilaus on jäsenille maksuton ja tila on esteetön. Kenkävuokra 2 € on omakustanteinen.
URL:https://aivovammayhdistykset.fi/tapahtuma/keilaus-179/
CATEGORIES:Oulun Seudun Aivovammayhdistys ry
END:VEVENT
BEGIN:VEVENT
DTSTART;TZID=Europe/Helsinki:20251209T160000
DTEND;TZID=Europe/Helsinki:20251209T173000
DTSTAMP:20260422T024022
CREATED:20250623T121826Z
LAST-MODIFIED:20250623T123002Z
UID:17013-1765296000-1765301400@aivovammayhdistykset.fi
SUMMARY:Salon ryhmän jäsenilta
DESCRIPTION:
URL:https://aivovammayhdistykset.fi/tapahtuma/salon-ryhman-jasenilta-4/
LOCATION:Salon Syty\, Helsingintie 6\, Salo\, Salo\, 24100\, Finland
CATEGORIES:Varsinais-Suomen aivovammayhdistys ry
END:VEVENT
BEGIN:VEVENT
DTSTART;TZID=Europe/Helsinki:20251210T160000
DTEND;TZID=Europe/Helsinki:20251210T173000
DTSTAMP:20260422T024022
CREATED:20250623T122135Z
LAST-MODIFIED:20250623T122424Z
UID:17015-1765382400-1765387800@aivovammayhdistykset.fi
SUMMARY:Taidekerho
DESCRIPTION:”Joulujuhlaohjelman valmistelua”
URL:https://aivovammayhdistykset.fi/tapahtuma/taidekerho-7/
CATEGORIES:Varsinais-Suomen aivovammayhdistys ry
END:VEVENT
BEGIN:VEVENT
DTSTART;TZID=Europe/Helsinki:20251210T180000
DTEND;TZID=Europe/Helsinki:20251210T200000
DTSTAMP:20260422T024022
CREATED:20250623T122521Z
LAST-MODIFIED:20251120T105955Z
UID:17020-1765389600-1765396800@aivovammayhdistykset.fi
SUMMARY:Turun jäsenilta/joulujuhla
DESCRIPTION:Turun joulujuhla pidetään Happy Housessa. Juhlaa vietetään runsaan kahvipöydän antimista ja Taidekehon ohjelmasta nauttien. Jos haluat\, voit tuoda joulupukin pussiin n. 5 euron arvoisen paketin.  \nTämä tapahtuma on viimeinen\, jonka pidämme Happy Housessa\, paikka suljetaan pe 19.12. Meidän toimintamme Turussa siirtyy osoitteeseen Puutarhakatu 19. Sinne avataan tammikuussa meidän oma kerhotila Aivola. Siitä enemmän kevään jäsenkirjeessä\, joka lähetetään joulukuussa postitse kaikille jäsenillemme.
URL:https://aivovammayhdistykset.fi/tapahtuma/turun-jasenilta-7/
CATEGORIES:Varsinais-Suomen aivovammayhdistys ry
END:VEVENT
BEGIN:VEVENT
DTSTART;TZID=Europe/Helsinki:20251211T163000
DTEND;TZID=Europe/Helsinki:20251211T190000
DTSTAMP:20260422T024022
CREATED:20250821T071548Z
LAST-MODIFIED:20250827T112708Z
UID:17236-1765470600-1765479600@aivovammayhdistykset.fi
SUMMARY:PIKKUJOULUT
DESCRIPTION:Torstaina 11.12. klo 16.30-19 vietämme pikkujouluja Ravintola Lahden Virastotalossa\, Kirkkokatu 12\, Lahti. \nNautimme jouluisen aterian. Hinta jäsenille on 15e\, avustajille 7\,50e\, alle 12-vuotiaille 12e ja muille 25e. \nOhjelmassa on  musiikkia\, arpajaiset ja joulupukkikin piipahtaa paikalle. Ota muutaman euron pikkupaketti pukinkonttiin. \nIlmoittaudu Karille\, p. 040 828 0906 tai info.phavy@gmail.com viimeistään 30.11. Maksa samalla osallistumisesi PH aivovammayhdistyksen tilille FI15 4212 0010 1321 95 käyttäen viitettä 1504. \nTERVETULOA!
URL:https://aivovammayhdistykset.fi/tapahtuma/pikkujoulut-13/
LOCATION:Ravintola Virasto\, Vesijärvenkatu 11\, Lahti\, 15140
CATEGORIES:Päijät-Häme,Päijät-Hämeen aivovammayhdistys ry
END:VEVENT
BEGIN:VEVENT
DTSTART;TZID=Europe/Helsinki:20251213T120000
DTEND;TZID=Europe/Helsinki:20251213T150000
DTSTAMP:20260422T024022
CREATED:20250813T075240Z
LAST-MODIFIED:20251117T104158Z
UID:17199-1765627200-1765638000@aivovammayhdistykset.fi
SUMMARY:Hyvinkään toimintaryhmä/UAVY:n pikkujoulu
DESCRIPTION:Tarjolla hyvää seuraa\, erilaisia pizzoja ja kahvit. Ravintola Rosson kabinettiin mahtuu 20 ensin ilmoittautunutta. Omavastuu on 5 €\, joka maksetaan yhdistyksen tilille. Tilinumeron saa kun ilmoittautuu 10.12.2025 mennessä sähköpostiin (ilmoita myös ruokavaliosi) uudenmaan.aivovammayhdistys@gmail.com.
URL:https://aivovammayhdistykset.fi/tapahtuma/hyvinkaan-toimintaryhma-joulukuu/
LOCATION:Ravintola Rosso Hyvinkää\, Kauppakuja 2\, 05800\, HYVINKÄÄ\, 0078
CATEGORIES:AVY Aivovammayhdistys ry,Uudenmaan Aivovammayhdistys ry
END:VEVENT
BEGIN:VEVENT
DTSTART;TZID=Europe/Helsinki:20251215T120000
DTEND;TZID=Europe/Helsinki:20251215T130000
DTSTAMP:20260422T024022
CREATED:20250623T121603Z
LAST-MODIFIED:20251019T132813Z
UID:17009-1765800000-1765803600@aivovammayhdistykset.fi
SUMMARY:Keilaus
DESCRIPTION:Tervetuloa keilaamaan Raision keilakeskukselle maanantaisin 8.9.2025 – 15.12. 2025  klo. 12.00 – 13.00. Syyskauden kurssimaksu on 30€ (15 kertaa) ja yksittäisen käyntikerran osallistujamaksu on 4€/kerta. Lisäksi tulee 1€ kenkävuokra\, joka maksetaan kassalle aina osallistuessa. Kauden kurssimaksu tai yksittäisen kerran osallistuminen maksetaan käteisellä (tasaraha) Terjelle tai Mobile Paylla yhdistyksen tapahtumakassaan\, numeroon 25861.
URL:https://aivovammayhdistykset.fi/tapahtuma/keilaus-175/
CATEGORIES:Varsinais-Suomen aivovammayhdistys ry
END:VEVENT
BEGIN:VEVENT
DTSTART;TZID=Europe/Helsinki:20251217T153000
DTEND;TZID=Europe/Helsinki:20251217T170000
DTSTAMP:20260422T024022
CREATED:20250626T141157Z
LAST-MODIFIED:20250728T070548Z
UID:17067-1765985400-1765990800@aivovammayhdistykset.fi
SUMMARY:Nuoret Aikuiset
DESCRIPTION:Tule mukaan nuorten rentoon vertaistapaamiseen keskiviikkoisin  17.12. klo 15.30-17. kahvila Iso-Ilmari (Huovisen leipomon myymälä) os. Ilmarinkatu 16\, Oulu . Tapaaminen on tarkoitettu nuorille ja nuorille aikuisille. Yhdistys tarjoaa pullakahvit.\nLisätietoja: Eila Sääskö\, p. 040 765 6989 tai eila.saasko@gmail.com
URL:https://aivovammayhdistykset.fi/tapahtuma/nuoret-aikuiset-22/
CATEGORIES:Oulun Seudun Aivovammayhdistys ry
END:VEVENT
BEGIN:VEVENT
DTSTART;TZID=Europe/Helsinki:20251218T170000
DTEND;TZID=Europe/Helsinki:20251218T190000
DTSTAMP:20260422T024022
CREATED:20251014T065706Z
LAST-MODIFIED:20251014T070553Z
UID:17470-1766077200-1766084400@aivovammayhdistykset.fi
SUMMARY:Tikkurilan jäsenilta/Pikkujoulu
DESCRIPTION:Tällä kertaa ohjelmassa ryhmän pikkujoulut.
URL:https://aivovammayhdistykset.fi/tapahtuma/tikkurilan-jasenilta-pikkujoulu/
LOCATION:Tikkurilan asukastila\, Lummetie 2 b A\, VANTAA\, 01300
CATEGORIES:AVY Aivovammayhdistys ry,Uudenmaan Aivovammayhdistys ry
END:VEVENT
BEGIN:VEVENT
DTSTART;TZID=Europe/Helsinki:20251223T150000
DTEND;TZID=Europe/Helsinki:20251223T160000
DTSTAMP:20260422T024022
CREATED:20250626T140633Z
LAST-MODIFIED:20250626T140633Z
UID:17059-1766502000-1766505600@aivovammayhdistykset.fi
SUMMARY:Keilaus
DESCRIPTION:Yhdistys on varannut jäsentemme käyttöön kaksi keilarataa tiistaisin 23.12. klo 15-16\, Oulun Keilahallilta\, os. Isokatu 97. Keilaus on jäsenille maksuton ja tila on esteetön. Kenkävuokra 2 € on omakustanteinen.
URL:https://aivovammayhdistykset.fi/tapahtuma/keilaus-180/
CATEGORIES:Oulun Seudun Aivovammayhdistys ry
END:VEVENT
BEGIN:VEVENT
DTSTART;TZID=Europe/Helsinki:20260107T080000
DTEND;TZID=Europe/Helsinki:20260130T170000
DTSTAMP:20260422T024022
CREATED:20260107T090205Z
LAST-MODIFIED:20260107T090205Z
UID:17934-1767772800-1769792400@aivovammayhdistykset.fi
SUMMARY:Omaisten tapaaminen
DESCRIPTION:Keski-Suomen aivovammayhdistyksen omaisten tapaaminen. \nTorstai 22 tammikuuta klo16. \nPaikka Sepänkeskus Kyllikinkatu 1 Jyväskylä. \nTapaamme kahvien merkeissä pitkästä aikaa. Vaihdetaan kokemuksia suunnitellaan jatkoa. \nYhteishenkilö Antero Vähäniitty p 0400481486
URL:https://aivovammayhdistykset.fi/tapahtuma/omaisten-tapaaminen/
CATEGORIES:Jyväskylä
END:VEVENT
END:VCALENDAR