BEGIN:VCALENDAR
VERSION:2.0
PRODID:-//Aivovammayhdistykset - ECPv6.15.18//NONSGML v1.0//EN
CALSCALE:GREGORIAN
METHOD:PUBLISH
X-ORIGINAL-URL:https://aivovammayhdistykset.fi
X-WR-CALDESC:Tapahtumat Aivovammayhdistykset
REFRESH-INTERVAL;VALUE=DURATION:PT1H
X-Robots-Tag:noindex
X-PUBLISHED-TTL:PT1H
BEGIN:VTIMEZONE
TZID:Europe/Helsinki
BEGIN:DAYLIGHT
TZOFFSETFROM:+0200
TZOFFSETTO:+0300
TZNAME:EEST
DTSTART:20240331T010000
END:DAYLIGHT
BEGIN:STANDARD
TZOFFSETFROM:+0300
TZOFFSETTO:+0200
TZNAME:EET
DTSTART:20241027T010000
END:STANDARD
BEGIN:DAYLIGHT
TZOFFSETFROM:+0200
TZOFFSETTO:+0300
TZNAME:EEST
DTSTART:20250330T010000
END:DAYLIGHT
BEGIN:STANDARD
TZOFFSETFROM:+0300
TZOFFSETTO:+0200
TZNAME:EET
DTSTART:20251026T010000
END:STANDARD
BEGIN:DAYLIGHT
TZOFFSETFROM:+0200
TZOFFSETTO:+0300
TZNAME:EEST
DTSTART:20260329T010000
END:DAYLIGHT
BEGIN:STANDARD
TZOFFSETFROM:+0300
TZOFFSETTO:+0200
TZNAME:EET
DTSTART:20261025T010000
END:STANDARD
END:VTIMEZONE
BEGIN:VEVENT
DTSTART;TZID=Europe/Helsinki:20250722T150000
DTEND;TZID=Europe/Helsinki:20250722T160000
DTSTAMP:20260423T015242
CREATED:20250326T153101Z
LAST-MODIFIED:20250624T154013Z
UID:16476-1753196400-1753200000@aivovammayhdistykset.fi
SUMMARY:Keilaus
DESCRIPTION:Yhdistys on varannut jäsentemme käyttöön kaksi keilarataa tiistaisin  22.7  klo 15.00-16.00 Oulun Keilahallilta os. Isokatu 97\, esteetön tila ja jäsenille maksuton.\nKenkävuokra 2 € on omakustanteinen.\nKeilavuoro peruttu Oulun keilahallin remontin vuoksi.
URL:https://aivovammayhdistykset.fi/tapahtuma/keilaus-156/
CATEGORIES:Oulun Seudun Aivovammayhdistys ry
END:VEVENT
BEGIN:VEVENT
DTSTART;TZID=Europe/Helsinki:20250805T180000
DTEND;TZID=Europe/Helsinki:20250805T200000
DTSTAMP:20260423T015242
CREATED:20250622T164415Z
LAST-MODIFIED:20250622T164610Z
UID:16937-1754416800-1754424000@aivovammayhdistykset.fi
SUMMARY:Läheisten tapaaminen
DESCRIPTION:Koollekutsujana Leila Visa
URL:https://aivovammayhdistykset.fi/tapahtuma/vertaisten-tapaaminen/
LOCATION:Aurakatu 15\, Aurakatu 15\, Turku\, Finland
CATEGORIES:Varsinais-Suomen aivovammayhdistys ry
END:VEVENT
BEGIN:VEVENT
DTSTART;TZID=Europe/Helsinki:20250812T150000
DTEND;TZID=Europe/Helsinki:20250812T160000
DTSTAMP:20260423T015242
CREATED:20250326T153210Z
LAST-MODIFIED:20250326T153210Z
UID:16478-1755010800-1755014400@aivovammayhdistykset.fi
SUMMARY:Keilaus
DESCRIPTION:Yhdistys on varannut jäsentemme käyttöön kaksi keilarataa tiistaisin  12.8  klo 15.00-16.00 Oulun Keilahallilta os. Isokatu 97\, esteetön tila ja jäsenille maksuton.\nKenkävuokra 2 € on omakustanteinen.
URL:https://aivovammayhdistykset.fi/tapahtuma/keilaus-157/
CATEGORIES:Oulun Seudun Aivovammayhdistys ry
END:VEVENT
BEGIN:VEVENT
DTSTART;TZID=Europe/Helsinki:20250816T080000
DTEND;TZID=Europe/Helsinki:20250817T170000
DTSTAMP:20260423T015242
CREATED:20250411T113959Z
LAST-MODIFIED:20250411T140921Z
UID:16653-1755331200-1755450000@aivovammayhdistykset.fi
SUMMARY:Retki Kalajoelle la 16.8—17.8 Santa´s Resort&Spa Hotel Saniin.
DESCRIPTION:Retki Kalajoelle la 16.8—17.8 Santa´s\nResort&Spa Hotel Saniin.\n· 2hh standard: jäsenhinta 50 €/hlö\,\nei jäsen 125 €/hlö\n· 1hh standard: jäsenhinta 80€\,\nei jäsen 183€\n· Superior-huoneen lisä: 20 €\n· Lisävuode: lapsi 20 €\, aikuinen 45 €\nHintaan sis. lauantaina lounas ja päivälli‐\nnen\, sunnuntaina aamiainen ja lounas\,\nmajoitus sekä kuntosalin ja kylpylän\nkäyttö.\nMahdollisuus majoitua myös pe-la välinen yö omakustanteisesti:\n· 2hh standard 131 €\n· 1hh standard 123 €\n· superior-huoneen lisä 20 €\nLisätiedot ja ilmoitautumiset: 30.6 mennessä\, Sari p.044 217 8505 tai\nsari.makitalo1@gmail.com. Paikkoja on rajoitetusti ja ne täytetään ilmoitautumisjärjestyksessä
URL:https://aivovammayhdistykset.fi/tapahtuma/retki-kalajoelle-la-16-8-17-8-santas-resortspa-hotel-saniin/
CATEGORIES:Oulun Seudun Aivovammayhdistys ry
END:VEVENT
BEGIN:VEVENT
DTSTART;TZID=Europe/Helsinki:20250820T153000
DTEND;TZID=Europe/Helsinki:20250820T170000
DTSTAMP:20260423T015242
CREATED:20250516T114459Z
LAST-MODIFIED:20250728T070157Z
UID:16764-1755703800-1755709200@aivovammayhdistykset.fi
SUMMARY:Nuoret Aikuiset
DESCRIPTION:Tule mukaan nuorten aikuisten rentoon vertaistapaamiseen keskiviikkoisin  20.8. ja 17.9. klo 15.30-17 kahvila Iso-Ilmari (Huovisen leipomo) os. Ilmarinkatu 16. Tapaaminen on tarkoitettu nuorille ja nuorille aikuisille.Yhdistys tarjoaa pullakahvit.\nHuom! Paikka ja aika on muuttunut.\nLisätietoja: Eila Sääskö\, p. 040 765 6989\, eila.saasko@gmail.com
URL:https://aivovammayhdistykset.fi/tapahtuma/nuoret-aikuiset-18/
CATEGORIES:Oulun Seudun Aivovammayhdistys ry
END:VEVENT
BEGIN:VEVENT
DTSTART;TZID=Europe/Helsinki:20250821T170000
DTEND;TZID=Europe/Helsinki:20250821T190000
DTSTAMP:20260423T015242
CREATED:20250806T070857Z
LAST-MODIFIED:20250819T095743Z
UID:17136-1755795600-1755802800@aivovammayhdistykset.fi
SUMMARY:Avoin jäsenilta\, Tikkurila Vantaa
DESCRIPTION:  \nJäsenillat jatkuvat Tikkurilassa torstaina 21.8. kello 17-19. Muistiluotsin esitys siirtyy lokakuulle\, eli 23.10. on aiheena muistaminen. \nTilaisuuteen toivotaan ilmoittautumista\, jotta saadaan kahvitukset kaikille. Lähetä siis tietosi ryhmän vetäjälle osoitteeseen sirkka.dahlman(at)gmail.com \nPaikka: Tikkurilan asukastila Lummetie 2\, 01300 Vantaa. Tila on Tikkurilan kirjaston lähellä. \nSyyskauden muut tapaamiset 18.9.\, 23.10.\, 20.11. ja pikkujoulut 18.12.2025
URL:https://aivovammayhdistykset.fi/tapahtuma/avoin-jasenilta-tikkurila-vantaa/
LOCATION:Tikkurilan asukastila\, Lummetie 2 b A\, VANTAA\, 01300
CATEGORIES:AVY Aivovammayhdistys ry,Uudenmaan Aivovammayhdistys ry
END:VEVENT
BEGIN:VEVENT
DTSTART;TZID=Europe/Helsinki:20250823T090000
DTEND;TZID=Europe/Helsinki:20250823T170000
DTSTAMP:20260423T015242
CREATED:20250605T103354Z
LAST-MODIFIED:20250624T064158Z
UID:16840-1755939600-1755968400@aivovammayhdistykset.fi
SUMMARY:Kesäretki Mustion linnalle
DESCRIPTION:Kesäretki Mustion linnalle \nMatka alkaa Tikkurilasta Heurekan parkkipaikalta\, jossa kokoonnumme invabussiin klo 9:00. Menemme Espoon ja Kirkkonummen kautta Mustion linnalle\, jossa ohjattu tutustumiskierros. Kierroksen jälkeen keittolounas ravintola Linnankrouvissa. Mustiosta matka jatkuu Lohjalle\, jossa pysähdymme kesäkahvilassa kakkukahveilla. Paluu Tikkurilaan Espoon kautta noin kello 17:00. \nRetki toteutetaan\, mikäli saadaan 25 osallistujaa\, joilla tämän vuoden jäsenmaksu maksettuna. Hintaan 50€ sisältyy matkat invabussilla (4 pyörätuolipaikkaa)\, Mustion linnan opastettu kierros\, ruokailu Linnankrouvissa ja kakkukahvit kesäkahvilassa paluumatkalla. Henkilökohtaisen avustajan omavastuu on 25€. Maksu yhdistyksen tilille FI46 1063 3000 2295 55. \nSitova ilmoittautuminen maksettuna 21.7. mennessä\, toivomme kuitenkin että ilmoittautuisitte mahdollisimman pian\, niin voimme tehdä varausten vahvistukset/peruutukset ajoissa ja alkaa suunnittelemaan vaihtoehtoista ohjelmaa/tapahtumaa/retkeä jos tähän ei ole tarpeeksi tulijoita. \nLisätiedot uudenmaan.aivovammayhdistys@gmail.com osoitteesta. \n  \n 
URL:https://aivovammayhdistykset.fi/tapahtuma/kesaretki-mustion-linnalle/
CATEGORIES:AVY Aivovammayhdistys ry,Uudenmaan Aivovammayhdistys ry
END:VEVENT
BEGIN:VEVENT
DTSTART;TZID=Europe/Helsinki:20250825T150000
DTEND;TZID=Europe/Helsinki:20250825T160000
DTSTAMP:20260423T015242
CREATED:20250326T153257Z
LAST-MODIFIED:20250812T142049Z
UID:16480-1756134000-1756137600@aivovammayhdistykset.fi
SUMMARY:Keilaus
DESCRIPTION:Yhdistys on varannut jäsentemme käyttöön kaksi keilarataa tiistaisin  26.8 klo 15.00-16.00 Oulun Keilahallilta os. Isokatu 97\, esteetön tila ja jäsenille maksuton.\nKenkävuokra 2 € on omakustanteinen.\nhuom. päivämäärä muuttunut
URL:https://aivovammayhdistykset.fi/tapahtuma/keilaus-158/
CATEGORIES:Oulun Seudun Aivovammayhdistys ry
END:VEVENT
BEGIN:VEVENT
DTSTART;TZID=Europe/Helsinki:20250827T150000
DTEND;TZID=Europe/Helsinki:20250827T150000
DTSTAMP:20260423T015242
CREATED:20250806T065638Z
LAST-MODIFIED:20250806T065638Z
UID:17134-1756306800-1756306800@aivovammayhdistykset.fi
SUMMARY:Helsingin seudun avoin vertaistukiryhmä – Aivoklubi
DESCRIPTION:Klubin syyskausi alkaa keskiviikkona 27.8.2025 jatkuen aina 17.12.2025 asti. \nRyhmä kokoontuu joka parittoman viikon keskiviikkona klo 15-17\, Kampin palvelukeskuksessa/Famu -tilassa. Tapaamisessa tarjolla kahvit. \nTervetuloa! \nVetäjät: Esa Hyttinen\, Saana Kaukoranta\, Hannele Manner.\n– Tiedustelut ja ilmoittautumiset yhdistyksen sähköpostiin uudenmaan.aivovammayhdistys(at)gmail.com
URL:https://aivovammayhdistykset.fi/tapahtuma/helsingin-seudun-avoin-vertaistukiryhma-aivoklubi/
LOCATION:Kampin palvelukeskus\, Salomonkatu 21 B\, Helsinki\, 00100\, Suomi
CATEGORIES:AVY Aivovammayhdistys ry,Uudenmaan Aivovammayhdistys ry
END:VEVENT
BEGIN:VEVENT
DTSTART;TZID=Europe/Helsinki:20250827T150000
DTEND;TZID=Europe/Helsinki:20250827T170000
DTSTAMP:20260423T015242
CREATED:20250326T153727Z
LAST-MODIFIED:20250516T114139Z
UID:16488-1756306800-1756314000@aivovammayhdistykset.fi
SUMMARY:Vertaistapaaminen
DESCRIPTION:Vertaistapaaminen 27.8. klo 15-17. Paikkana Koivurannan kahvila\, os. Kasarmintie 51 (Värttö). Tapaamiseen ovat myös läheiset tervetulleita. Yhdistys tarjoaa pullakahvit. Huom! Paikka on muuttunut.
URL:https://aivovammayhdistykset.fi/tapahtuma/vertaistapaaminen-9/
CATEGORIES:Oulun Seudun Aivovammayhdistys ry
END:VEVENT
BEGIN:VEVENT
DTSTART;TZID=Europe/Helsinki:20250901T180000
DTEND;TZID=Europe/Helsinki:20251208T190000
DTSTAMP:20260423T015242
CREATED:20250814T075401Z
LAST-MODIFIED:20250915T105154Z
UID:17214-1756749600-1765220400@aivovammayhdistykset.fi
SUMMARY:Maanantain Sählyryhmä
DESCRIPTION:Syyskausi 1.9.-8.12.2025 maanantaisin kello 18-19 \n70€/lukukausi. Jos käy vain kerran kokeilemassa\, niin maksu palautetaan. \nIlmoittaudu uudenmaan.aivovammayhdistys@gmail.com. \nKuntoutuskeskus Synapsia | Validia
URL:https://aivovammayhdistykset.fi/tapahtuma/maanantain-sahlyryhma/
LOCATION:Validia kuntoutus\, Nordenskiöldinkatu 18 B\, Helsinki\, 00250\, Suomi
CATEGORIES:AVY Aivovammayhdistys ry,Uudenmaan Aivovammayhdistys ry
END:VEVENT
BEGIN:VEVENT
DTSTART;TZID=Europe/Helsinki:20250902T080000
DTEND;TZID=Europe/Helsinki:20250902T170000
DTSTAMP:20260423T015242
CREATED:20250812T105252Z
LAST-MODIFIED:20250812T115720Z
UID:17177-1756800000-1756832400@aivovammayhdistykset.fi
SUMMARY:Hyvinkään toimintaryhmän syyskuu
DESCRIPTION:Tiistaina 2.9.2025 kokoonnutaan suunnittelemaan vuoden 2026 tapahtumia. Paikkana on Saken mökki. Ilmoittautuminen vaaditaan tarjoilua varten osoitteeseen sakke.pihlaja@elisanet.fi ja samalla saat paikan osoitteen ja muut tapahtuman tiedot.
URL:https://aivovammayhdistykset.fi/tapahtuma/hyvinkaan-toimintaryhman-syyskuu/
CATEGORIES:AVY Aivovammayhdistys ry,Uudenmaan Aivovammayhdistys ry
END:VEVENT
BEGIN:VEVENT
DTSTART;TZID=Europe/Helsinki:20250902T180000
DTEND;TZID=Europe/Helsinki:20250902T200000
DTSTAMP:20260423T015242
CREATED:20250623T044712Z
LAST-MODIFIED:20250623T044712Z
UID:16958-1756836000-1756843200@aivovammayhdistykset.fi
SUMMARY:Läheisten tapaaminen
DESCRIPTION:Koollekutsujana Leila Visa
URL:https://aivovammayhdistykset.fi/tapahtuma/laheisten-tapaaminen-8/
LOCATION:Aurakatu 15\, Aurakatu 15\, Turku\, Finland
CATEGORIES:Varsinais-Suomen aivovammayhdistys ry
END:VEVENT
BEGIN:VEVENT
DTSTART;TZID=Europe/Helsinki:20250904T140000
DTEND;TZID=Europe/Helsinki:20250904T153000
DTSTAMP:20260423T015242
CREATED:20250115T193249Z
LAST-MODIFIED:20250403T193223Z
UID:16140-1756994400-1756999800@aivovammayhdistykset.fi
SUMMARY:Naisten ja Miesten vertaistukitapaaminen
DESCRIPTION:
URL:https://aivovammayhdistykset.fi/tapahtuma/naisten-ja-miesten-vertaistuki-tapaaminen-6/
CATEGORIES:Varsinais-Suomen aivovammayhdistys ry
END:VEVENT
BEGIN:VEVENT
DTSTART;TZID=Europe/Helsinki:20250904T170000
DTEND;TZID=Europe/Helsinki:20250904T190000
DTSTAMP:20260423T015242
CREATED:20250828T094656Z
LAST-MODIFIED:20250828T094656Z
UID:17270-1757005200-1757012400@aivovammayhdistykset.fi
SUMMARY:SYYSKUUN JÄSENTAPAAMINEN 4.9. klo.17.00 - 19.00 Keilaus S.Q.B. Center Seinäjoki
DESCRIPTION:Torstaina 4.9. klo.17.00 alkaen  keilataan S.Q.B. Centerissä Seinäjoella.\nOsoite; Urheilupuisto 5\nMeille varattuna 3 rataa kahdeksi tunniksi.\nKeilauksen päätteeksi tarjolla pullakahvit.\nJäsenille maksuton tapahtuma.\nTervetuloa mukaan!
URL:https://aivovammayhdistykset.fi/tapahtuma/syyskuun-jasentapaaminen-4-9-klo-17-00-19-00-keilaus-s-q-b-center-seinajoki/
LOCATION:S.Q.B. Center Seinäjoki\, Urheilupuisto 4\, Seinäjoki\, 60100\, Suomi
CATEGORIES:Etelä-Pohjanmaan aivovammayhdistys ry
END:VEVENT
BEGIN:VEVENT
DTSTART;TZID=Europe/Helsinki:20250906T130000
DTEND;TZID=Europe/Helsinki:20250906T160000
DTSTAMP:20260423T015242
CREATED:20250626T134729Z
LAST-MODIFIED:20250626T134741Z
UID:17037-1757163600-1757174400@aivovammayhdistykset.fi
SUMMARY:Syyskauden avajaiset
DESCRIPTION:Syyskauden avajaiset lauantaina 6.9. klo 13-16. Peuhun kartanossa\, Peuhuntie 194\, Oulunsalo. Ohjelmassa haitarinsoittoa Ari Hyvälä.\nTunnelmallinen kartanoalue sijaitsee Perämeren rannalla. Matkaa Oulusta on noin 20 km. Tule viettämään koko perheen kanssa rentoa ja mukavaa lauantai-iltapäivää Peuhuun.  Ilmoittautumiset ja erikoisruokavaliot tarjoilun vuoksi 27.8. mennessä Eilalle\, p. 040 765 6989 tai eila.saasko@gmail.com\nPyrimme järjestämään kimppakyytejä\, kerrothan ilmoittautumisen yhteydessä\, mikäli autossa on tilaa.
URL:https://aivovammayhdistykset.fi/tapahtuma/syyskauden-avajaiset-4/
CATEGORIES:Oulun Seudun Aivovammayhdistys ry
END:VEVENT
BEGIN:VEVENT
DTSTART;VALUE=DATE:20250908
DTEND;VALUE=DATE:20251111
DTSTAMP:20260423T015242
CREATED:20250915T063915Z
LAST-MODIFIED:20250915T063915Z
UID:17357-1757289600-1762819199@aivovammayhdistykset.fi
SUMMARY:SataNeuron yhteinen liikuntaryhmä Ulvilassa syksy 2025
DESCRIPTION:
URL:https://aivovammayhdistykset.fi/tapahtuma/sataneuron-yhteinen-liikuntaryhma-ulvilassa-syksy-2025/
CATEGORIES:Satakunnan aivovammayhdistys ry
END:VEVENT
BEGIN:VEVENT
DTSTART;TZID=Europe/Helsinki:20250908T120000
DTEND;TZID=Europe/Helsinki:20250908T130000
DTSTAMP:20260423T015242
CREATED:20250622T150701Z
LAST-MODIFIED:20250622T150701Z
UID:16899-1757332800-1757336400@aivovammayhdistykset.fi
SUMMARY:Keilaus
DESCRIPTION:
URL:https://aivovammayhdistykset.fi/tapahtuma/keilaus-161/
CATEGORIES:Varsinais-Suomen aivovammayhdistys ry
END:VEVENT
BEGIN:VEVENT
DTSTART;TZID=Europe/Helsinki:20250909T150000
DTEND;TZID=Europe/Helsinki:20250909T170000
DTSTAMP:20260423T015242
CREATED:20250626T135040Z
LAST-MODIFIED:20250626T135049Z
UID:17039-1757430000-1757437200@aivovammayhdistykset.fi
SUMMARY:Keilailutapahtuma
DESCRIPTION:Keilailutapahtuma tiistaina 9.9. klo 15-17. Oulun Keilahallilla os. Isokatu 97. Vieraaksi ja kilpakummaniksi saapuu Etelä-Pohjanmaan Avy:stä keilaajia. Yhdistys on varannut kahdeksi tunniksi neljä keilarataa.\nTervetuloa kannustamaan ja keilaamaan!\nTiedustelut: Ari Hyvälä\, p. 040 576 3512
URL:https://aivovammayhdistykset.fi/tapahtuma/keilailutapahtuma/
CATEGORIES:Oulun Seudun Aivovammayhdistys ry
END:VEVENT
BEGIN:VEVENT
DTSTART;TZID=Europe/Helsinki:20250909T170000
DTEND;TZID=Europe/Helsinki:20250909T193000
DTSTAMP:20260423T015242
CREATED:20250701T130113Z
LAST-MODIFIED:20250908T091208Z
UID:17082-1757437200-1757446200@aivovammayhdistykset.fi
SUMMARY:Nuorten peli-ilta PERUTTU!
DESCRIPTION:HUOM! Peruttu vähäisen ilmoittautuneiden määrän vuoksi.\n\n\n\nNuorten aivovammautuneiden peli-ilta jälleen Helsingissä Malmilla tiistaina 9.9.2025 klo 17-19:30. Ikäraja on 17-35 vuotta.\nTarjolla hyvää vertaisseuraa\, pientä suolaista purtavaa sekä jänniä pelihetkiä ja kiinnostavia keskusteluja.\n\n\nJos sinulla on itselläsi jokin mieluisa peli\, niin voit ottaa sen mukaan.\n\n\nJa osoitehan on Malminkaari 5 B\, 4. krs\, 00700 Helsinki. (Eli Aivovammaliiton toimisto).\n\n\nIlmoittaudu 8.8. mennessä sähköpostiin uudenmaan.aivovammayhdistys@gmail.com\, niin tiedetään varata tarpeeksi pop corneja !\n\n\nNähdään elokuulla.
URL:https://aivovammayhdistykset.fi/tapahtuma/nuorten-peli-ilta-vol-3/
LOCATION:Aivovammaliiton toimitila\, Malminkaari 5\, Helsinki\, 00700\, Suomi
CATEGORIES:AVY Aivovammayhdistys ry,Uudenmaan Aivovammayhdistys ry
END:VEVENT
BEGIN:VEVENT
DTSTART;TZID=Europe/Helsinki:20250909T173000
DTEND;TZID=Europe/Helsinki:20250909T193000
DTSTAMP:20260423T015243
CREATED:20250622T151956Z
LAST-MODIFIED:20250622T151956Z
UID:16904-1757439000-1757446200@aivovammayhdistykset.fi
SUMMARY:Salon ryhmän jäsenilta
DESCRIPTION:Vieraana fysioterapeutti Ina Vihilehti Turun TULE-tietokeskus
URL:https://aivovammayhdistykset.fi/tapahtuma/salon-ryhman-jasenilta/
LOCATION:Salon Syty\, Helsingintie 6\, Salo\, Salo\, 24100\, Finland
CATEGORIES:Varsinais-Suomen aivovammayhdistys ry
END:VEVENT
BEGIN:VEVENT
DTSTART;TZID=Europe/Helsinki:20250910T160000
DTEND;TZID=Europe/Helsinki:20250910T173000
DTSTAMP:20260423T015243
CREATED:20250622T152525Z
LAST-MODIFIED:20250622T152611Z
UID:16906-1757520000-1757525400@aivovammayhdistykset.fi
SUMMARY:Taidekerho
DESCRIPTION:Ohjaajana Marjo Tiainen.
URL:https://aivovammayhdistykset.fi/tapahtuma/taidekerho-5/
CATEGORIES:Varsinais-Suomen aivovammayhdistys ry
END:VEVENT
BEGIN:VEVENT
DTSTART;TZID=Europe/Helsinki:20250910T180000
DTEND;TZID=Europe/Helsinki:20250910T200000
DTSTAMP:20260423T015243
CREATED:20250622T153115Z
LAST-MODIFIED:20250622T153115Z
UID:16911-1757527200-1757534400@aivovammayhdistykset.fi
SUMMARY:Turun jäsenilta
DESCRIPTION:Syksyn tapahtumista tiedottaminen / Pekka Prusi
URL:https://aivovammayhdistykset.fi/tapahtuma/turun-jasenilta/
CATEGORIES:Varsinais-Suomen aivovammayhdistys ry
END:VEVENT
BEGIN:VEVENT
DTSTART;TZID=Europe/Helsinki:20250915T080000
DTEND;TZID=Europe/Helsinki:20250915T170000
DTSTAMP:20260423T015243
CREATED:20250915T161310Z
LAST-MODIFIED:20250915T161316Z
UID:17379-1757923200-1757955600@aivovammayhdistykset.fi
SUMMARY:Liikuntaryhmä
DESCRIPTION:Uutta!! Lempeää\, kehoa huoltavaa hathajoogaa\nOuluhallin liikuntasalissa (lohko A1) 8.10 klo 10.30-\n11.30. Portista pääsee koodilla 20856# puoli tuntia\nennen tunnin alkua. Ohjaaja Juha Sarviaho. Maksuton.\nTämä jooga sopii kaikille. Tervetuloa rohkeasti mukaan!\nLiikuntahallilta löytyy jumppamattoja\, mutta jos sinulla on oma\, ota\nmukaan. Lisätietoja Auli Ollila\, p. 050 548 4420
URL:https://aivovammayhdistykset.fi/tapahtuma/liikuntaryhma-3/
CATEGORIES:Oulun Seudun Aivovammayhdistys ry
END:VEVENT
BEGIN:VEVENT
DTSTART;TZID=Europe/Helsinki:20250915T080000
DTEND;TZID=Europe/Helsinki:20250915T170000
DTSTAMP:20260423T015243
CREATED:20250915T161352Z
LAST-MODIFIED:20250915T161352Z
UID:17381-1757923200-1757955600@aivovammayhdistykset.fi
SUMMARY:Liikuntaryhmä
DESCRIPTION:Uutta!! Lempeää\, kehoa huoltavaa hathajoogaa\nOuluhallin liikuntasalissa (lohko A1) 15.10 klo 10.30-\n11.30. Portista pääsee koodilla 20856# puoli tuntia\nennen tunnin alkua. Ohjaaja Juha Sarviaho. Maksuton.\nTämä jooga sopii kaikille. Tervetuloa rohkeasti mukaan!\nLiikuntahallilta löytyy jumppamattoja\, mutta jos sinulla on oma\, ota\nmukaan. Lisätietoja Auli Ollila\, p. 050 548 4420
URL:https://aivovammayhdistykset.fi/tapahtuma/liikuntaryhma-4/
CATEGORIES:Oulun Seudun Aivovammayhdistys ry
END:VEVENT
BEGIN:VEVENT
DTSTART;TZID=Europe/Helsinki:20250915T120000
DTEND;TZID=Europe/Helsinki:20250915T130000
DTSTAMP:20260423T015243
CREATED:20250622T153307Z
LAST-MODIFIED:20250622T153307Z
UID:16913-1757937600-1757941200@aivovammayhdistykset.fi
SUMMARY:Keilaus
DESCRIPTION:
URL:https://aivovammayhdistykset.fi/tapahtuma/keilaus-162/
CATEGORIES:Varsinais-Suomen aivovammayhdistys ry
END:VEVENT
BEGIN:VEVENT
DTSTART;TZID=Europe/Helsinki:20250915T180000
DTEND;TZID=Europe/Helsinki:20251222T190000
DTSTAMP:20260423T015243
CREATED:20250915T115026Z
LAST-MODIFIED:20250915T115026Z
UID:17369-1757959200-1766430000@aivovammayhdistykset.fi
SUMMARY:Maanantain Sählyryhmä
DESCRIPTION:Syyskausi 1.9.-8.12.2025 maanantaisin kello 18-19 \n70€/lukukausi. Jos käy vain kerran kokeilemassa\, niin maksu palautetaan. \nIlmoittaudu uudenmaan.aivovammayhdistys@gmail.com. \nKuntoutuskeskus Synapsia | Validia
URL:https://aivovammayhdistykset.fi/tapahtuma/maanantain-sahlyryhma-2/
LOCATION:Validia kuntoutus\, Nordenskiöldinkatu 18 B\, Helsinki\, 00250\, Suomi
CATEGORIES:AVY Aivovammayhdistys ry,Uudenmaan Aivovammayhdistys ry
END:VEVENT
BEGIN:VEVENT
DTSTART;TZID=Europe/Helsinki:20250917T103000
DTEND;TZID=Europe/Helsinki:20250917T113000
DTSTAMP:20260423T015243
CREATED:20250915T161109Z
LAST-MODIFIED:20250915T161109Z
UID:17375-1758105000-1758108600@aivovammayhdistykset.fi
SUMMARY:Liikuntaryhmä
DESCRIPTION:Uutta!! Lempeää\, kehoa huoltavaa hathajoogaa\nOuluhallin liikuntasalissa (lohko A1) 17.9 klo 10.30-\n11.30. Portista pääsee koodilla 20856# puoli tuntia\nennen tunnin alkua. Ohjaaja Juha Sarviaho. Maksuton.\nTämä jooga sopii kaikille. Tervetuloa rohkeasti mukaan!\nLiikuntahallilta löytyy jumppamattoja\, mutta jos sinulla on oma\, ota\nmukaan. Lisätietoja Auli Ollila\, p. 050 548 4420
URL:https://aivovammayhdistykset.fi/tapahtuma/liikuntaryhma/
CATEGORIES:Oulun Seudun Aivovammayhdistys ry
END:VEVENT
BEGIN:VEVENT
DTSTART;TZID=Europe/Helsinki:20250917T130000
DTEND;TZID=Europe/Helsinki:20250917T170000
DTSTAMP:20260423T015243
CREATED:20250910T090254Z
LAST-MODIFIED:20250910T090254Z
UID:17340-1758114000-1758128400@aivovammayhdistykset.fi
SUMMARY:VYT:N SYYSTEMPAUS
DESCRIPTION:
URL:https://aivovammayhdistykset.fi/tapahtuma/vytn-syystempaus/
LOCATION:Meriristi Rauma
END:VEVENT
BEGIN:VEVENT
DTSTART;TZID=Europe/Helsinki:20250917T153000
DTEND;TZID=Europe/Helsinki:20250917T170000
DTSTAMP:20260423T015243
CREATED:20250516T114611Z
LAST-MODIFIED:20250728T070245Z
UID:16766-1758123000-1758128400@aivovammayhdistykset.fi
SUMMARY:Nuoret Aikuiset
DESCRIPTION:Tule mukaan nuorten aikuisten rentoon vertaistapaamiseen keskiviikkoisin 17.9. klo 15.30-17 kahvila Iso-Ilmari (Huovisen leipomo) os. 16. Tapaaminen on tarkoitettu nuorille ja nuorille aikuisille.Yhdistys tarjoaa pullakahvit.
URL:https://aivovammayhdistykset.fi/tapahtuma/nuoret-aikuiset-19/
CATEGORIES:Oulun Seudun Aivovammayhdistys ry
END:VEVENT
END:VCALENDAR