BEGIN:VCALENDAR
VERSION:2.0
PRODID:-//Aivovammayhdistykset - ECPv6.15.18//NONSGML v1.0//EN
CALSCALE:GREGORIAN
METHOD:PUBLISH
X-ORIGINAL-URL:https://aivovammayhdistykset.fi
X-WR-CALDESC:Tapahtumat Aivovammayhdistykset
REFRESH-INTERVAL;VALUE=DURATION:PT1H
X-Robots-Tag:noindex
X-PUBLISHED-TTL:PT1H
BEGIN:VTIMEZONE
TZID:Europe/Helsinki
BEGIN:DAYLIGHT
TZOFFSETFROM:+0200
TZOFFSETTO:+0300
TZNAME:EEST
DTSTART:20230326T010000
END:DAYLIGHT
BEGIN:STANDARD
TZOFFSETFROM:+0300
TZOFFSETTO:+0200
TZNAME:EET
DTSTART:20231029T010000
END:STANDARD
BEGIN:DAYLIGHT
TZOFFSETFROM:+0200
TZOFFSETTO:+0300
TZNAME:EEST
DTSTART:20240331T010000
END:DAYLIGHT
BEGIN:STANDARD
TZOFFSETFROM:+0300
TZOFFSETTO:+0200
TZNAME:EET
DTSTART:20241027T010000
END:STANDARD
BEGIN:DAYLIGHT
TZOFFSETFROM:+0200
TZOFFSETTO:+0300
TZNAME:EEST
DTSTART:20250330T010000
END:DAYLIGHT
BEGIN:STANDARD
TZOFFSETFROM:+0300
TZOFFSETTO:+0200
TZNAME:EET
DTSTART:20251026T010000
END:STANDARD
END:VTIMEZONE
BEGIN:VEVENT
DTSTART;TZID=Europe/Helsinki:20240902T120000
DTEND;TZID=Europe/Helsinki:20240902T130000
DTSTAMP:20260423T015244
CREATED:20240826T105135Z
LAST-MODIFIED:20240826T105135Z
UID:15424-1725278400-1725282000@aivovammayhdistykset.fi
SUMMARY:Keilausta Raision keilailukeskuksella.
DESCRIPTION:Yhdistys järjestää keilailua Raision keilailukeskuksella joka maanantai ajalla 2.9 – 25.11.2024 klo. 12.00-13.00 \nRatoja on varattu 2 kpl. ja mukaan mahtuu 8 henkilö. Kenkä vuokra on yhden euron / kerta\, mutta muutokset mahdollisia. \nTervetuloa.
URL:https://aivovammayhdistykset.fi/tapahtuma/keilausta-raision-keilailukeskuksella/
CATEGORIES:Varsinais-Suomen aivovammayhdistys ry
END:VEVENT
BEGIN:VEVENT
DTSTART;TZID=Europe/Helsinki:20240903T180000
DTEND;TZID=Europe/Helsinki:20240903T200000
DTSTAMP:20260423T015244
CREATED:20240826T112555Z
LAST-MODIFIED:20240826T112555Z
UID:15435-1725386400-1725393600@aivovammayhdistykset.fi
SUMMARY:Jäsenilta Happy House
DESCRIPTION:Tervetuloa yhdistyksen jäseniltaan 3.9.2024 klo. 18.00 \nJäsenillassa käydään läpi yhdistyksen syksyn ohjelma 2024\, sekä muut ajankohtaiset asiat.
URL:https://aivovammayhdistykset.fi/tapahtuma/jasenilta-happy-house/
CATEGORIES:Varsinais-Suomen aivovammayhdistys ry
END:VEVENT
BEGIN:VEVENT
DTSTART;TZID=Europe/Helsinki:20240909T120000
DTEND;TZID=Europe/Helsinki:20240909T130000
DTSTAMP:20260423T015244
CREATED:20240826T105516Z
LAST-MODIFIED:20240826T105516Z
UID:15427-1725883200-1725886800@aivovammayhdistykset.fi
SUMMARY:Keilausta Raision keilailukeskuksella.
DESCRIPTION:Yhdistys järjestää keilailua Raision keilailukeskuksella joka maanantai ajalla 2.9 – 25.11.2024 klo. 12.00-13.00\nRatoja on varattu 2 kpl. ja mukaan mahtuu 8 henkilö. Kenkä vuokra on yhden euron / kerta\, mutta muutokset mahdollisia.\nTervetuloa.
URL:https://aivovammayhdistykset.fi/tapahtuma/keilausta-raision-keilailukeskuksella-2/
CATEGORIES:Varsinais-Suomen aivovammayhdistys ry
END:VEVENT
BEGIN:VEVENT
DTSTART;TZID=Europe/Helsinki:20240910T120000
DTEND;TZID=Europe/Helsinki:20240910T130000
DTSTAMP:20260423T015244
CREATED:20240402T131317Z
LAST-MODIFIED:20240402T131317Z
UID:14954-1725969600-1725973200@aivovammayhdistykset.fi
SUMMARY:Keilaus
DESCRIPTION:Keilaus\nYhdistys on varannut jäsentemme käyttöön kaksi keilarataa tiistaisin  10.9  klo 12.00-13.00 Oulun Keilahallilta os. Isokatu 97\, esteetön tila ja jäsenille maksuton.\nKenkävuokra 2 € on omakustanteinen.
URL:https://aivovammayhdistykset.fi/tapahtuma/keilaus-120/
CATEGORIES:Oulun Seudun Aivovammayhdistys ry
END:VEVENT
BEGIN:VEVENT
DTSTART;TZID=Europe/Helsinki:20240911T140000
DTEND;TZID=Europe/Helsinki:20240911T160000
DTSTAMP:20260423T015244
CREATED:20240728T084535Z
LAST-MODIFIED:20240728T084945Z
UID:15334-1726063200-1726070400@aivovammayhdistykset.fi
SUMMARY:Nuoret aikuiset
DESCRIPTION:Tule mukaan nuorten rentoon vertaistapaamiseen. Tapaaminen on tarkoitettu nuorille ja nuorille aikuisille\, joilla on aivovamma.\nKe 11.9. klo 14-16 Cafe LillaRoosa\, os. Myllytie 11 (Tuira). Yhdistys tarjoaa pullakahvit.\nHuom! Paikka ja aika muuttunut.\nLisätietoja yhdistyksen puheenjohtajalta: Eila Sääskö\, puh. 040 765 6989\, eila.saasko@gmail.com
URL:https://aivovammayhdistykset.fi/tapahtuma/nuoret-aikuiset-12/
CATEGORIES:Oulun Seudun Aivovammayhdistys ry
END:VEVENT
BEGIN:VEVENT
DTSTART;TZID=Europe/Helsinki:20240912T160000
DTEND;TZID=Europe/Helsinki:20240912T180000
DTSTAMP:20260423T015244
CREATED:20240904T064908Z
LAST-MODIFIED:20240904T064908Z
UID:15487-1726156800-1726164000@aivovammayhdistykset.fi
SUMMARY:SYYSKUUN Jäsentapaaminen torstaina 12.9. klo.16.00
DESCRIPTION:Tapaamme torstaina 12.9. klo.16.00 S.Q.B. Centerissä Urheilupuisto 5 Seinäjoki\nkeilauksen merkeissä.\nMeille tulossa ”kilpakumppaneiksi” kuuden hengen ryhmä Oulunseudun Aivovammayhdistyksestä!\nKeilauksen päätteeksi tarjolla pullakahvit.\nTERVETULOA MUKAAN!
URL:https://aivovammayhdistykset.fi/tapahtuma/syyskuun-jasentapaaminen-torstaina-12-9-klo-16-00/
LOCATION:S.Q.B. Center Seinäjoki\, Urheilupuisto 4\, Seinäjoki\, 60100\, Suomi
CATEGORIES:Etelä-Pohjanmaan aivovammayhdistys ry
END:VEVENT
BEGIN:VEVENT
DTSTART;TZID=Europe/Helsinki:20240916T120000
DTEND;TZID=Europe/Helsinki:20240916T130000
DTSTAMP:20260423T015244
CREATED:20240826T105842Z
LAST-MODIFIED:20240826T105842Z
UID:15429-1726488000-1726491600@aivovammayhdistykset.fi
SUMMARY:Keilausta Raision keilailukeskuksella.
DESCRIPTION:Yhdistys järjestää keilailua Raision keilailukeskuksella joka maanantai ajalla 2.9 – 25.11.2024 klo. 12.00-13.00\nRatoja on varattu 2 kpl. ja mukaan mahtuu 8 henkilö. Kenkä vuokra on yhden euron / kerta\, mutta muutokset mahdollisia.\nTervetuloa.
URL:https://aivovammayhdistykset.fi/tapahtuma/keilausta-raision-keilailukeskuksella-3/
CATEGORIES:Varsinais-Suomen aivovammayhdistys ry
END:VEVENT
BEGIN:VEVENT
DTSTART;TZID=Europe/Helsinki:20240917T180000
DTEND;TZID=Europe/Helsinki:20240917T200000
DTSTAMP:20260423T015244
CREATED:20240826T113325Z
LAST-MODIFIED:20240826T113325Z
UID:15437-1726596000-1726603200@aivovammayhdistykset.fi
SUMMARY:Jäsenilta Happy House
DESCRIPTION:Jäsenilta 17.9. 2024 klo.18.00 \nEpilepsiayhdistyksen kokemustoimija tulee paikalle kertomaan omakohtaisen kokemuksen epilepsiasta. \nTervetuloa.
URL:https://aivovammayhdistykset.fi/tapahtuma/jasenilta-happy-house-2/
CATEGORIES:Varsinais-Suomen aivovammayhdistys ry
END:VEVENT
BEGIN:VEVENT
DTSTART;TZID=Europe/Helsinki:20240920T180000
DTEND;TZID=Europe/Helsinki:20240922T130000
DTSTAMP:20260423T015244
CREATED:20240625T153719Z
LAST-MODIFIED:20240625T154228Z
UID:15254-1726855200-1727010000@aivovammayhdistykset.fi
SUMMARY:Virkistysviikonloppu!
DESCRIPTION:Aivovammaleiri:\nMeren aalloilla \n20.-22.9. 2028 Sinapin leirikeskuksessa \nVsavy järjestää yhteistyössä seurakuntien vammaistyön kanssa\nvirkistysviikonlopun Sinapin leirikeskuksessa meren rannalla \n20.-22.9.2024. Paikkoja on rajatusti. \nLeirillä majoittaudutaan 2 hengen huoneissa. Leiri alkaa\nperjantaina klo 18 ja päättyy sunnuntaina klo 13. Hinta 75e sis. \nruuan\, majoituksen liinavaattein ja ohjelman.\nAivovammaleiri:\nMeren aalloilla \n20.-22.9. 2028 Sinapin leirikeskuksessa \nLeirin teemana on Meren aalloilla. Ohjelmassa on toisiimme\ntutustumista\, merellistä musiikkia\, ohjelmahetkiä. Päivien\naikana on eri tilanteissa mahdollisuus ulkoilla ja nauttia\nmerestä\, yhdessä olosta ja myös omasta rauhasta.\nLisätiedot yhdistyksestä tai Tanja Rantapere p.040-341 7244 \ntai tanja.rantapere@evl.fi \nIlmoittaudu\n30.8.2024\nmennessä.
URL:https://aivovammayhdistykset.fi/tapahtuma/15254/
CATEGORIES:Varsinais-Suomen aivovammayhdistys ry
END:VEVENT
BEGIN:VEVENT
DTSTART;TZID=Europe/Helsinki:20240923T120000
DTEND;TZID=Europe/Helsinki:20240923T130000
DTSTAMP:20260423T015244
CREATED:20240826T110310Z
LAST-MODIFIED:20240826T110310Z
UID:15431-1727092800-1727096400@aivovammayhdistykset.fi
SUMMARY:Keilausta Raision keilailukeskuksella.
DESCRIPTION:Yhdistys järjestää keilailua Raision keilailukeskuksella joka maanantai ajalla 2.9 – 25.11.2024 klo. 12.00-13.00\nRatoja on varattu 2 kpl. ja mukaan mahtuu 8 henkilö. Kenkä vuokra on yhden euron / kerta\, mutta muutokset mahdollisia.\nTervetuloa.
URL:https://aivovammayhdistykset.fi/tapahtuma/keilausta-raision-keilailukeskuksella-4/
CATEGORIES:Varsinais-Suomen aivovammayhdistys ry
END:VEVENT
BEGIN:VEVENT
DTSTART;TZID=Europe/Helsinki:20240924T120000
DTEND;TZID=Europe/Helsinki:20240924T130000
DTSTAMP:20260423T015244
CREATED:20240402T131406Z
LAST-MODIFIED:20240402T131406Z
UID:14956-1727179200-1727182800@aivovammayhdistykset.fi
SUMMARY:Keilaus
DESCRIPTION:Keilaus\nYhdistys on varannut jäsentemme käyttöön kaksi keilarataa tiistaisin  24.9  klo 12.00-13.00 Oulun Keilahallilta os. Isokatu 97\, esteetön tila ja jäsenille maksuton.\nKenkävuokra 2 € on omakustanteinen.
URL:https://aivovammayhdistykset.fi/tapahtuma/keilaus-121/
CATEGORIES:Oulun Seudun Aivovammayhdistys ry
END:VEVENT
BEGIN:VEVENT
DTSTART;TZID=Europe/Helsinki:20240925T150000
DTEND;TZID=Europe/Helsinki:20240925T170000
DTSTAMP:20260423T015244
CREATED:20240402T130224Z
LAST-MODIFIED:20240916T113312Z
UID:14936-1727276400-1727283600@aivovammayhdistykset.fi
SUMMARY:Vertaistapaaminen
DESCRIPTION:Vertaistapaamiset ke 25.9. klo 15-17 Kumppanuuskeskus kokoustila Resiina 1. kerros\, os. Kansankatu 53\, sisäänkäynti Vanhantullinkadun puolelta. Huom! Paikka on muuttunut.\nYhdistys tarjoaa pullakahvit.\nTervetuloa!
URL:https://aivovammayhdistykset.fi/tapahtuma/vertaistapaaminen/
CATEGORIES:Oulun Seudun Aivovammayhdistys ry
END:VEVENT
BEGIN:VEVENT
DTSTART;TZID=Europe/Helsinki:20240930T120000
DTEND;TZID=Europe/Helsinki:20240930T130000
DTSTAMP:20260423T015244
CREATED:20240826T110506Z
LAST-MODIFIED:20240826T110506Z
UID:15433-1727697600-1727701200@aivovammayhdistykset.fi
SUMMARY:Keilausta Raision keilailukeskuksella.
DESCRIPTION:Yhdistys järjestää keilailua Raision keilailukeskuksella joka maanantai ajalla 2.9 – 25.11.2024 klo. 12.00-13.00\nRatoja on varattu 2 kpl. ja mukaan mahtuu 8 henkilö. Kenkä vuokra on yhden euron / kerta\, mutta muutokset mahdollisia.\nTervetuloa.
URL:https://aivovammayhdistykset.fi/tapahtuma/keilausta-raision-keilailukeskuksella-5/
CATEGORIES:Varsinais-Suomen aivovammayhdistys ry
END:VEVENT
BEGIN:VEVENT
DTSTART;TZID=Europe/Helsinki:20241001T180000
DTEND;TZID=Europe/Helsinki:20241001T200000
DTSTAMP:20260423T015244
CREATED:20240826T121241Z
LAST-MODIFIED:20240826T121241Z
UID:15449-1727805600-1727812800@aivovammayhdistykset.fi
SUMMARY:Jäsenilta Happy House
DESCRIPTION:Jäsenilta 1.10.2024 klo. 18.00
URL:https://aivovammayhdistykset.fi/tapahtuma/jasenilta-happy-house-3/
CATEGORIES:Varsinais-Suomen aivovammayhdistys ry
END:VEVENT
BEGIN:VEVENT
DTSTART;TZID=Europe/Helsinki:20241003T140000
DTEND;TZID=Europe/Helsinki:20241003T153000
DTSTAMP:20260423T015244
CREATED:20240926T134408Z
LAST-MODIFIED:20240926T134408Z
UID:15599-1727964000-1727969400@aivovammayhdistykset.fi
SUMMARY:Vertaistuki tapaaminen!
DESCRIPTION:Naisten ryhmä ja Karjukerho kokoontuvat tuttuuntapaan Happy Housessa Torstaina klo. 14.00 – 15.30 \nTervetuloa!
URL:https://aivovammayhdistykset.fi/tapahtuma/vertaistuki-tapaaminen/
CATEGORIES:Varsinais-Suomen aivovammayhdistys ry
END:VEVENT
BEGIN:VEVENT
DTSTART;TZID=Europe/Helsinki:20241003T160000
DTEND;TZID=Europe/Helsinki:20241003T170000
DTSTAMP:20260423T015244
CREATED:20240807T154937Z
LAST-MODIFIED:20240807T154937Z
UID:15380-1727971200-1727974800@aivovammayhdistykset.fi
SUMMARY:Tasapainoryhmä
DESCRIPTION:Tasapainoryhmä UUSI RYHMÄ!\n\nRyhmässä on tasapainoharjoitusten lisäksi myös voimaharjoituksia.Tunnit räätälöidään osallistujien mukaan.\nPaikka: Oulun uimahallin liikuntasali\, os. Pikkukankaantie 3.\nAika: torstaisin 3.10.\, 10.10.\, 17.10.\, 24.10. ja 31.10. klo 16-17. Ohjaajana ertyisliikunnanohjaaja Anne Utriainen. Jäsenille maksuton ja tila esteetön.\nTule rohkeasti mukaan! Tervetuloa yhdelle tai vaikka kaikille kerroille\, niin kuin sinulle sopii.\nLisätietoja Eila Sääskö puh. 040 765 6989 tai eila.saasko@gmail.com
URL:https://aivovammayhdistykset.fi/tapahtuma/tasapainoryhma/
CATEGORIES:Oulun Seudun Aivovammayhdistys ry
END:VEVENT
BEGIN:VEVENT
DTSTART;TZID=Europe/Helsinki:20241007T120000
DTEND;TZID=Europe/Helsinki:20241007T130000
DTSTAMP:20260423T015244
CREATED:20240826T114359Z
LAST-MODIFIED:20240826T114359Z
UID:15439-1728302400-1728306000@aivovammayhdistykset.fi
SUMMARY:Keilausta Raision keilailukeskuksella.
DESCRIPTION:Yhdistys järjestää keilailua Raision keilailukeskuksella joka maanantai ajalla 2.9 – 25.11.2024 klo. 12.00-13.00\nRatoja on varattu 2 kpl. ja mukaan mahtuu 8 henkilö. Kenkä vuokra on yhden euron / kerta\, mutta muutokset mahdollisia.\nTervetuloa.
URL:https://aivovammayhdistykset.fi/tapahtuma/keilausta-raision-keilailukeskuksella-6/
END:VEVENT
BEGIN:VEVENT
DTSTART;TZID=Europe/Helsinki:20241007T130000
DTEND;TZID=Europe/Helsinki:20241007T130000
DTSTAMP:20260423T015244
CREATED:20240826T120312Z
LAST-MODIFIED:20240826T120312Z
UID:15443-1728306000-1728306000@aivovammayhdistykset.fi
SUMMARY:Keilausta Raision keilailukeskuksella.
DESCRIPTION:Yhdistys järjestää keilailua Raision keilailukeskuksella joka maanantai ajalla 2.9 – 25.11.2024 klo. 12.00-13.00\nRatoja on varattu 2 kpl. ja mukaan mahtuu 8 henkilö. Kenkä vuokra on yhden euron / kerta\, mutta muutokset mahdollisia.\nTervetuloa.
URL:https://aivovammayhdistykset.fi/tapahtuma/keilausta-raision-keilailukeskuksella-8/
CATEGORIES:Varsinais-Suomen aivovammayhdistys ry
END:VEVENT
BEGIN:VEVENT
DTSTART;TZID=Europe/Helsinki:20241008T120000
DTEND;TZID=Europe/Helsinki:20241008T130000
DTSTAMP:20260423T015244
CREATED:20240728T083343Z
LAST-MODIFIED:20240728T083343Z
UID:15321-1728388800-1728392400@aivovammayhdistykset.fi
SUMMARY:Keilaus
DESCRIPTION:Yhdistys on varannut jäsentemme käyttöön kaksi keilarataa tiistaisin  8.10 klo 12.00-13.00 Oulun Keilahallilta os. Isokatu 97\, esteetön tila ja jäsenille maksuton.\nKenkävuokra 2 € on omakustanteinen.\n\n\n\n\n Lisää kalenteriin
URL:https://aivovammayhdistykset.fi/tapahtuma/keilaus-122/
CATEGORIES:Oulun Seudun Aivovammayhdistys ry
END:VEVENT
BEGIN:VEVENT
DTSTART;TZID=Europe/Helsinki:20241010T160000
DTEND;TZID=Europe/Helsinki:20241010T170000
DTSTAMP:20260423T015244
CREATED:20240807T155251Z
LAST-MODIFIED:20240807T155251Z
UID:15382-1728576000-1728579600@aivovammayhdistykset.fi
SUMMARY:Tasapainoryhmä
DESCRIPTION:Tasapainoryhmä UUSI RYHMÄ!\n\nRyhmässä on tasapainoharjoitusten lisäksi myös voimaharjoituksia.Tunnit räätälöidään osallistujien mukaan.\nPaikka: Oulun uimahallin liikuntasali\, os. Pikkukankaantie 3.\nAika: torstaisin 10.10.\, 17.10.\, 24.10. ja 31.10. klo 16-17. Ohjaajana ertyisliikunnanohjaaja Anne Utriainen. Jäsenille maksuton ja tila esteetön.\nTule rohkeasti mukaan! Tervetuloa yhdelle tai vaikka kaikille kerroille\, niin kuin sinulle sopii.\nLisätietoja Eila Sääskö puh. 040 765 6989 tai eila.saasko@gmail.com
URL:https://aivovammayhdistykset.fi/tapahtuma/tasapainoryhma-2/
CATEGORIES:Oulun Seudun Aivovammayhdistys ry
END:VEVENT
BEGIN:VEVENT
DTSTART;TZID=Europe/Helsinki:20241012T130000
DTEND;TZID=Europe/Helsinki:20241012T150000
DTSTAMP:20260423T015244
CREATED:20240728T082542Z
LAST-MODIFIED:20240728T082542Z
UID:15316-1728738000-1728745200@aivovammayhdistykset.fi
SUMMARY:Syyskokous
DESCRIPTION:La 12.10. klo 13.00-15.00. Yhdistyksen sääntömääräinen syyskokous.\nPaikka: Kumppanuuskeskus\, kokoustila Asema\, 2.kerros os. Kansankatu 53\, Oulu\, sisäänkäynti Vanhantullinkadun puolelta.\nKahvitarjoilu. Tervetuloa!
URL:https://aivovammayhdistykset.fi/tapahtuma/syyskokous-5/
CATEGORIES:Oulun Seudun Aivovammayhdistys ry
END:VEVENT
BEGIN:VEVENT
DTSTART;TZID=Europe/Helsinki:20241014T120000
DTEND;TZID=Europe/Helsinki:20241014T130000
DTSTAMP:20260423T015244
CREATED:20240826T114702Z
LAST-MODIFIED:20240826T114702Z
UID:15441-1728907200-1728910800@aivovammayhdistykset.fi
SUMMARY:Keilausta Raision keilailukeskuksella.
DESCRIPTION:Yhdistys järjestää keilailua Raision keilailukeskuksella joka maanantai ajalla 2.9 – 25.11.2024 klo. 12.00-13.00\nRatoja on varattu 2 kpl. ja mukaan mahtuu 8 henkilö. Kenkä vuokra on yhden euron / kerta\, mutta muutokset mahdollisia.\nTervetuloa.
URL:https://aivovammayhdistykset.fi/tapahtuma/keilausta-raision-keilailukeskuksella-7/
CATEGORIES:Varsinais-Suomen aivovammayhdistys ry
END:VEVENT
BEGIN:VEVENT
DTSTART;TZID=Europe/Helsinki:20241015T163000
DTEND;TZID=Europe/Helsinki:20241016T190000
DTSTAMP:20260423T015244
CREATED:20241005T113618Z
LAST-MODIFIED:20241005T113618Z
UID:15646-1729009800-1729105200@aivovammayhdistykset.fi
SUMMARY:Arjen aivoterveysteot unta rakentamassa
DESCRIPTION:Tilaisuus Kankaanpäässä 15.10.24  klo 16.30 kahvitarjoilu ja luento klo 17-19.00 Kankaanpääsalissa\, Kangasmoisionkatu 1.\nJa\nPorissa 16.10.24 klo 16.30 kahvitarjoilu ja luento klo  17-19.00 Viikkarin Valkamassa/Ailav\, Juhana Herttuankatu 17.\nAivoliitto ry\, asiantuntijoina: Kirsi Lukka-Aro ja Sanna Reuna.\nTERVETULOA!
URL:https://aivovammayhdistykset.fi/tapahtuma/arjen-aivoterveysteot-unta-rakentamassa/
CATEGORIES:Kankaanpää,Pori,Rauma,Satakunnan aivovammayhdistys ry
END:VEVENT
BEGIN:VEVENT
DTSTART;TZID=Europe/Helsinki:20241015T180000
DTEND;TZID=Europe/Helsinki:20241015T200000
DTSTAMP:20260423T015244
CREATED:20240826T121757Z
LAST-MODIFIED:20240826T121757Z
UID:15451-1729015200-1729022400@aivovammayhdistykset.fi
SUMMARY:Jäsenilta Happy House
DESCRIPTION:Jäsenilta 15.10.2024 Klo. 18.00 \nPaikalla Diakoni Tanja Rantapere
URL:https://aivovammayhdistykset.fi/tapahtuma/jasenilta-happy-house-4/
CATEGORIES:Varsinais-Suomen aivovammayhdistys ry
END:VEVENT
BEGIN:VEVENT
DTSTART;TZID=Europe/Helsinki:20241017T160000
DTEND;TZID=Europe/Helsinki:20241017T170000
DTSTAMP:20260423T015244
CREATED:20240807T155508Z
LAST-MODIFIED:20240807T155508Z
UID:15387-1729180800-1729184400@aivovammayhdistykset.fi
SUMMARY:Tasapainoryhmä
DESCRIPTION:Tasapainoryhmä UUSI RYHMÄ!\n\nRyhmässä on tasapainoharjoitusten lisäksi myös voimaharjoituksia.Tunnit räätälöidään osallistujien mukaan.\nPaikka: Oulun uimahallin liikuntasali\, os. Pikkukankaantie 3.\nAika: torstaisin 17.10.\, 24.10. ja 31.10. klo 16-17. Ohjaajana ertyisliikunnanohjaaja Anne Utriainen. Jäsenille maksuton ja tila esteetön.\nTule rohkeasti mukaan! Tervetuloa yhdelle tai vaikka kaikille kerroille\, niin kuin sinulle sopii.\nLisätietoja Eila Sääskö puh. 040 765 6989 tai eila.saasko@gmail.com
URL:https://aivovammayhdistykset.fi/tapahtuma/tasapainoryhma-3/
CATEGORIES:Oulun Seudun Aivovammayhdistys ry
END:VEVENT
BEGIN:VEVENT
DTSTART;TZID=Europe/Helsinki:20241021T120000
DTEND;TZID=Europe/Helsinki:20241021T130000
DTSTAMP:20260423T015244
CREATED:20240826T120502Z
LAST-MODIFIED:20240826T120502Z
UID:15445-1729512000-1729515600@aivovammayhdistykset.fi
SUMMARY:Keilausta Raision keilailukeskuksella.
DESCRIPTION:Yhdistys järjestää keilailua Raision keilailukeskuksella joka maanantai ajalla 2.9 – 25.11.2024 klo. 12.00-13.00\nRatoja on varattu 2 kpl. ja mukaan mahtuu 8 henkilö. Kenkä vuokra on yhden euron / kerta\, mutta muutokset mahdollisia.\nTervetuloa.
URL:https://aivovammayhdistykset.fi/tapahtuma/keilausta-raision-keilailukeskuksella-9/
CATEGORIES:Varsinais-Suomen aivovammayhdistys ry
END:VEVENT
BEGIN:VEVENT
DTSTART;TZID=Europe/Helsinki:20241022T120000
DTEND;TZID=Europe/Helsinki:20241022T130000
DTSTAMP:20260423T015244
CREATED:20240728T083429Z
LAST-MODIFIED:20240728T083429Z
UID:15323-1729598400-1729602000@aivovammayhdistykset.fi
SUMMARY:Keilaus
DESCRIPTION:Yhdistys on varannut jäsentemme käyttöön kaksi keilarataa tiistaisin  22.10 klo 12.00-13.00 Oulun Keilahallilta os. Isokatu 97\, esteetön tila ja jäsenille maksuton.\nKenkävuokra 2 € on omakustanteinen.\n\n\n\n\n Lisää kalenteriin
URL:https://aivovammayhdistykset.fi/tapahtuma/keilaus-123/
CATEGORIES:Oulun Seudun Aivovammayhdistys ry
END:VEVENT
BEGIN:VEVENT
DTSTART;TZID=Europe/Helsinki:20241024T160000
DTEND;TZID=Europe/Helsinki:20241024T170000
DTSTAMP:20260423T015244
CREATED:20240807T155559Z
LAST-MODIFIED:20240807T155559Z
UID:15389-1729785600-1729789200@aivovammayhdistykset.fi
SUMMARY:Tasapainoryhmä
DESCRIPTION:Tasapainoryhmä UUSI RYHMÄ!\n\nRyhmässä on tasapainoharjoitusten lisäksi myös voimaharjoituksia.Tunnit räätälöidään osallistujien mukaan.\nPaikka: Oulun uimahallin liikuntasali\, os. Pikkukankaantie 3.\nAika: torstaisin 24.10. ja 31.10. klo 16-17. Ohjaajana ertyisliikunnanohjaaja Anne Utriainen. Jäsenille maksuton ja tila esteetön.\nTule rohkeasti mukaan! Tervetuloa yhdelle tai vaikka kaikille kerroille\, niin kuin sinulle sopii.\nLisätietoja Eila Sääskö puh. 040 765 6989 tai eila.saasko@gmail.com
URL:https://aivovammayhdistykset.fi/tapahtuma/tasapainoryhma-4/
CATEGORIES:Oulun Seudun Aivovammayhdistys ry
END:VEVENT
BEGIN:VEVENT
DTSTART;TZID=Europe/Helsinki:20241028T120000
DTEND;TZID=Europe/Helsinki:20241028T130000
DTSTAMP:20260423T015244
CREATED:20240826T120712Z
LAST-MODIFIED:20240826T120712Z
UID:15447-1730116800-1730120400@aivovammayhdistykset.fi
SUMMARY:Keilausta Raision keilailukeskuksella.
DESCRIPTION:Yhdistys järjestää keilailua Raision keilailukeskuksella joka maanantai ajalla 2.9 – 25.11.2024 klo. 12.00-13.00\nRatoja on varattu 2 kpl. ja mukaan mahtuu 8 henkilö. Kenkä vuokra on yhden euron / kerta\, mutta muutokset mahdollisia.\nTervetuloa.
URL:https://aivovammayhdistykset.fi/tapahtuma/keilausta-raision-keilailukeskuksella-10/
CATEGORIES:Varsinais-Suomen aivovammayhdistys ry
END:VEVENT
BEGIN:VEVENT
DTSTART;TZID=Europe/Helsinki:20241030T150000
DTEND;TZID=Europe/Helsinki:20241030T170000
DTSTAMP:20260423T015244
CREATED:20240728T082305Z
LAST-MODIFIED:20240916T113341Z
UID:15312-1730300400-1730307600@aivovammayhdistykset.fi
SUMMARY:Vertaistapaaminen
DESCRIPTION:Vertaistapaamiset ke 30.10. klo 15-17 Kumppanuuskeskus kokoustila Resiina 1. kerros\, os. Kansankatu 53\, sisäänkäynti Vanhantullinkadun puolelta. Huom! Paikka on muuttunut.\nYhdistys tarjoaa pullakahvit.\nTervetuloa!
URL:https://aivovammayhdistykset.fi/tapahtuma/vertaistapaaminen-2/
CATEGORIES:Oulun Seudun Aivovammayhdistys ry
END:VEVENT
END:VCALENDAR