BEGIN:VCALENDAR
VERSION:2.0
PRODID:-//Aivovammayhdistykset - ECPv6.15.18//NONSGML v1.0//EN
CALSCALE:GREGORIAN
METHOD:PUBLISH
X-WR-CALNAME:Aivovammayhdistykset
X-ORIGINAL-URL:https://aivovammayhdistykset.fi
X-WR-CALDESC:Tapahtumat Aivovammayhdistykset
REFRESH-INTERVAL;VALUE=DURATION:PT1H
X-Robots-Tag:noindex
X-PUBLISHED-TTL:PT1H
BEGIN:VTIMEZONE
TZID:Europe/Helsinki
BEGIN:DAYLIGHT
TZOFFSETFROM:+0200
TZOFFSETTO:+0300
TZNAME:EEST
DTSTART:20250330T010000
END:DAYLIGHT
BEGIN:STANDARD
TZOFFSETFROM:+0300
TZOFFSETTO:+0200
TZNAME:EET
DTSTART:20251026T010000
END:STANDARD
BEGIN:DAYLIGHT
TZOFFSETFROM:+0200
TZOFFSETTO:+0300
TZNAME:EEST
DTSTART:20260329T010000
END:DAYLIGHT
BEGIN:STANDARD
TZOFFSETFROM:+0300
TZOFFSETTO:+0200
TZNAME:EET
DTSTART:20261025T010000
END:STANDARD
BEGIN:DAYLIGHT
TZOFFSETFROM:+0200
TZOFFSETTO:+0300
TZNAME:EEST
DTSTART:20270328T010000
END:DAYLIGHT
BEGIN:STANDARD
TZOFFSETFROM:+0300
TZOFFSETTO:+0200
TZNAME:EET
DTSTART:20271031T010000
END:STANDARD
END:VTIMEZONE
BEGIN:VEVENT
DTSTART;TZID=Europe/Helsinki:20260609T150000
DTEND;TZID=Europe/Helsinki:20260609T160000
DTSTAMP:20260421T231129
CREATED:20260219T154028Z
LAST-MODIFIED:20260219T154028Z
UID:18106-1781017200-1781020800@aivovammayhdistykset.fi
SUMMARY:Keilaus
DESCRIPTION:Yhdistys on varannut jäsentemme käyttöön kaksi keilarataa tiistaisin  9.6. klo 15.00-16.00 Oulun Keilahalli\, os. Isokatu 97. \nHeinäkuu kesätauolla. Keilaus on jäsenille maksuton ja tila on esteetön. Kenkävuokra 2€ on omakustanteinen.
URL:https://aivovammayhdistykset.fi/tapahtuma/keilaus-206/
CATEGORIES:Oulun Seudun Aivovammayhdistys ry
END:VEVENT
BEGIN:VEVENT
DTSTART;TZID=Europe/Helsinki:20260609T160000
DTEND;TZID=Europe/Helsinki:20260609T200000
DTSTAMP:20260421T231129
CREATED:20251231T131519Z
LAST-MODIFIED:20251231T131519Z
UID:17845-1781020800-1781035200@aivovammayhdistykset.fi
SUMMARY:Kevätkauden päättäjäiset
DESCRIPTION:Vietetään alkukesän iltapäivä rennosti kevätkauden päättäjäisten merkeissä Siikaniemen kurssikeskuksessa\, Siikaniementie 210\, Kutajärvi. Nautitaan pizaaa ja salaattia\, päälle vielä kahvit ja suu makeaksi. Sauna on kuumana ja järvi kylmänä. Ota uimapuku ja pyyhe mukaan. \nJäsenhinta 10 €\, avustajat 5 €\, muut 15 €. \nIlmoittaudu Karille viimeistään 22.5. ja kerro mahdolliset ruoka-aineallergiat. Puh. 040 828 0906 tai info.phavy@gmail.com.\nMaksa osallistumisesi 22.5. mennessä tilille PH-aivovammayhdistys FI15 4212 0010 1321 95. Käytä viitettä 1410. \n 
URL:https://aivovammayhdistykset.fi/tapahtuma/kevatkauden-paattajaiset-5/
LOCATION:Siikaniemen kurssikeskus\, Siikaniementie 210\, Kutajärvi\, 16730
CATEGORIES:Päijät-Häme,Päijät-Hämeen aivovammayhdistys ry
END:VEVENT
BEGIN:VEVENT
DTSTART;TZID=Europe/Helsinki:20260616T173000
DTEND;TZID=Europe/Helsinki:20260616T210000
DTSTAMP:20260421T231129
CREATED:20251231T145807Z
LAST-MODIFIED:20260404T072639Z
UID:17905-1781631000-1781643600@aivovammayhdistykset.fi
SUMMARY:Notre Damen kellonsoittajan liput ovat myynnissä ke 6.5. asti!
DESCRIPTION:Yhdistys hankkii ryhmälippuja Samppalinnan kesäteatterin ennakkonäytökseen Notre Damen kellonsoittaja. Victor Hugon romaaniin ja Disneyn rakastetun animaatioelokuvan musiikkiin pohjautuva Notre Damen kellonsoittaja on suurten tunteiden ja unohtumattomien melodioiden musikaali. Se vie katsojat keskelle keskiajan Pariisia ja kertoo tarinan rakkaudesta\, toivosta ja erilaisuuden hyväksymisestä. Näin suurta ammattivoimin toteutettua ulkoilmamusikaalia ei Suomessa ole hetkeen nähty! \nPäivä on ti 16.6. klo 18. Lipun hinta on jäsenille 40 € (1 lippu/jäsen) ja muille 67 €. Liput ovat myynnissä ke 6.5. asti\, niitä voi varata Ristolta puhelinnumerosta 044 314 4838 tai sähköpostilla osoitteesta puheenjohtaja.vsavy(at)gmail.com. Lasku toimitetaan sähköpostilla tai puhelimeen tekstiviestillä. Maksettu lippu on varattu lippu.
URL:https://aivovammayhdistykset.fi/tapahtuma/samppalinnan-kesatetterissa-notre-damen-kellonsoittaja/
LOCATION:Samppalinnan kesäteatteri\, Paavo Nurmen puistotie\, Turku\, 20810
CATEGORIES:Varsinais-Suomen aivovammayhdistys ry
END:VEVENT
BEGIN:VEVENT
DTSTART;TZID=Europe/Helsinki:20260623T150000
DTEND;TZID=Europe/Helsinki:20260623T160000
DTSTAMP:20260421T231129
CREATED:20260219T154122Z
LAST-MODIFIED:20260219T154122Z
UID:18108-1782226800-1782230400@aivovammayhdistykset.fi
SUMMARY:Keilaus
DESCRIPTION:Yhdistys on varannut jäsentemme käyttöön kaksi keilarataa tiistaisin  23.6.. klo 15.00-16.00 Oulun Keilahalli\, os. Isokatu 97. \nHeinäkuu kesätauolla. Keilaus on jäsenille maksuton ja tila on esteetön. Kenkävuokra 2€ on omakustanteinen.
URL:https://aivovammayhdistykset.fi/tapahtuma/keilaus-207/
CATEGORIES:Oulun Seudun Aivovammayhdistys ry
END:VEVENT
BEGIN:VEVENT
DTSTART;TZID=Europe/Helsinki:20260624T150000
DTEND;TZID=Europe/Helsinki:20260624T170000
DTSTAMP:20260421T231129
CREATED:20260219T154643Z
LAST-MODIFIED:20260219T154643Z
UID:18119-1782313200-1782320400@aivovammayhdistykset.fi
SUMMARY:Vertaistapaaminen
DESCRIPTION:Vertaistapaaminen/ tutustuminen 24.6. klo 15.00 Oulun kaupungin kirjastoon os. Kaarlenväylä 3. Kokoontuminen kirjaston aulassa. Yhdistys tarjoaa pullakahvit kirjaston kahvilassa tai torilla. \nTervetuloa!
URL:https://aivovammayhdistykset.fi/tapahtuma/vertaistapaaminen-15/
CATEGORIES:Oulun Seudun Aivovammayhdistys ry
END:VEVENT
BEGIN:VEVENT
DTSTART;TZID=Europe/Helsinki:20260701T140000
DTEND;TZID=Europe/Helsinki:20260701T160000
DTSTAMP:20260421T231129
CREATED:20260420T135806Z
LAST-MODIFIED:20260420T135806Z
UID:18298-1782914400-1782921600@aivovammayhdistykset.fi
SUMMARY:Miesten Karjukerho
DESCRIPTION:Miesten ryhmä (Karjukerho) kokoontuu pari kertaa kuukaudessa. Miehet kokoontuvat kuukauden ensimmäisenä keskiviikkona Aivolassa juttelemassa ja kahvittelemassa samalla he yhteisesti päättävät siitä mikä on kuukauden toisen tapaamisen aihe ja missä se pidetään. Miesten ryhmään ovat kaikki tervetulleita. Miesten ryhmästä voit kysellä\nRisto\, puh. 040 506 5192.
URL:https://aivovammayhdistykset.fi/tapahtuma/miesten-karjukerho/
LOCATION:Aivola\, Puutarhakatu 19 a\, liiketila 4\, Turku\, 20100\, Finland
CATEGORIES:Varsinais-Suomen aivovammayhdistys ry
END:VEVENT
BEGIN:VEVENT
DTSTART;TZID=Europe/Helsinki:20260719T130000
DTEND;TZID=Europe/Helsinki:20260719T153000
DTSTAMP:20260421T231129
CREATED:20251231T134809Z
LAST-MODIFIED:20251231T134809Z
UID:17848-1784466000-1784475000@aivovammayhdistykset.fi
SUMMARY:Kesäteatteri: Uskottu mies - Viktor Kärppä
DESCRIPTION:Heinäkuussa mennään katsomaan Hollolan Pesäteatteriin veijarimaista komediaa ja vauhdikasta dekkaria Uskottu mies – Viktor Kärppä.  \nMatti Röngän romaaniin perustuva esitys vie katsojat lähihistoriaan\, Suomen ja itänaapurimme sopuisaan aikaan\, jolloin rajat olivat vielä auki. Esitystä tahdittaa kotimainen livemusiikki ja roima annos huumoria. Kesto n. 2 h 10 min väliaikoineen. \nLiput jäsenille 20 €\, muille peruslippu 29 € tai eläkeläiset 27 € tai opisk./työtön 22 €\, avustajat ilmaiseksi. \nIlmoittaudu viimeistään 29.6. Karille\, p. 040 828 0906 tai info.phavy@gmail.com\nMaksa osallistumisesi 29.6. mennessä P-H Aivovammayhdistyksen tilille FI15 4212 0010 1321 95. Käytä viitettä 1070. \n  \n 
URL:https://aivovammayhdistykset.fi/tapahtuma/kesateatteri-uskottu-mies-viktor-karppa/
LOCATION:Pesäteatteri\, Terveystie 10\, Hollola\, Finland
CATEGORIES:Päijät-Häme,Päijät-Hämeen aivovammayhdistys ry
END:VEVENT
BEGIN:VEVENT
DTSTART;TZID=Europe/Helsinki:20260804T180000
DTEND;TZID=Europe/Helsinki:20260804T200000
DTSTAMP:20260421T231129
CREATED:20260420T141226Z
LAST-MODIFIED:20260420T141226Z
UID:18304-1785866400-1785873600@aivovammayhdistykset.fi
SUMMARY:Läheisten ryhmä
DESCRIPTION:Aivovammautuneen läheisten vertaistukiryhmä kokoontuu kerran kuussa vaihtamaan kuulumisiaan vertaistensa kanssa. Kokoontuminen on kuukauden ensimmäisenä tiistaina Aivolassa. Toisinaan on myös muuta ohjelmaa. Ryhmään on kaikilla vapaa pääsy.\nLeila\, puh. 044 314 4838
URL:https://aivovammayhdistykset.fi/tapahtuma/laheisten-ryhma-2/
LOCATION:Aivola\, Puutarhakatu 19 a\, liiketila 4\, Turku\, 20100\, Finland
CATEGORIES:Varsinais-Suomen aivovammayhdistys ry
END:VEVENT
BEGIN:VEVENT
DTSTART;TZID=Europe/Helsinki:20260805T140000
DTEND;TZID=Europe/Helsinki:20260805T160000
DTSTAMP:20260421T231129
CREATED:20260420T140022Z
LAST-MODIFIED:20260420T140022Z
UID:18300-1785938400-1785945600@aivovammayhdistykset.fi
SUMMARY:Miesten Karjukerho
DESCRIPTION:Miesten ryhmä (Karjukerho) kokoontuu pari kertaa kuukaudessa. Miehet kokoontuvat kuukauden ensimmäisenä keskiviikkona Aivolassa juttelemassa ja kahvittelemassa samalla he yhteisesti päättävät siitä mikä on kuukauden toisen tapaamisen aihe ja missä se pidetään. Miesten ryhmään ovat kaikki tervetulleita. Miesten ryhmästä voit kysellä\nRisto\, puh. 040 506 5192.
URL:https://aivovammayhdistykset.fi/tapahtuma/miesten-karjukerho-2/
LOCATION:Aivola\, Puutarhakatu 19 a\, liiketila 4\, Turku\, 20100\, Finland
CATEGORIES:Varsinais-Suomen aivovammayhdistys ry
END:VEVENT
BEGIN:VEVENT
DTSTART;TZID=Europe/Helsinki:20260806T140000
DTEND;TZID=Europe/Helsinki:20260806T160000
DTSTAMP:20260421T231129
CREATED:20260421T141644Z
LAST-MODIFIED:20260421T141644Z
UID:18312-1786024800-1786032000@aivovammayhdistykset.fi
SUMMARY:Naisten kerho
DESCRIPTION:Vammautuneiden naisten ryhmä kokoontuu kuukauden ensimmäisenä torstaina Aivolassa. Myös naisten ryhmään ovat kaikki tervetulleita. Naisten ryhmästä voit kysellä\nRiitta\, puh. 040 770 3032.
URL:https://aivovammayhdistykset.fi/tapahtuma/naisten-kerho-2/
LOCATION:Aivola\, Puutarhakatu 19 a\, liiketila 4\, Turku\, 20100\, Finland
CATEGORIES:Varsinais-Suomen aivovammayhdistys ry
END:VEVENT
BEGIN:VEVENT
DTSTART;TZID=Europe/Helsinki:20260811T150000
DTEND;TZID=Europe/Helsinki:20260811T160000
DTSTAMP:20260421T231129
CREATED:20260219T154212Z
LAST-MODIFIED:20260219T154226Z
UID:18110-1786460400-1786464000@aivovammayhdistykset.fi
SUMMARY:Keilaus
DESCRIPTION:Yhdistys on varannut jäsentemme käyttöön kaksi keilarataa tiistaisin 11.8.klo 15.00-16.00 Oulun Keilahalli\, os. Isokatu 97. \nHeinäkuu kesätauolla. Keilaus on jäsenille maksuton ja tila on esteetön. Kenkävuokra 2€ on omakustanteinen.
URL:https://aivovammayhdistykset.fi/tapahtuma/keilaus-208/
CATEGORIES:Oulun Seudun Aivovammayhdistys ry
END:VEVENT
BEGIN:VEVENT
DTSTART;TZID=Europe/Helsinki:20260825T150000
DTEND;TZID=Europe/Helsinki:20260825T160000
DTSTAMP:20260421T231129
CREATED:20260219T154320Z
LAST-MODIFIED:20260219T154320Z
UID:18112-1787670000-1787673600@aivovammayhdistykset.fi
SUMMARY:Keilaus
DESCRIPTION:Yhdistys on varannut jäsentemme käyttöön kaksi keilarataa tiistaisin 25.8.klo 15.00-16.00 Oulun Keilahalli\, os. Isokatu 97. \nHeinäkuu kesätauolla. Keilaus on jäsenille maksuton ja tila on esteetön. Kenkävuokra 2€ on omakustanteinen.
URL:https://aivovammayhdistykset.fi/tapahtuma/keilaus-209/
CATEGORIES:Oulun Seudun Aivovammayhdistys ry
END:VEVENT
BEGIN:VEVENT
DTSTART;TZID=Europe/Helsinki:20260901T180000
DTEND;TZID=Europe/Helsinki:20260901T200000
DTSTAMP:20260421T231129
CREATED:20260421T143041Z
LAST-MODIFIED:20260421T143041Z
UID:18319-1788285600-1788292800@aivovammayhdistykset.fi
SUMMARY:Läheisten ryhmä
DESCRIPTION:Aivovammautuneen läheisten vertaistukiryhmä kokoontuu kerran kuussa vaihtamaan kuulumisiaan vertaistensa kanssa. Kokoontuminen on kuukauden ensimmäisenä tiistaina Aivolassa. Toisinaan on myös muuta ohjelmaa. Ryhmään on kaikilla vapaa pääsy.\nLeila\, puh. 044 314 4838
URL:https://aivovammayhdistykset.fi/tapahtuma/laheisten-ryhma-4/
LOCATION:Aivola\, Puutarhakatu 19 a\, liiketila 4\, Turku\, 20100\, Finland
CATEGORIES:Varsinais-Suomen aivovammayhdistys ry
END:VEVENT
BEGIN:VEVENT
DTSTART;TZID=Europe/Helsinki:20260902T140000
DTEND;TZID=Europe/Helsinki:20260902T160000
DTSTAMP:20260421T231129
CREATED:20260421T143439Z
LAST-MODIFIED:20260421T143439Z
UID:18325-1788357600-1788364800@aivovammayhdistykset.fi
SUMMARY:Miesten Karjukerho
DESCRIPTION:Miesten ryhmä (Karjukerho) kokoontuu pari kertaa kuukaudessa. Miehet kokoontuvat kuukauden ensimmäisenä keskiviikkona Aivolassa juttelemassa ja kahvittelemassa samalla he yhteisesti päättävät siitä mikä on kuukauden toisen tapaamisen aihe ja missä se pidetään. Miesten ryhmään ovat kaikki tervetulleita. Miesten ryhmästä voit kysellä\nRisto\, puh. 040 506 5192.
URL:https://aivovammayhdistykset.fi/tapahtuma/miesten-karjukerho-3/
LOCATION:Aivola\, Puutarhakatu 19 a\, liiketila 4\, Turku\, 20100\, Finland
CATEGORIES:Varsinais-Suomen aivovammayhdistys ry
END:VEVENT
BEGIN:VEVENT
DTSTART;TZID=Europe/Helsinki:20260903T140000
DTEND;TZID=Europe/Helsinki:20260903T160000
DTSTAMP:20260421T231129
CREATED:20260420T141432Z
LAST-MODIFIED:20260420T141432Z
UID:18306-1788444000-1788451200@aivovammayhdistykset.fi
SUMMARY:Naisten kerho
DESCRIPTION:Vammautuneiden naisten ryhmä kokoontuu kuukauden ensimmäisenä torstaina Aivolassa. Myös naisten ryhmään ovat kaikki tervetulleita. Naisten ryhmästä voit kysellä\nRiitta\, puh. 040 770 3032.
URL:https://aivovammayhdistykset.fi/tapahtuma/naisten-kerho/
LOCATION:Aivola\, Puutarhakatu 19 a\, liiketila 4\, Turku\, 20100\, Finland
CATEGORIES:Varsinais-Suomen aivovammayhdistys ry
END:VEVENT
BEGIN:VEVENT
DTSTART;TZID=Europe/Helsinki:20260908T150000
DTEND;TZID=Europe/Helsinki:20260908T160000
DTSTAMP:20260421T231129
CREATED:20260219T154410Z
LAST-MODIFIED:20260219T154424Z
UID:18114-1788879600-1788883200@aivovammayhdistykset.fi
SUMMARY:Keilaus
DESCRIPTION:Yhdistys on varannut jäsentemme käyttöön kaksi keilarataa tiistaisin 8.9.\, klo 15.00-16.00 Oulun Keilahalli\, os. Isokatu 97. \nHeinäkuu kesätauolla. Keilaus on jäsenille maksuton ja tila on esteetön. Kenkävuokra 2€ on omakustanteinen.
URL:https://aivovammayhdistykset.fi/tapahtuma/keilaus-210/
CATEGORIES:Oulun Seudun Aivovammayhdistys ry
END:VEVENT
BEGIN:VEVENT
DTSTART;TZID=Europe/Helsinki:20260912T130000
DTEND;TZID=Europe/Helsinki:20260912T160000
DTSTAMP:20260421T231129
CREATED:20260219T153839Z
LAST-MODIFIED:20260219T153839Z
UID:18104-1789218000-1789228800@aivovammayhdistykset.fi
SUMMARY:SYYSKAUDEN AVAJAISET
DESCRIPTION:Lauantaina 12.9. klo 13.00-16.00 Peuhun kartanossa\, os. Peuhuntie 194\, Oulunsalo. Tunnelmallinen kartanoalue sijaitsee Perämeren rannalla. Matkaa Oulusta on noin 20 km. Perheelle suunnattu rento ja mukava lauantai-iltapäivä. Ohjelmassa mm. ensiapukoulutusta. \nIlmoittautuminen ja ruoka-aineallergiat/rajoitteet 3.9. mennessä Eilalle tekstiviestillä p. 040 765 6989 tai eila.saasko@gmail.com \nTervetuloa! \nJos autossasi on tilaa tai tarvitset kyytiä\, ota yhteyttä Eilaan\, niin yritämme järjestää.
URL:https://aivovammayhdistykset.fi/tapahtuma/syyskauden-avajaiset-3/
CATEGORIES:Oulun Seudun Aivovammayhdistys ry
END:VEVENT
BEGIN:VEVENT
DTSTART;TZID=Europe/Helsinki:20260922T150000
DTEND;TZID=Europe/Helsinki:20260922T160000
DTSTAMP:20260421T231129
CREATED:20260219T154513Z
LAST-MODIFIED:20260219T154513Z
UID:18117-1790089200-1790092800@aivovammayhdistykset.fi
SUMMARY:Keilaus
DESCRIPTION:Yhdistys on varannut jäsentemme käyttöön kaksi keilarataa tiistaisin 22.9. klo 15.00-16.00 Oulun Keilahalli\, os. Isokatu 97. \nHeinäkuu kesätauolla. Keilaus on jäsenille maksuton ja tila on esteetön. Kenkävuokra 2€ on omakustanteinen.
URL:https://aivovammayhdistykset.fi/tapahtuma/keilaus-211/
CATEGORIES:Oulun Seudun Aivovammayhdistys ry
END:VEVENT
BEGIN:VEVENT
DTSTART;TZID=Europe/Helsinki:20261004T130000
DTEND;TZID=Europe/Helsinki:20261004T160000
DTSTAMP:20260421T231129
CREATED:20260420T140841Z
LAST-MODIFIED:20260420T140841Z
UID:18302-1791118800-1791129600@aivovammayhdistykset.fi
SUMMARY:Perhepäivä
DESCRIPTION:Tarkoitettu koko perheelle. Yhdessä tekemistä\, erilaisia pelejä sekä muuta mukavaa toimintaa. Ohjelmaa tarkennetaan myöhemmin. Merkkaa päivä kalenteriin!
URL:https://aivovammayhdistykset.fi/tapahtuma/perhepaiva/
LOCATION:Aivola\, Puutarhakatu 19 a\, liiketila 4\, Turku\, 20100\, Finland
CATEGORIES:Varsinais-Suomen aivovammayhdistys ry
END:VEVENT
BEGIN:VEVENT
DTSTART;TZID=Europe/Helsinki:20261006T180000
DTEND;TZID=Europe/Helsinki:20261006T200000
DTSTAMP:20260421T231129
CREATED:20260421T142452Z
LAST-MODIFIED:20260421T142941Z
UID:18311-1791309600-1791316800@aivovammayhdistykset.fi
SUMMARY:Läheisten ryhmä
DESCRIPTION:Aivovammautuneen läheisten vertaistukiryhmä kokoontuu kerran kuussa vaihtamaan kuulumisiaan vertaistensa kanssa. Kokoontuminen on kuukauden ensimmäisenä tiistaina Aivolassa. Toisinaan on myös muuta ohjelmaa. Ryhmään on kaikilla vapaa pääsy.\nLeila\, puh. 044 314 4838
URL:https://aivovammayhdistykset.fi/tapahtuma/laheisten-ryhma-3/
LOCATION:Aivola\, Puutarhakatu 19 a\, liiketila 4\, Turku\, 20100\, Finland
CATEGORIES:Varsinais-Suomen aivovammayhdistys ry
END:VEVENT
BEGIN:VEVENT
DTSTART;TZID=Europe/Helsinki:20261007T140000
DTEND;TZID=Europe/Helsinki:20261007T160000
DTSTAMP:20260421T231129
CREATED:20260421T143507Z
LAST-MODIFIED:20260421T143507Z
UID:18327-1791381600-1791388800@aivovammayhdistykset.fi
SUMMARY:Miesten Karjukerho
DESCRIPTION:Miesten ryhmä (Karjukerho) kokoontuu pari kertaa kuukaudessa. Miehet kokoontuvat kuukauden ensimmäisenä keskiviikkona Aivolassa juttelemassa ja kahvittelemassa samalla he yhteisesti päättävät siitä mikä on kuukauden toisen tapaamisen aihe ja missä se pidetään. Miesten ryhmään ovat kaikki tervetulleita. Miesten ryhmästä voit kysellä\nRisto\, puh. 040 506 5192.
URL:https://aivovammayhdistykset.fi/tapahtuma/miesten-karjukerho-4/
LOCATION:Aivola\, Puutarhakatu 19 a\, liiketila 4\, Turku\, 20100\, Finland
CATEGORIES:Varsinais-Suomen aivovammayhdistys ry
END:VEVENT
BEGIN:VEVENT
DTSTART;TZID=Europe/Helsinki:20261026T080000
DTEND;TZID=Europe/Helsinki:20261026T170000
DTSTAMP:20260421T231129
CREATED:20260421T151326Z
LAST-MODIFIED:20260421T151326Z
UID:18336-1793001600-1793034000@aivovammayhdistykset.fi
SUMMARY:Suljettu vertaistukiryhmä 1/6
DESCRIPTION:klo 18-20 / lisätiedot päivitetään myöhemmin
URL:https://aivovammayhdistykset.fi/tapahtuma/suljettu-vertaistukiryhma-1-6-2/
LOCATION:Aivola\, Puutarhakatu 19 a\, liiketila 4\, Turku\, 20100\, Finland
CATEGORIES:Varsinais-Suomen aivovammayhdistys ry
END:VEVENT
BEGIN:VEVENT
DTSTART;TZID=Europe/Helsinki:20261102T080000
DTEND;TZID=Europe/Helsinki:20261102T170000
DTSTAMP:20260421T231129
CREATED:20260421T151514Z
LAST-MODIFIED:20260421T151514Z
UID:18338-1793606400-1793638800@aivovammayhdistykset.fi
SUMMARY:Suljettu vertaistukiryhmä 2/6
DESCRIPTION:klo 18-20 / lisätiedot päivitetään myöhemmin
URL:https://aivovammayhdistykset.fi/tapahtuma/suljettu-vertaistukiryhma-2-6/
LOCATION:Aivola\, Puutarhakatu 19 a\, liiketila 4\, Turku\, 20100\, Finland
CATEGORIES:Varsinais-Suomen aivovammayhdistys ry
END:VEVENT
BEGIN:VEVENT
DTSTART;TZID=Europe/Helsinki:20261103T180000
DTEND;TZID=Europe/Helsinki:20261103T200000
DTSTAMP:20260421T231129
CREATED:20260421T143108Z
LAST-MODIFIED:20260421T143108Z
UID:18321-1793728800-1793736000@aivovammayhdistykset.fi
SUMMARY:Läheisten ryhmä
DESCRIPTION:Aivovammautuneen läheisten vertaistukiryhmä kokoontuu kerran kuussa vaihtamaan kuulumisiaan vertaistensa kanssa. Kokoontuminen on kuukauden ensimmäisenä tiistaina Aivolassa. Toisinaan on myös muuta ohjelmaa. Ryhmään on kaikilla vapaa pääsy.\nLeila\, puh. 044 314 4838
URL:https://aivovammayhdistykset.fi/tapahtuma/laheisten-ryhma-5/
LOCATION:Aivola\, Puutarhakatu 19 a\, liiketila 4\, Turku\, 20100\, Finland
CATEGORIES:Varsinais-Suomen aivovammayhdistys ry
END:VEVENT
BEGIN:VEVENT
DTSTART;TZID=Europe/Helsinki:20261104T140000
DTEND;TZID=Europe/Helsinki:20261104T160000
DTSTAMP:20260421T231129
CREATED:20260421T143532Z
LAST-MODIFIED:20260421T143532Z
UID:18329-1793800800-1793808000@aivovammayhdistykset.fi
SUMMARY:Miesten Karjukerho
DESCRIPTION:Miesten ryhmä (Karjukerho) kokoontuu pari kertaa kuukaudessa. Miehet kokoontuvat kuukauden ensimmäisenä keskiviikkona Aivolassa juttelemassa ja kahvittelemassa samalla he yhteisesti päättävät siitä mikä on kuukauden toisen tapaamisen aihe ja missä se pidetään. Miesten ryhmään ovat kaikki tervetulleita. Miesten ryhmästä voit kysellä\nRisto\, puh. 040 506 5192.
URL:https://aivovammayhdistykset.fi/tapahtuma/miesten-karjukerho-5/
LOCATION:Aivola\, Puutarhakatu 19 a\, liiketila 4\, Turku\, 20100\, Finland
CATEGORIES:Varsinais-Suomen aivovammayhdistys ry
END:VEVENT
BEGIN:VEVENT
DTSTART;TZID=Europe/Helsinki:20261105T140000
DTEND;TZID=Europe/Helsinki:20261105T160000
DTSTAMP:20260421T231129
CREATED:20260421T142544Z
LAST-MODIFIED:20260421T142544Z
UID:18314-1793887200-1793894400@aivovammayhdistykset.fi
SUMMARY:Naisten kerho
DESCRIPTION:Vammautuneiden naisten ryhmä kokoontuu kuukauden ensimmäisenä torstaina Aivolassa. Myös naisten ryhmään ovat kaikki tervetulleita. Naisten ryhmästä voit kysellä\nRiitta\, puh. 040 770 3032.
URL:https://aivovammayhdistykset.fi/tapahtuma/naisten-kerho-3/
LOCATION:Aivola\, Puutarhakatu 19 a\, liiketila 4\, Turku\, 20100\, Finland
CATEGORIES:Varsinais-Suomen aivovammayhdistys ry
END:VEVENT
BEGIN:VEVENT
DTSTART;TZID=Europe/Helsinki:20261109T080000
DTEND;TZID=Europe/Helsinki:20261109T170000
DTSTAMP:20260421T231129
CREATED:20260421T151550Z
LAST-MODIFIED:20260421T151550Z
UID:18340-1794211200-1794243600@aivovammayhdistykset.fi
SUMMARY:Suljettu vertaistukiryhmä 3/6
DESCRIPTION:klo 18-20 / lisätiedot päivitetään myöhemmin
URL:https://aivovammayhdistykset.fi/tapahtuma/suljettu-vertaistukiryhma-3-6/
LOCATION:Aivola\, Puutarhakatu 19 a\, liiketila 4\, Turku\, 20100\, Finland
CATEGORIES:Varsinais-Suomen aivovammayhdistys ry
END:VEVENT
BEGIN:VEVENT
DTSTART;TZID=Europe/Helsinki:20261116T080000
DTEND;TZID=Europe/Helsinki:20261116T170000
DTSTAMP:20260421T231129
CREATED:20260421T151623Z
LAST-MODIFIED:20260421T151623Z
UID:18342-1794816000-1794848400@aivovammayhdistykset.fi
SUMMARY:Suljettu vertaistukiryhmä 4/6
DESCRIPTION:klo 18-20 / lisätiedot päivitetään myöhemmin
URL:https://aivovammayhdistykset.fi/tapahtuma/suljettu-vertaistukiryhma-4-6/
LOCATION:Aivola\, Puutarhakatu 19 a\, liiketila 4\, Turku\, 20100\, Finland
CATEGORIES:Varsinais-Suomen aivovammayhdistys ry
END:VEVENT
BEGIN:VEVENT
DTSTART;TZID=Europe/Helsinki:20261123T080000
DTEND;TZID=Europe/Helsinki:20261123T170000
DTSTAMP:20260421T231129
CREATED:20260421T151654Z
LAST-MODIFIED:20260421T151654Z
UID:18344-1795420800-1795453200@aivovammayhdistykset.fi
SUMMARY:Suljettu vertaistukiryhmä 5/6
DESCRIPTION:klo 18-20 / lisätiedot päivitetään myöhemmin
URL:https://aivovammayhdistykset.fi/tapahtuma/suljettu-vertaistukiryhma-5-6/
LOCATION:Aivola\, Puutarhakatu 19 a\, liiketila 4\, Turku\, 20100\, Finland
CATEGORIES:Varsinais-Suomen aivovammayhdistys ry
END:VEVENT
BEGIN:VEVENT
DTSTART;TZID=Europe/Helsinki:20261130T080000
DTEND;TZID=Europe/Helsinki:20261130T170000
DTSTAMP:20260421T231129
CREATED:20260421T151723Z
LAST-MODIFIED:20260421T151723Z
UID:18346-1796025600-1796058000@aivovammayhdistykset.fi
SUMMARY:Suljettu vertaistukiryhmä 6/6
DESCRIPTION:klo 18-20 / lisätiedot päivitetään myöhemmin
URL:https://aivovammayhdistykset.fi/tapahtuma/suljettu-vertaistukiryhma-6-6/
LOCATION:Aivola\, Puutarhakatu 19 a\, liiketila 4\, Turku\, 20100\, Finland
CATEGORIES:Varsinais-Suomen aivovammayhdistys ry
END:VEVENT
END:VCALENDAR