BEGIN:VCALENDAR
VERSION:2.0
PRODID:-//Aivovammayhdistykset - ECPv6.15.18//NONSGML v1.0//EN
CALSCALE:GREGORIAN
METHOD:PUBLISH
X-WR-CALNAME:Aivovammayhdistykset
X-ORIGINAL-URL:https://aivovammayhdistykset.fi
X-WR-CALDESC:Tapahtumat Aivovammayhdistykset
REFRESH-INTERVAL;VALUE=DURATION:PT1H
X-Robots-Tag:noindex
X-PUBLISHED-TTL:PT1H
BEGIN:VTIMEZONE
TZID:Europe/Helsinki
BEGIN:DAYLIGHT
TZOFFSETFROM:+0200
TZOFFSETTO:+0300
TZNAME:EEST
DTSTART:20250330T010000
END:DAYLIGHT
BEGIN:STANDARD
TZOFFSETFROM:+0300
TZOFFSETTO:+0200
TZNAME:EET
DTSTART:20251026T010000
END:STANDARD
BEGIN:DAYLIGHT
TZOFFSETFROM:+0200
TZOFFSETTO:+0300
TZNAME:EEST
DTSTART:20260329T010000
END:DAYLIGHT
BEGIN:STANDARD
TZOFFSETFROM:+0300
TZOFFSETTO:+0200
TZNAME:EET
DTSTART:20261025T010000
END:STANDARD
BEGIN:DAYLIGHT
TZOFFSETFROM:+0200
TZOFFSETTO:+0300
TZNAME:EEST
DTSTART:20270328T010000
END:DAYLIGHT
BEGIN:STANDARD
TZOFFSETFROM:+0300
TZOFFSETTO:+0200
TZNAME:EET
DTSTART:20271031T010000
END:STANDARD
END:VTIMEZONE
BEGIN:VEVENT
DTSTART;TZID=Europe/Helsinki:20260204T140000
DTEND;TZID=Europe/Helsinki:20260204T160000
DTSTAMP:20260421T213012
CREATED:20251231T120617Z
LAST-MODIFIED:20251231T120617Z
UID:17781-1770213600-1770220800@aivovammayhdistykset.fi
SUMMARY:Miesten Karjukerho
DESCRIPTION:Miesten ryhmä (Karjukerho) kokoontuu pari kertaa kuukaudessa. Miehet kokoontuvat kuukauden ensimmäisenä keskiviikkona Aivolassa juttelemassa ja kahvittelemassa samalla he yhteisesti päättävät siitä mikä on kuukauden toisen tapaamisen aihe ja missä se pidetään. Miesten ryhmään ovat kaikki tervetulleita. Miesten ryhmästä voit kysellä\nRisto\, puh. 040 506 5192.
URL:https://aivovammayhdistykset.fi/tapahtuma/miesten-karjukerho-31/
LOCATION:Aivola\, Puutarhakatu 19 a\, liiketila 4\, Turku\, 20100\, Finland
CATEGORIES:Varsinais-Suomen aivovammayhdistys ry
END:VEVENT
BEGIN:VEVENT
DTSTART;TZID=Europe/Helsinki:20260205T140000
DTEND;TZID=Europe/Helsinki:20260205T160000
DTSTAMP:20260421T213012
CREATED:20251231T120735Z
LAST-MODIFIED:20251231T120735Z
UID:17783-1770300000-1770307200@aivovammayhdistykset.fi
SUMMARY:Naisten kerho
DESCRIPTION:Vammautuneiden naisten ryhmä kokoontuu kuukauden ensimmäisenä torstaina Aivolassa. Myös naisten ryhmään ovat kaikki tervetulleita. Naisten ryhmästä voit kysellä\nRiitta\, puh. 040 770 3032.
URL:https://aivovammayhdistykset.fi/tapahtuma/naisten-kerho-13/
LOCATION:Aivola\, Puutarhakatu 19 a\, liiketila 4\, Turku\, 20100\, Finland
CATEGORIES:Varsinais-Suomen aivovammayhdistys ry
END:VEVENT
BEGIN:VEVENT
DTSTART;TZID=Europe/Helsinki:20260205T170000
DTEND;TZID=Europe/Helsinki:20260205T190000
DTSTAMP:20260421T213012
CREATED:20260125T111440Z
LAST-MODIFIED:20260125T111440Z
UID:18033-1770310800-1770318000@aivovammayhdistykset.fi
SUMMARY:HELMIKUUN JÄSENTAPAAMINEN 5.2. KLO.17.00 ÄÄRELLÄ KUPPI & KATTILA
DESCRIPTION:Tapaamme 5.2. klo.17.00 Äärellä Kuppi & Kattila kahvilassa Seinäjoella Nyykoolinkatu 25\n(Itikanmäellä Kalevan navetta)\nYhdistys tarjoaa pullakahvit ja vertaistuellista seuraa.\nTervetuloa mukaan.
URL:https://aivovammayhdistykset.fi/tapahtuma/helmikuun-jasentapaaminen-5-2-klo-17-00-aarella-kuppi-kattila/
LOCATION:Äärellä Kuppi & Kattila\, Nyykoolinkatu 25\, Seinäjoki\, 60100\, Suomi
CATEGORIES:Etelä-Pohjanmaan aivovammayhdistys ry
END:VEVENT
BEGIN:VEVENT
DTSTART;TZID=Europe/Helsinki:20260206T140000
DTEND;TZID=Europe/Helsinki:20260206T200000
DTSTAMP:20260421T213012
CREATED:20251231T121442Z
LAST-MODIFIED:20251231T124206Z
UID:17789-1770386400-1770408000@aivovammayhdistykset.fi
SUMMARY:ILOINEN ILTAPÄIVÄ\, ilm. ma 2.2. mennessä.
DESCRIPTION:Nuorten aikuisten ryhmä kokoontuu pe 6.2. klo 14–20 Aivolaan viettämään perinteistä Iloista iltapäivää. Yhteydenotot ja ilmoittautumiset Terjelle  p. 040 565 3737 ma 2.2. mennessä. \nTervetuloa mukaan kaikki halukkaat\, ikä on vaan numeroita.
URL:https://aivovammayhdistykset.fi/tapahtuma/iloinen-iltapaiva-yhteydenotot-ja-ilmoittautumiset-terjelle-p-040-565-3737-ma-2-2-mennessa/
LOCATION:Aivola\, Puutarhakatu 19 a\, liiketila 4\, Turku\, 20100\, Finland
CATEGORIES:Varsinais-Suomen aivovammayhdistys ry
END:VEVENT
BEGIN:VEVENT
DTSTART;TZID=Europe/Helsinki:20260209T120000
DTEND;TZID=Europe/Helsinki:20260209T130000
DTSTAMP:20260421T213012
CREATED:20251231T115918Z
LAST-MODIFIED:20251231T115918Z
UID:17769-1770638400-1770642000@aivovammayhdistykset.fi
SUMMARY:Keilaus
DESCRIPTION:Tervetuloa keilaamaan Raision keilailukeskukseen maanantaisin klo 12.00–13.00. Kevätkauden kurssimaksu on 30 € (15 kertaa) ja yksittäisen käyntikerran osallistujamaksu on 4 €/kerta. Lisäksi tulee 1 € kenkävuokra\, joka maksetaan kassalle aina osallistuessa. Kauden kurssimaksu tai yksittäisen kerran osallistuminen maksetaan käteisellä (tasaraha) Terjelle tai Mobile Paylla yhdistyksen tapahtumakassaan\, numeroon 25861. Tiedustelut 044 314 4838.
URL:https://aivovammayhdistykset.fi/tapahtuma/keilaus-193/
CATEGORIES:Varsinais-Suomen aivovammayhdistys ry
END:VEVENT
BEGIN:VEVENT
DTSTART;TZID=Europe/Helsinki:20260209T180000
DTEND;TZID=Europe/Helsinki:20260209T190000
DTSTAMP:20260421T213012
CREATED:20260115T072644Z
LAST-MODIFIED:20260115T073257Z
UID:17978-1770660000-1770663600@aivovammayhdistykset.fi
SUMMARY:Sählyryhmä - Helsinki
DESCRIPTION:Kuntoutuskeskus Synapsia | Validia\, Nordenskiöldinkatu 18 B\, 00250 Helsinki. \nKausimaksu 70€ jäsenille. Tiedustelut yhdistyksen sähköpostiin: uudenmaan.aivovammayhdistys(at)gmail.com. \nJäsenmaksu sekä kausimaksu tulee olla maksettuna ennen osallistumista. \n\nRyhmä on suunnattu pääasiallisesti hyvin liikkuville. Ensimmäisillä kerroilla tehdään arviointi molemmin puolin\, riittääkö kunto/vamman tilanne siihen\, että pystyy turvallisesti pelaamaan. Koekerrasta ei tarvitse maksaa mikäli ei jatka!
URL:https://aivovammayhdistykset.fi/tapahtuma/sahlyryhma-helsinki/
CATEGORIES:AVY Aivovammayhdistys ry,Uudenmaan Aivovammayhdistys ry
END:VEVENT
BEGIN:VEVENT
DTSTART;TZID=Europe/Helsinki:20260210T130000
DTEND;TZID=Europe/Helsinki:20260210T150000
DTSTAMP:20260421T213012
CREATED:20251014T090707Z
LAST-MODIFIED:20260129T114223Z
UID:17477-1770728400-1770735600@aivovammayhdistykset.fi
SUMMARY:Hyvinkään toimintaryhmä helmikuu Museokeskus Taika
DESCRIPTION:Tiistaina 10.2.26 tapaaminen museolla. Taidemuseo Taika 13.00-15.00 https://www.hyvinkaa.fi/museokeskus-taika/nayttelyt/tulevat/ \n\nMuseokeskus Taika\nHämeenkatu 3d\n05800 Hyvinkää\n\nAikuiset 12 €\nEläkeläiset ja opiskelijat 8 €\nAlle 18-vuotiaat 0 €\nTyöttömät 0 € \nLisätiedot vetäjältä: sakke.pihlaja at elisanet.fi.
URL:https://aivovammayhdistykset.fi/tapahtuma/hyvinkaan-toimintaryhma-helmikuu/
CATEGORIES:AVY Aivovammayhdistys ry,Uudenmaan Aivovammayhdistys ry
END:VEVENT
BEGIN:VEVENT
DTSTART;TZID=Europe/Helsinki:20260210T150000
DTEND;TZID=Europe/Helsinki:20260210T160000
DTSTAMP:20260421T213012
CREATED:20251201T144552Z
LAST-MODIFIED:20251201T144552Z
UID:17625-1770735600-1770739200@aivovammayhdistykset.fi
SUMMARY:Keilaus
DESCRIPTION:Yhdistys on varannut jäsentemme käyttöön kaksi keilarataa tiistaisin 10.2\, klo 15-16\, Oulun Keilahallilta\, os. Isokatu 97. Keilaus on jäsenille maksuton ja tila on esteetön. Kenkävuokra 2 € on omakustanteinen.
URL:https://aivovammayhdistykset.fi/tapahtuma/keilaus-183/
CATEGORIES:Oulun Seudun Aivovammayhdistys ry
END:VEVENT
BEGIN:VEVENT
DTSTART;TZID=Europe/Helsinki:20260210T173000
DTEND;TZID=Europe/Helsinki:20260210T193000
DTSTAMP:20260421T213012
CREATED:20251231T121743Z
LAST-MODIFIED:20251231T121743Z
UID:17793-1770744600-1770751800@aivovammayhdistykset.fi
SUMMARY:Salon toimintaryhmän tapaaminen
DESCRIPTION:Salon seudun toimintaryhmä kokoontuu SYTY:n tiloissa os. Helsingintie 6\, Salo. Ryhmän vetäjinä toimivat Terhi Hellberg ja Raisa Salonen. Heidät tavoittaa numerosta 050 555 0545.
URL:https://aivovammayhdistykset.fi/tapahtuma/salon-toimintaryhman-tapaaminen-2/
LOCATION:Salon Syty\, Helsingintie 6\, Salo\, Salo\, 24100\, Finland
CATEGORIES:Varsinais-Suomen aivovammayhdistys ry
END:VEVENT
BEGIN:VEVENT
DTSTART;TZID=Europe/Helsinki:20260211T150000
DTEND;TZID=Europe/Helsinki:20260211T170000
DTSTAMP:20260421T213012
CREATED:20260115T073632Z
LAST-MODIFIED:20260115T073703Z
UID:17986-1770822000-1770829200@aivovammayhdistykset.fi
SUMMARY:Helsingin seudun avoin vertaistukiryhmä – Aivoklubi
DESCRIPTION:Helsingin seudun avoin vertaistukiryhmä – Aivoklubi\nVetäjät: Esa Hyttinen\, Hannele Manner. Tiedustelut: uudenmaan.aivovammayhdistys@gmail.com \nTapaamiset ovat joka parittoman viikon ke klo 15–17 Kampin palvelukeskuksessa\, Famu-tila. Kahvitarjoilu omakustanteisesti\, (tapahtuman kulu on siis sen verran kuin käytät kahviin ja pullaan). \nLämpimästi tervetuloa.
URL:https://aivovammayhdistykset.fi/tapahtuma/helsingin-seudun-avoin-vertaistukiryhma-aivoklubi-3/
CATEGORIES:AVY Aivovammayhdistys ry,Uudenmaan Aivovammayhdistys ry
END:VEVENT
BEGIN:VEVENT
DTSTART;TZID=Europe/Helsinki:20260211T180000
DTEND;TZID=Europe/Helsinki:20260211T200000
DTSTAMP:20260421T213012
CREATED:20251231T122001Z
LAST-MODIFIED:20251231T122001Z
UID:17795-1770832800-1770840000@aivovammayhdistykset.fi
SUMMARY:Turun jäsenilta
DESCRIPTION:Pirjo Saarinen pitää istumajoogatuokion.
URL:https://aivovammayhdistykset.fi/tapahtuma/turun-jasenilta-9/
LOCATION:Aivola\, Puutarhakatu 19 a\, liiketila 4\, Turku\, 20100\, Finland
CATEGORIES:Varsinais-Suomen aivovammayhdistys ry
END:VEVENT
BEGIN:VEVENT
DTSTART;TZID=Europe/Helsinki:20260213T140000
DTEND;TZID=Europe/Helsinki:20260213T200000
DTSTAMP:20260421T213012
CREATED:20251231T122244Z
LAST-MODIFIED:20251231T122358Z
UID:17797-1770991200-1771012800@aivovammayhdistykset.fi
SUMMARY:AIVOLAN TUPAANTULIAISJUHLAT
DESCRIPTION:Uuden kokoontumistilamme\, Aivola\, ovet ovat avoinna pe 13.2. klo 14–18. Aivolan käyntiosoite on Puutarhakatu 19a\, Liiketila 4. Tervetuloa tutustumaan tiloihimme ja nauttimaan tarjoilusta! Yhteydenotot p. 044 314 4838.
URL:https://aivovammayhdistykset.fi/tapahtuma/aivolan-tupaantuliaisjuhlat/
LOCATION:Aivola\, Puutarhakatu 19 a\, liiketila 4\, Turku\, 20100\, Finland
CATEGORIES:Varsinais-Suomen aivovammayhdistys ry
END:VEVENT
BEGIN:VEVENT
DTSTART;TZID=Europe/Helsinki:20260216T120000
DTEND;TZID=Europe/Helsinki:20260216T130000
DTSTAMP:20260421T213012
CREATED:20251231T120012Z
LAST-MODIFIED:20251231T120012Z
UID:17771-1771243200-1771246800@aivovammayhdistykset.fi
SUMMARY:Keilaus
DESCRIPTION:Tervetuloa keilaamaan Raision keilailukeskukseen maanantaisin klo 12.00–13.00. Kevätkauden kurssimaksu on 30 € (15 kertaa) ja yksittäisen käyntikerran osallistujamaksu on 4 €/kerta. Lisäksi tulee 1 € kenkävuokra\, joka maksetaan kassalle aina osallistuessa. Kauden kurssimaksu tai yksittäisen kerran osallistuminen maksetaan käteisellä (tasaraha) Terjelle tai Mobile Paylla yhdistyksen tapahtumakassaan\, numeroon 25861. Tiedustelut 044 314 4838.
URL:https://aivovammayhdistykset.fi/tapahtuma/keilaus-194/
CATEGORIES:Varsinais-Suomen aivovammayhdistys ry
END:VEVENT
BEGIN:VEVENT
DTSTART;TZID=Europe/Helsinki:20260216T180000
DTEND;TZID=Europe/Helsinki:20260216T190000
DTSTAMP:20260421T213012
CREATED:20260114T120233Z
LAST-MODIFIED:20260115T073358Z
UID:17960-1771264800-1771268400@aivovammayhdistykset.fi
SUMMARY:Sählyryhmä - Helsinki
DESCRIPTION:Kuntoutuskeskus Synapsia | Validia\, Nordenskiöldinkatu 18 B\, 00250 Helsinki. \nKausimaksu 70€ jäsenille. Tiedustelut yhdistyksen sähköpostiin: uudenmaan.aivovammayhdistys(at)gmail.com. \nJäsenmaksu sekä kausimaksu tulee olla maksettuna ennen osallistumista. \n\nRyhmä on suunnattu pääasiallisesti hyvin liikkuville. Ensimmäisillä kerroilla tehdään arviointi molemmin puolin\, riittääkö kunto/vamman tilanne siihen\, että pystyy turvallisesti pelaamaan. Koekerrasta ei tarvitse maksaa mikäli ei jatka!
URL:https://aivovammayhdistykset.fi/tapahtuma/sahlyryhma/
CATEGORIES:AVY Aivovammayhdistys ry,Uudenmaan Aivovammayhdistys ry
END:VEVENT
BEGIN:VEVENT
DTSTART;TZID=Europe/Helsinki:20260217T160000
DTEND;TZID=Europe/Helsinki:20260217T180000
DTSTAMP:20260421T213012
CREATED:20251231T120259Z
LAST-MODIFIED:20260116T173921Z
UID:17777-1771344000-1771351200@aivovammayhdistykset.fi
SUMMARY:Hallituksen kokous
DESCRIPTION:Hallitus hoitaa yhdistyksen yhteisiä asioita ja tekee niistä päätöksiä.  \nMikäli sinulla on asiaa hallituksen jäsenille tai haluat\, että hallitus käsittelee kokouksessaan jonkin sinulle tärkeän asian\, ota yhteyttä hallituksen jäseniin joko suullisesti tai kirjallisesti ja esitä heille asiasi.
URL:https://aivovammayhdistykset.fi/tapahtuma/hallituksen-kokous-9/
LOCATION:Aivola\, Puutarhakatu 19 a\, liiketila 4\, Turku\, 20100\, Finland
CATEGORIES:Varsinais-Suomen aivovammayhdistys ry
END:VEVENT
BEGIN:VEVENT
DTSTART;TZID=Europe/Helsinki:20260218T150000
DTEND;TZID=Europe/Helsinki:20260218T170000
DTSTAMP:20260421T213012
CREATED:20251231T120854Z
LAST-MODIFIED:20260120T053332Z
UID:17785-1771426800-1771434000@aivovammayhdistykset.fi
SUMMARY:Taidekerho
DESCRIPTION:Taidekerhossa tehdään ja harjoitellaan monia taiteeseen liittyviä töitä\, maalausta\, askartelua\, musiikkia jne. Kerho kokoontuu Aivolassa. Tiedustelut Marjo p. 040 530 5803. Tällä kertaa aiheena on maalaus.
URL:https://aivovammayhdistykset.fi/tapahtuma/taidekerho-9/
LOCATION:Aivola\, Puutarhakatu 19 a\, liiketila 4\, Turku\, 20100\, Finland
CATEGORIES:Varsinais-Suomen aivovammayhdistys ry
END:VEVENT
BEGIN:VEVENT
DTSTART;TZID=Europe/Helsinki:20260218T153000
DTEND;TZID=Europe/Helsinki:20260218T170000
DTSTAMP:20260421T213012
CREATED:20251201T171353Z
LAST-MODIFIED:20251201T171353Z
UID:17643-1771428600-1771434000@aivovammayhdistykset.fi
SUMMARY:Nuoret Aikuiset
DESCRIPTION:Tule mukaan nuorten rentoon vertaistapaamiseen keskiviikkona 18.2. klo 15.30.- 17. Kahvila Iso-Ilmari (Huovisen leipomon myymälä) os. Ilmarinkatu 16\, Oulu. Tapaaminen on tarkoitettu nuorille ja nuorille aikuisille. Yhdistys tarjoaa pullakahvit.\nLisätietoja: Eila Sääskö. p. 040 765 6989\, eila.saasko@gmail.com
URL:https://aivovammayhdistykset.fi/tapahtuma/nuoret-aikuiset-24/
CATEGORIES:Oulun Seudun Aivovammayhdistys ry
END:VEVENT
BEGIN:VEVENT
DTSTART;TZID=Europe/Helsinki:20260219T170000
DTEND;TZID=Europe/Helsinki:20260219T190000
DTSTAMP:20260421T213012
CREATED:20260114T123206Z
LAST-MODIFIED:20260205T104151Z
UID:17973-1771520400-1771527600@aivovammayhdistykset.fi
SUMMARY:Tikkurilan helmikuun jäsenilta/Hakopolku 2
DESCRIPTION:Tikkurilan jäsenilta/Suuhygienistin esitelmä. \nPaikkana tällä kertaa Koivukylän asukastila. Monitoimitila käytössämme. \nTarjolla kahvit. Ilmoitathan tulostasi\, niin osataan varata riittävästi kahveja. \nHuom! Osoite on Hakopolku 2\, 01360 VANTAA \nhttps://www.vantaa.fi/fi/palveluhakemisto/toimipiste/koivukylan-asukastila
URL:https://aivovammayhdistykset.fi/tapahtuma/tikkurilan-helmikuun-jasenilta-suuhygienistin-esitelma-huom-paikka-ei-viela-tiedossa/
CATEGORIES:AVY Aivovammayhdistys ry,Uudenmaan Aivovammayhdistys ry
END:VEVENT
BEGIN:VEVENT
DTSTART;TZID=Europe/Helsinki:20260223T120000
DTEND;TZID=Europe/Helsinki:20260223T130000
DTSTAMP:20260421T213012
CREATED:20251231T120119Z
LAST-MODIFIED:20251231T120119Z
UID:17773-1771848000-1771851600@aivovammayhdistykset.fi
SUMMARY:Keilaus
DESCRIPTION:Tervetuloa keilaamaan Raision keilailukeskukseen maanantaisin klo 12.00–13.00. Kevätkauden kurssimaksu on 30 € (15 kertaa) ja yksittäisen käyntikerran osallistujamaksu on 4 €/kerta. Lisäksi tulee 1 € kenkävuokra\, joka maksetaan kassalle aina osallistuessa. Kauden kurssimaksu tai yksittäisen kerran osallistuminen maksetaan käteisellä (tasaraha) Terjelle tai Mobile Paylla yhdistyksen tapahtumakassaan\, numeroon 25861. Tiedustelut 044 314 4838.
URL:https://aivovammayhdistykset.fi/tapahtuma/keilaus-195/
CATEGORIES:Varsinais-Suomen aivovammayhdistys ry
END:VEVENT
BEGIN:VEVENT
DTSTART;TZID=Europe/Helsinki:20260223T180000
DTEND;TZID=Europe/Helsinki:20260223T190000
DTSTAMP:20260421T213012
CREATED:20260115T073210Z
LAST-MODIFIED:20260115T073210Z
UID:17982-1771869600-1771873200@aivovammayhdistykset.fi
SUMMARY:Sählyryhmä - Helsinki
DESCRIPTION:Kuntoutuskeskus Synapsia | Validia\, Nordenskiöldinkatu 18 B\, 00250 Helsinki. \nKausimaksu 70€ jäsenille. Tiedustelut yhdistyksen sähköpostiin: uudenmaan.aivovammayhdistys(at)gmail.com. \nJäsenmaksu sekä kausimaksu tulee olla maksettuna ennen osallistumista. \n\nRyhmä on suunnattu pääasiallisesti hyvin liikkuville. Ensimmäisillä kerroilla tehdään arviointi molemmin puolin\, riittääkö kunto/vamman tilanne siihen\, että pystyy turvallisesti pelaamaan. Koekerrasta ei tarvitse maksaa mikäli ei jatka!
URL:https://aivovammayhdistykset.fi/tapahtuma/sahlyryhma-helsinki-2/
CATEGORIES:AVY Aivovammayhdistys ry,Uudenmaan Aivovammayhdistys ry
END:VEVENT
BEGIN:VEVENT
DTSTART;TZID=Europe/Helsinki:20260224T150000
DTEND;TZID=Europe/Helsinki:20260224T160000
DTSTAMP:20260421T213012
CREATED:20251201T144632Z
LAST-MODIFIED:20251201T144632Z
UID:17627-1771945200-1771948800@aivovammayhdistykset.fi
SUMMARY:Keilaus
DESCRIPTION:Yhdistys on varannut jäsentemme käyttöön kaksi keilarataa tiistaisin 24.2\, klo 15-16\, Oulun Keilahallilta\, os. Isokatu 97. Keilaus on jäsenille maksuton ja tila on esteetön. Kenkävuokra 2 € on omakustanteinen.
URL:https://aivovammayhdistykset.fi/tapahtuma/keilaus-184/
CATEGORIES:Oulun Seudun Aivovammayhdistys ry
END:VEVENT
BEGIN:VEVENT
DTSTART;TZID=Europe/Helsinki:20260225T143000
DTEND;TZID=Europe/Helsinki:20260225T163000
DTSTAMP:20260421T213012
CREATED:20251202T102025Z
LAST-MODIFIED:20251202T102025Z
UID:17655-1772029800-1772037000@aivovammayhdistykset.fi
SUMMARY:Vertaistapaaminen
DESCRIPTION:Vertaistapaaminen keskiviikkona 25.2. klo 14.30- 16.30. Kahvila\nIso-Ilmari (Huovisen leipomon myymälä) os. Ilmarinkatu 16\, Oulu.\nVertaistapaamiseen ovat myös läheiset tervetulleita.\nTavataan yhdessäolon ja kahvittelun merkeissä.\nYhdistys tarjoaa pullakahvit.
URL:https://aivovammayhdistykset.fi/tapahtuma/vertaistapaaminen-13/
CATEGORIES:Oulun Seudun Aivovammayhdistys ry
END:VEVENT
BEGIN:VEVENT
DTSTART;TZID=Europe/Helsinki:20260225T150000
DTEND;TZID=Europe/Helsinki:20260225T170000
DTSTAMP:20260421T213012
CREATED:20260115T073823Z
LAST-MODIFIED:20260115T075900Z
UID:17988-1772031600-1772038800@aivovammayhdistykset.fi
SUMMARY:Helsingin seudun avoin vertaistukiryhmä – Aivoklubi
DESCRIPTION:Helsingin seudun avoin vertaistukiryhmä – Aivoklubi\nVetäjät: Esa Hyttinen\, Hannele Manner. Tiedustelut: uudenmaan.aivovammayhdistys@gmail.com \nTapaamiset ovat joka parittoman viikon ke klo 15–17 Kampin palvelukeskuksessa\, Famu-tila. Kahvitarjoilu omakustanteisesti\, (tapahtuman kulu on siis sen verran kuin käytät kahviin ja pullaan). \nLämpimästi tervetuloa.
URL:https://aivovammayhdistykset.fi/tapahtuma/helsingin-seudun-avoin-vertaistukiryhma-aivoklubi-4/
CATEGORIES:AVY Aivovammayhdistys ry,Uudenmaan Aivovammayhdistys ry
END:VEVENT
BEGIN:VEVENT
DTSTART;TZID=Europe/Helsinki:20260225T160000
DTEND;TZID=Europe/Helsinki:20260225T180000
DTSTAMP:20260421T213012
CREATED:20251231T130829Z
LAST-MODIFIED:20251231T130829Z
UID:17839-1772035200-1772042400@aivovammayhdistykset.fi
SUMMARY:Museoretki Malvaan
DESCRIPTION:Keskiviikkona 25.2. klo 16 vierailemme Malvassa\, Päijänteenkatu 9\, Lahti. Näyttelyinä ovat pysyvä Juuret – Aarteita kokoelmista\, teknologian kosketusta pohtiva Outo vetovoima ja Pasi Rauhala: Type 3 – Uuden maailman raunioilla\, joka ammentaa videopelien maailmoista ja vie kävijät mielikuvitusmatkalle tulevaisuuden yhteiskuntaan. \nYhdistys tarjoaa vierailun. Mikäli sinulla on Museokortti\, ota se mukaan. Kokoonnutaan aulassa vähän ennen neljää.
URL:https://aivovammayhdistykset.fi/tapahtuma/museoretki-malvaan/
LOCATION:Lahden visuaalisten taiteiden museo\, Päijänteenkatu 9\, Lahti
CATEGORIES:Lahti,Päijät-Häme,Päijät-Hämeen aivovammayhdistys ry
END:VEVENT
BEGIN:VEVENT
DTSTART;TZID=Europe/Helsinki:20260225T180000
DTEND;TZID=Europe/Helsinki:20260225T200000
DTSTAMP:20260421T213012
CREATED:20251231T123102Z
LAST-MODIFIED:20251231T123102Z
UID:17802-1772042400-1772049600@aivovammayhdistykset.fi
SUMMARY:Turun jäsenilta
DESCRIPTION:Vierailijana Ina Vihilehti / TULE-keskus aiheena uni ja lepo.
URL:https://aivovammayhdistykset.fi/tapahtuma/turun-jasenilta-10/
LOCATION:Aivola\, Puutarhakatu 19 a\, liiketila 4\, Turku\, 20100\, Finland
CATEGORIES:Varsinais-Suomen aivovammayhdistys ry
END:VEVENT
BEGIN:VEVENT
DTSTART;TZID=Europe/Helsinki:20260302T120000
DTEND;TZID=Europe/Helsinki:20260302T130000
DTSTAMP:20260421T213012
CREATED:20251231T123318Z
LAST-MODIFIED:20251231T123318Z
UID:17807-1772452800-1772456400@aivovammayhdistykset.fi
SUMMARY:Keilaus
DESCRIPTION:Tervetuloa keilaamaan Raision keilailukeskukseen maanantaisin klo 12.00–13.00. Kevätkauden kurssimaksu on 30 € (15 kertaa) ja yksittäisen käyntikerran osallistujamaksu on 4 €/kerta. Lisäksi tulee 1 € kenkävuokra\, joka maksetaan kassalle aina osallistuessa. Kauden kurssimaksu tai yksittäisen kerran osallistuminen maksetaan käteisellä (tasaraha) Terjelle tai Mobile Paylla yhdistyksen tapahtumakassaan\, numeroon 25861. Tiedustelut 044 314 4838.
URL:https://aivovammayhdistykset.fi/tapahtuma/keilaus-196/
CATEGORIES:Varsinais-Suomen aivovammayhdistys ry
END:VEVENT
BEGIN:VEVENT
DTSTART;TZID=Europe/Helsinki:20260302T170000
DTEND;TZID=Europe/Helsinki:20260302T190000
DTSTAMP:20260421T213012
CREATED:20251231T124403Z
LAST-MODIFIED:20260219T071329Z
UID:17827-1772470800-1772478000@aivovammayhdistykset.fi
SUMMARY:Hallituksen kokous
DESCRIPTION:Hallitus hoitaa yhdistyksen yhteisiä asioita ja tekee niistä päätöksiä.  \nMikäli sinulla on asiaa hallituksen jäsenille tai haluat\, että hallitus käsittelee kokouksessaan jonkin sinulle tärkeän asian\, ota yhteyttä hallituksen jäseniin joko suullisesti tai kirjallisesti ja esitä heille asiasi.
URL:https://aivovammayhdistykset.fi/tapahtuma/hallituksen-kokous-10/
LOCATION:Aivola\, Puutarhakatu 19 a\, liiketila 4\, Turku\, 20100\, Finland
CATEGORIES:Varsinais-Suomen aivovammayhdistys ry
END:VEVENT
BEGIN:VEVENT
DTSTART;TZID=Europe/Helsinki:20260303T140000
DTEND;TZID=Europe/Helsinki:20260303T150000
DTSTAMP:20260421T213012
CREATED:20260114T121607Z
LAST-MODIFIED:20260114T121607Z
UID:17967-1772546400-1772550000@aivovammayhdistykset.fi
SUMMARY:Hyvinkään toimintaryhmä maaliskuu Keilausta
DESCRIPTION:Tapaaminen tiistaina 3.3.26 Terhinpuusti https://terhinpuusti.fi/ 14.00-15.00  ja sen jälkeen Hyvinkään keilahalli https://www.hyvinkaankeilahalli.fi/   keilaus 15.00-16.00 \n\n\n\n\n\nTerhin puusti\nKauppalankatu 7-11\n05800 Hyvinkää\nHyvinkään keilahalli\nKauppalankatu 7-11\n05800 Hyvinkää\n\nLisätiedot vetäjältä: sakke.pihlaja@elisanet.fi.
URL:https://aivovammayhdistykset.fi/tapahtuma/hyvinkaan-toimintaryhma-maaliskuu-keilausta/
CATEGORIES:AVY Aivovammayhdistys ry,Uudenmaan Aivovammayhdistys ry
END:VEVENT
BEGIN:VEVENT
DTSTART;TZID=Europe/Helsinki:20260303T180000
DTEND;TZID=Europe/Helsinki:20260303T200000
DTSTAMP:20260421T213012
CREATED:20251231T124558Z
LAST-MODIFIED:20251231T124558Z
UID:17830-1772560800-1772568000@aivovammayhdistykset.fi
SUMMARY:Läheisten ryhmä
DESCRIPTION:Aivovammautuneen läheisten vertaistukiryhmä kokoontuu kerran kuussa vaihtamaan kuulumisiaan vertaistensa kanssa. Kokoontuminen on kuukauden ensimmäisenä tiistaina Aivolassa Toisinaan on myös muuta ohjelmaa. Ryhmään on kaikilla vapaa pääsy.\nLeila\, puh. 044 314 4838
URL:https://aivovammayhdistykset.fi/tapahtuma/laheisten-ryhma-15/
LOCATION:Aivola\, Puutarhakatu 19 a\, liiketila 4\, Turku\, 20100\, Finland
CATEGORIES:Varsinais-Suomen aivovammayhdistys ry
END:VEVENT
BEGIN:VEVENT
DTSTART;TZID=Europe/Helsinki:20260304T140000
DTEND;TZID=Europe/Helsinki:20260304T160000
DTSTAMP:20260421T213012
CREATED:20251231T124814Z
LAST-MODIFIED:20251231T124814Z
UID:17832-1772632800-1772640000@aivovammayhdistykset.fi
SUMMARY:Miesten Karjukerho
DESCRIPTION:Miesten ryhmä (Karjukerho) kokoontuu pari kertaa kuukaudessa. Miehet kokoontuvat kuukauden ensimmäisenä keskiviikkona Aivolassa juttelemassa ja kahvittelemassa samalla he yhteisesti päättävät siitä mikä on kuukauden toisen tapaamisen aihe ja missä se pidetään. Miesten ryhmään ovat kaikki tervetulleita. Miesten ryhmästä voit kysellä\nRisto\, puh. 040 506 5192.
URL:https://aivovammayhdistykset.fi/tapahtuma/miesten-karjukerho-32/
LOCATION:Aivola\, Puutarhakatu 19 a\, liiketila 4\, Turku\, 20100\, Finland
CATEGORIES:Varsinais-Suomen aivovammayhdistys ry
END:VEVENT
END:VCALENDAR