BEGIN:VCALENDAR
VERSION:2.0
PRODID:-//Aivovammayhdistykset - ECPv6.15.18//NONSGML v1.0//EN
CALSCALE:GREGORIAN
METHOD:PUBLISH
X-WR-CALNAME:Aivovammayhdistykset
X-ORIGINAL-URL:https://aivovammayhdistykset.fi
X-WR-CALDESC:Tapahtumat Aivovammayhdistykset
REFRESH-INTERVAL;VALUE=DURATION:PT1H
X-Robots-Tag:noindex
X-PUBLISHED-TTL:PT1H
BEGIN:VTIMEZONE
TZID:Europe/Helsinki
BEGIN:DAYLIGHT
TZOFFSETFROM:+0200
TZOFFSETTO:+0300
TZNAME:EEST
DTSTART:20240331T010000
END:DAYLIGHT
BEGIN:STANDARD
TZOFFSETFROM:+0300
TZOFFSETTO:+0200
TZNAME:EET
DTSTART:20241027T010000
END:STANDARD
BEGIN:DAYLIGHT
TZOFFSETFROM:+0200
TZOFFSETTO:+0300
TZNAME:EEST
DTSTART:20250330T010000
END:DAYLIGHT
BEGIN:STANDARD
TZOFFSETFROM:+0300
TZOFFSETTO:+0200
TZNAME:EET
DTSTART:20251026T010000
END:STANDARD
BEGIN:DAYLIGHT
TZOFFSETFROM:+0200
TZOFFSETTO:+0300
TZNAME:EEST
DTSTART:20260329T010000
END:DAYLIGHT
BEGIN:STANDARD
TZOFFSETFROM:+0300
TZOFFSETTO:+0200
TZNAME:EET
DTSTART:20261025T010000
END:STANDARD
BEGIN:DAYLIGHT
TZOFFSETFROM:+0200
TZOFFSETTO:+0300
TZNAME:EEST
DTSTART:20270328T010000
END:DAYLIGHT
BEGIN:STANDARD
TZOFFSETFROM:+0300
TZOFFSETTO:+0200
TZNAME:EET
DTSTART:20271031T010000
END:STANDARD
END:VTIMEZONE
BEGIN:VEVENT
DTSTART;TZID=Europe/Helsinki:20250901T180000
DTEND;TZID=Europe/Helsinki:20251208T190000
DTSTAMP:20260422T041950
CREATED:20250814T075401Z
LAST-MODIFIED:20250915T105154Z
UID:17214-1756749600-1765220400@aivovammayhdistykset.fi
SUMMARY:Maanantain Sählyryhmä
DESCRIPTION:Syyskausi 1.9.-8.12.2025 maanantaisin kello 18-19 \n70€/lukukausi. Jos käy vain kerran kokeilemassa\, niin maksu palautetaan. \nIlmoittaudu uudenmaan.aivovammayhdistys@gmail.com. \nKuntoutuskeskus Synapsia | Validia
URL:https://aivovammayhdistykset.fi/tapahtuma/maanantain-sahlyryhma/
LOCATION:Validia kuntoutus\, Nordenskiöldinkatu 18 B\, Helsinki\, 00250\, Suomi
CATEGORIES:AVY Aivovammayhdistys ry,Uudenmaan Aivovammayhdistys ry
END:VEVENT
BEGIN:VEVENT
DTSTART;VALUE=DATE:20250908
DTEND;VALUE=DATE:20251111
DTSTAMP:20260422T041950
CREATED:20250915T063915Z
LAST-MODIFIED:20250915T063915Z
UID:17357-1757289600-1762819199@aivovammayhdistykset.fi
SUMMARY:SataNeuron yhteinen liikuntaryhmä Ulvilassa syksy 2025
DESCRIPTION:
URL:https://aivovammayhdistykset.fi/tapahtuma/sataneuron-yhteinen-liikuntaryhma-ulvilassa-syksy-2025/
CATEGORIES:Satakunnan aivovammayhdistys ry
END:VEVENT
BEGIN:VEVENT
DTSTART;TZID=Europe/Helsinki:20250915T180000
DTEND;TZID=Europe/Helsinki:20251222T190000
DTSTAMP:20260422T041950
CREATED:20250915T115026Z
LAST-MODIFIED:20250915T115026Z
UID:17369-1757959200-1766430000@aivovammayhdistykset.fi
SUMMARY:Maanantain Sählyryhmä
DESCRIPTION:Syyskausi 1.9.-8.12.2025 maanantaisin kello 18-19 \n70€/lukukausi. Jos käy vain kerran kokeilemassa\, niin maksu palautetaan. \nIlmoittaudu uudenmaan.aivovammayhdistys@gmail.com. \nKuntoutuskeskus Synapsia | Validia
URL:https://aivovammayhdistykset.fi/tapahtuma/maanantain-sahlyryhma-2/
LOCATION:Validia kuntoutus\, Nordenskiöldinkatu 18 B\, Helsinki\, 00250\, Suomi
CATEGORIES:AVY Aivovammayhdistys ry,Uudenmaan Aivovammayhdistys ry
END:VEVENT
BEGIN:VEVENT
DTSTART;TZID=Europe/Helsinki:20250922T180000
DTEND;TZID=Europe/Helsinki:20251229T190000
DTSTAMP:20260422T041950
CREATED:20250915T115206Z
LAST-MODIFIED:20250915T115206Z
UID:17371-1758564000-1767034800@aivovammayhdistykset.fi
SUMMARY:Maanantain Sählyryhmä
DESCRIPTION:Syyskausi 1.9.-8.12.2025 maanantaisin kello 18-19 \n70€/lukukausi. Jos käy vain kerran kokeilemassa\, niin maksu palautetaan. \nIlmoittaudu uudenmaan.aivovammayhdistys@gmail.com. \nKuntoutuskeskus Synapsia | Validia
URL:https://aivovammayhdistykset.fi/tapahtuma/maanantain-sahlyryhma-3/
LOCATION:Validia kuntoutus\, Nordenskiöldinkatu 18 B\, Helsinki\, 00250\, Suomi
CATEGORIES:AVY Aivovammayhdistys ry,Uudenmaan Aivovammayhdistys ry
END:VEVENT
BEGIN:VEVENT
DTSTART;TZID=Europe/Helsinki:20250929T180000
DTEND;TZID=Europe/Helsinki:20260105T190000
DTSTAMP:20260422T041950
CREATED:20250915T115238Z
LAST-MODIFIED:20250915T115238Z
UID:17373-1759168800-1767639600@aivovammayhdistykset.fi
SUMMARY:Maanantain Sählyryhmä
DESCRIPTION:Syyskausi 1.9.-8.12.2025 maanantaisin kello 18-19 \n70€/lukukausi. Jos käy vain kerran kokeilemassa\, niin maksu palautetaan. \nIlmoittaudu uudenmaan.aivovammayhdistys@gmail.com. \nKuntoutuskeskus Synapsia | Validia
URL:https://aivovammayhdistykset.fi/tapahtuma/maanantain-sahlyryhma-4/
LOCATION:Validia kuntoutus\, Nordenskiöldinkatu 18 B\, Helsinki\, 00250\, Suomi
CATEGORIES:AVY Aivovammayhdistys ry,Uudenmaan Aivovammayhdistys ry
END:VEVENT
BEGIN:VEVENT
DTSTART;TZID=Europe/Helsinki:20251013T120000
DTEND;TZID=Europe/Helsinki:20251013T130000
DTSTAMP:20260422T041950
CREATED:20250623T112534Z
LAST-MODIFIED:20250623T112534Z
UID:16967-1760356800-1760360400@aivovammayhdistykset.fi
SUMMARY:Keilaus
DESCRIPTION:
URL:https://aivovammayhdistykset.fi/tapahtuma/keilaus-166/
CATEGORIES:Varsinais-Suomen aivovammayhdistys ry
END:VEVENT
BEGIN:VEVENT
DTSTART;TZID=Europe/Helsinki:20251013T171500
DTEND;TZID=Europe/Helsinki:20251013T171500
DTSTAMP:20260422T041950
CREATED:20250915T064956Z
LAST-MODIFIED:20250915T064956Z
UID:17364-1760375700-1760375700@aivovammayhdistykset.fi
SUMMARY:Vapaaehtoisvoimin toimivien yhdistysten verkostoitumistilaisuus
DESCRIPTION:
URL:https://aivovammayhdistykset.fi/tapahtuma/vapaaehtoisvoimin-toimivien-yhdistysten-verkostoitumistilaisuus/
LOCATION:Yhteisötalo Otava\, Suomi
CATEGORIES:Satakunnan aivovammayhdistys ry
END:VEVENT
BEGIN:VEVENT
DTSTART;TZID=Europe/Helsinki:20251014T173000
DTEND;TZID=Europe/Helsinki:20251014T193000
DTSTAMP:20260422T041950
CREATED:20250623T113241Z
LAST-MODIFIED:20250623T113241Z
UID:16977-1760463000-1760470200@aivovammayhdistykset.fi
SUMMARY:Salon ryhmän jäsenilta
DESCRIPTION:
URL:https://aivovammayhdistykset.fi/tapahtuma/salon-ryhman-jasenilta-2/
LOCATION:Salon Syty\, Helsingintie 6\, Salo\, Salo\, 24100\, Finland
CATEGORIES:Varsinais-Suomen aivovammayhdistys ry
END:VEVENT
BEGIN:VEVENT
DTSTART;TZID=Europe/Helsinki:20251015T103000
DTEND;TZID=Europe/Helsinki:20251015T113000
DTSTAMP:20260422T041950
CREATED:20250915T161637Z
LAST-MODIFIED:20250915T161637Z
UID:17386-1760524200-1760527800@aivovammayhdistykset.fi
SUMMARY:Liikuntaryhmä
DESCRIPTION:Uutta!! Lempeää\, kehoa huoltavaa hathajoogaa\nOuluhallin liikuntasalissa (lohko A1) 15.10 klo 10.30-\n11.30. Portista pääsee koodilla 20856# puoli tuntia\nennen tunnin alkua. Ohjaaja Juha Sarviaho. Maksuton.\nTämä jooga sopii kaikille. Tervetuloa rohkeasti mukaan!\nLiikuntahallilta löytyy jumppamattoja\, mutta jos sinulla on oma\, ota\nmukaan. Lisätietoja Auli Ollila\, p. 050 548 4420
URL:https://aivovammayhdistykset.fi/tapahtuma/liikuntaryhma-6/
CATEGORIES:Oulun Seudun Aivovammayhdistys ry
END:VEVENT
BEGIN:VEVENT
DTSTART;TZID=Europe/Helsinki:20251015T153000
DTEND;TZID=Europe/Helsinki:20251015T170000
DTSTAMP:20260422T041950
CREATED:20250626T140931Z
LAST-MODIFIED:20250728T070408Z
UID:17062-1760542200-1760547600@aivovammayhdistykset.fi
SUMMARY:Nuoret Aikuiset
DESCRIPTION:Tule mukaan nuorten rentoon vertaistapaamiseen keskiviikkoisin  15.10. klo 15.30-17. kahvila Iso-Ilmari (Huovisen leipomon myymälä) os. Ilmarinkatu 16\, Oulu . Tapaaminen on tarkoitettu nuorille ja nuorille aikuisille. Yhdistys tarjoaa pullakahvit.\nLisätietoja: Eila Sääskö\, p. 040 765 6989 tai eila.saasko@gmail.com
URL:https://aivovammayhdistykset.fi/tapahtuma/nuoret-aikuiset-20/
CATEGORIES:Oulun Seudun Aivovammayhdistys ry
END:VEVENT
BEGIN:VEVENT
DTSTART;VALUE=DATE:20251017
DTEND;VALUE=DATE:20251101
DTSTAMP:20260422T041950
CREATED:20251010T065823Z
LAST-MODIFIED:20251010T065823Z
UID:17444-1760659200-1761955199@aivovammayhdistykset.fi
SUMMARY:SataNeuro yhteistyö: Tule mukaan taideterapiaan
DESCRIPTION:
URL:https://aivovammayhdistykset.fi/tapahtuma/sataneuro-yhteistyo-tule-mukaan-taideterapiaan/
CATEGORIES:Satakunnan aivovammayhdistys ry
END:VEVENT
BEGIN:VEVENT
DTSTART;TZID=Europe/Helsinki:20251018T180000
DTEND;TZID=Europe/Helsinki:20251018T193000
DTSTAMP:20260422T041950
CREATED:20250922T092052Z
LAST-MODIFIED:20251014T085450Z
UID:17427-1760810400-1760815800@aivovammayhdistykset.fi
SUMMARY:Hyvinkään toimintaryhmä/ Sukkela runoehtoo Hyvinkääsali
DESCRIPTION:Hyvinkään toimintaryhmä järjestää Runotapahtuman lokakuussa. Suosittu sanataituri Heli Laaksonen esittää 1\,5h esityksen Hyvinkääsalissa. Tule mukaan iloiseen iltaan. \n”Laaksosen Heli meinaa\, että: \n– Elämä o välil harma ko renki-Jeren arkihousut\, eikä joka aamu pal nauruta\, pakko myäntä. Mut kysyn kumminki: onk ilosest miälest joskus haitta ollu? No sitä määki! Lähtekä mun föli iloittema elost.” \nLipun hinta jäsenmaksun maksaneille jäsenille 5€. \nHUOM. Ilmoittautuminen päättynyt. \nIlmoittautuminen 2.10.2026 mennessä sähköpostiin: uudenmaan.aivovammayhdistys@gmail.com \n 
URL:https://aivovammayhdistykset.fi/tapahtuma/ilonhilaaja-heli-laaksonen-sukkela-runoehtoo/
LOCATION:Hyvinkääsali\, Kauppatori 1\, Hyvinkää\, 00580
CATEGORIES:AVY Aivovammayhdistys ry,AVY Hyvinkään seutu,Uudenmaan Aivovammayhdistys ry
END:VEVENT
BEGIN:VEVENT
DTSTART;TZID=Europe/Helsinki:20251020T120000
DTEND;TZID=Europe/Helsinki:20251020T130000
DTSTAMP:20260422T041950
CREATED:20250623T112622Z
LAST-MODIFIED:20251019T132128Z
UID:16969-1760961600-1760965200@aivovammayhdistykset.fi
SUMMARY:Keilaus
DESCRIPTION:Tervetuloa keilaamaan Raision keilakeskukselle maanantaisin 8.9.2025 – 15.12. 2025  klo. 12.00 – 13.00. Syyskauden kurssimaksu on 30€ (15 kertaa) ja yksittäisen käyntikerran osallistujamaksu on 4€/kerta. Lisäksi tulee 1€ kenkävuokra\, joka maksetaan kassalle aina osallistuessa. Kauden kurssimaksu tai yksittäisen kerran osallistuminen maksetaan käteisellä (tasaraha) Terjelle tai Mobile Paylla yhdistyksen tapahtumakassaan\, numeroon 25861.
URL:https://aivovammayhdistykset.fi/tapahtuma/keilaus-167/
CATEGORIES:Varsinais-Suomen aivovammayhdistys ry
END:VEVENT
BEGIN:VEVENT
DTSTART;TZID=Europe/Helsinki:20251021T130000
DTEND;TZID=Europe/Helsinki:20251021T160000
DTSTAMP:20260422T041950
CREATED:20250829T052745Z
LAST-MODIFIED:20250829T052745Z
UID:17282-1761051600-1761062400@aivovammayhdistykset.fi
SUMMARY:Ensitietopäivä 21.10.2025\, klo 13-16\, Satasairaala
DESCRIPTION:Onko sinulle sattunut päävamma? Otetaan puheeksi aivovamma\nSatasairaalan neurologian yksikkö järjestää yhdessä Satakunnan aivovammayhdistyksen kanssa alle viisi vuotta sitten aivovamman saaneille ja heidän läheisilleen ensitietopäivän. \nPäivän tarkoituksena on saada tietoa aivovamman vuoksi muuttuneesta arjen ja haasteiden kohtaamisen keinoista\, kuntoutuksesta ja eri tukimuodoista.  \n  \nAika ja paikka \n21.10.2025  klo 13.00-16.00\, Satasairaala\, Dyyni-luentotila\, S1-rakennus  \n  \nOhjelma \nKlo 13.00       Aivovammojen tutkimus ja hoito Satakunnassa\, Satasairaalan neurologian yksikön ylilääkäri Juha Puustinen  \nKlo 13.45       Aivovamman vaikutukset mieleen ja muistiin – Arjen haasteita ja selviytymiskeinoja\, psykologi Niina Takagi \nKlo 14.30       Tauko\, tarjoilua \nKlo 15.00       Toimintakyvyn tukeminen arjessa\, toimintaterapeutti Julia Seikkula  \nKlo 15.30       Yhdistys ja liitto sairastuneiden ja läheisten tukena\, vertaistuki Satakunnan Aivovammayhdistys\, Taina Mäkitalo \n                           Aivovammaliiton toiminnanjohtaja\, Päivi Puhakka    \n                           Tapahtuma on maksuton ja avoin kaikille aiheesta kiinnostuneille. \n                           Osallistua voi yksin tai yhden läheisen kanssa. \n                           Tervetuloa! \nTarjoilun vuoksi ilmoittautumiset 14.10.2025 mennessä satakunnanaivovammayhdistys@gmail.com  tai kuntoutusohjaajalle puh. 044 7079816 tai sähköpostilla anne.joensuu@sata.fi \n \n 
URL:https://aivovammayhdistykset.fi/tapahtuma/ensitietopaiva-21-10-2025-klo-13-16-satasairaala/
LOCATION:Satasairaala
CATEGORIES:Satakunnan aivovammayhdistys ry
ATTACH;FMTTYPE=image/jpeg:https://aivovammayhdistykset.fi/wp-content/uploads/2025/08/Ensitietopaiva-Aivovamma-21.10.2025.jpg
END:VEVENT
BEGIN:VEVENT
DTSTART;TZID=Europe/Helsinki:20251021T150000
DTEND;TZID=Europe/Helsinki:20251021T160000
DTSTAMP:20260422T041950
CREATED:20250626T140214Z
LAST-MODIFIED:20250626T140222Z
UID:17051-1761058800-1761062400@aivovammayhdistykset.fi
SUMMARY:Keilaus
DESCRIPTION:Yhdistys on varannut jäsentemme käyttöön kaksi keilarataa tiistaisin 21.10 klo 15-16\, Oulun Keilahallilta\, os. Isokatu 97. Keilaus on jäsenille maksuton ja tila on esteetön. Kenkävuokra 2 € on omakustanteinen.
URL:https://aivovammayhdistykset.fi/tapahtuma/keilaus-176/
CATEGORIES:Oulun Seudun Aivovammayhdistys ry
END:VEVENT
BEGIN:VEVENT
DTSTART;TZID=Europe/Helsinki:20251022T100000
DTEND;TZID=Europe/Helsinki:20251022T170000
DTSTAMP:20260422T041950
CREATED:20251010T070148Z
LAST-MODIFIED:20251010T070148Z
UID:17450-1761127200-1761152400@aivovammayhdistykset.fi
SUMMARY:SataNeuro yhteistyö: Retki Kivikylään ja Raumalle
DESCRIPTION:
URL:https://aivovammayhdistykset.fi/tapahtuma/sataneuro-yhteistyo-retki-kivikylaan-ja-raumalle/
CATEGORIES:Satakunnan aivovammayhdistys ry
END:VEVENT
BEGIN:VEVENT
DTSTART;TZID=Europe/Helsinki:20251022T180000
DTEND;TZID=Europe/Helsinki:20251022T200000
DTSTAMP:20260422T041950
CREATED:20250623T113102Z
LAST-MODIFIED:20250623T113102Z
UID:16975-1761156000-1761163200@aivovammayhdistykset.fi
SUMMARY:Turun jäsenilta
DESCRIPTION:Aiheena: Heijastimien tekoa / Marjo ja Elina
URL:https://aivovammayhdistykset.fi/tapahtuma/turun-jasenilta-4/
CATEGORIES:Varsinais-Suomen aivovammayhdistys ry
END:VEVENT
BEGIN:VEVENT
DTSTART;TZID=Europe/Helsinki:20251023T150000
DTEND;TZID=Europe/Helsinki:20251025T170000
DTSTAMP:20260422T041950
CREATED:20250623T114415Z
LAST-MODIFIED:20250630T172250Z
UID:16979-1761231600-1761411600@aivovammayhdistykset.fi
SUMMARY:Vapaaehtoisten viikonloppu ja syysliittokokous
DESCRIPTION:Vapaaehtoisten viikonloppu torstai-perjantai ja syysliittokokous lauantaina. Ajankohdat ja hakuohjeet täsmentyvät lähempänä tapahtumia.
URL:https://aivovammayhdistykset.fi/tapahtuma/vapaaehtoisten-viikonloppu-ja-syysliittokokous/
LOCATION:Hotelli Nuuksio\, Espoo\, Naruportintie 68\, Espoo\, 02860\, Finland
CATEGORIES:Varsinais-Suomen aivovammayhdistys ry
END:VEVENT
BEGIN:VEVENT
DTSTART;TZID=Europe/Helsinki:20251023T170000
DTEND;TZID=Europe/Helsinki:20251023T190000
DTSTAMP:20260422T041950
CREATED:20251014T064628Z
LAST-MODIFIED:20251014T064705Z
UID:17464-1761238800-1761246000@aivovammayhdistykset.fi
SUMMARY:Tikkurilan jäsenilta/Muistiluotsin luento
DESCRIPTION:23.10.2025 klo 17-19 Muistiliitosta Muistiluotsi tulee pitämään luennon.
URL:https://aivovammayhdistykset.fi/tapahtuma/tikkurilan-jasenilta/
LOCATION:Tikkurilan asukastila\, Lummetie 2 b A\, VANTAA\, 01300
CATEGORIES:AVY Aivovammayhdistys ry,Uudenmaan Aivovammayhdistys ry
END:VEVENT
BEGIN:VEVENT
DTSTART;TZID=Europe/Helsinki:20251027T120000
DTEND;TZID=Europe/Helsinki:20251027T130000
DTSTAMP:20260422T041950
CREATED:20250623T112702Z
LAST-MODIFIED:20251019T132247Z
UID:16971-1761566400-1761570000@aivovammayhdistykset.fi
SUMMARY:Keilaus
DESCRIPTION:Tervetuloa keilaamaan Raision keilakeskukselle maanantaisin 8.9.2025 – 15.12. 2025  klo. 12.00 – 13.00. Syyskauden kurssimaksu on 30€ (15 kertaa) ja yksittäisen käyntikerran osallistujamaksu on 4€/kerta. Lisäksi tulee 1€ kenkävuokra\, joka maksetaan kassalle aina osallistuessa. Kauden kurssimaksu tai yksittäisen kerran osallistuminen maksetaan käteisellä (tasaraha) Terjelle tai Mobile Paylla yhdistyksen tapahtumakassaan\, numeroon 25861.
URL:https://aivovammayhdistykset.fi/tapahtuma/keilaus-168/
CATEGORIES:Varsinais-Suomen aivovammayhdistys ry
END:VEVENT
BEGIN:VEVENT
DTSTART;TZID=Europe/Helsinki:20251028T170000
DTEND;TZID=Europe/Helsinki:20251028T180000
DTSTAMP:20260422T041950
CREATED:20250821T064537Z
LAST-MODIFIED:20250821T064537Z
UID:17229-1761670800-1761674400@aivovammayhdistykset.fi
SUMMARY:KEILAUSTA
DESCRIPTION:Tiistaina 28.10. klo 17-18 mennään yhdessä keilaamaan Lahden keilahalliin\, Launeenkatu 5\, 15100 Lahti. \nYhdistys maksaa ratavuoron ja keilakenkien vuokran. Hallissa pääsee esteettömästi sisään ja radoille myös pyörätuolilla.
URL:https://aivovammayhdistykset.fi/tapahtuma/keilausta-2/
LOCATION:Lahden Keilahalli\, Launeenkatu 5\, Lahti\, 15110
CATEGORIES:Lahti,Päijät-Hämeen aivovammayhdistys ry
END:VEVENT
BEGIN:VEVENT
DTSTART;TZID=Europe/Helsinki:20251029T130000
DTEND;TZID=Europe/Helsinki:20251029T150000
DTSTAMP:20260422T041950
CREATED:20250626T135548Z
LAST-MODIFIED:20250920T082142Z
UID:17045-1761742800-1761750000@aivovammayhdistykset.fi
SUMMARY:Tutustuminen Oulun Automuseoon /vertaistapaaminen
DESCRIPTION:Tutustuminen Oulun Automuseoon/ vertaistapaaminen keskiviikkona 29.10. klo\n13.00-15.00 os. Automuseontie 3. Museossa on yli 60 ajoneuvoa ja vanhimmat ovat\naina 1900-luvulta. Mukana on autoja\, konepyoriä\, erilaisia moottoreita\,\npienoismalleja\, valokuvia ja kirjallisuutta. Opastuskierros on maksuton kaikille\,\njäsenille yhdistys tarjoaa pullakahvit lounaskahvila Biilissä ja pääsylipun\nAutomuseoon (ei jäsen 8 e). Ilmoittautumiset 21.10. mennessä Eilalle\, p. 040 765\n6989 tai eila.saasko@gmail.com
URL:https://aivovammayhdistykset.fi/tapahtuma/tutustuminen-oulun-automuseoon-vertaistapaaminen/
CATEGORIES:Oulun Seudun Aivovammayhdistys ry
END:VEVENT
BEGIN:VEVENT
DTSTART;TZID=Europe/Helsinki:20251029T160000
DTEND;TZID=Europe/Helsinki:20251029T180000
DTSTAMP:20260422T041950
CREATED:20251014T093459Z
LAST-MODIFIED:20251014T093610Z
UID:17479-1761753600-1761760800@aivovammayhdistykset.fi
SUMMARY:Aivovammautuneen hyvinvointi ja palautuminen rasituksesta-1. luento
DESCRIPTION:Keskiviikko 29.10. kello 16–18 Aiheena uni ja lepo\, Puhujana Merita Turunen (neuropsykologian erikoispsykologi\, PsL) \nPaikka: Aivovammaliiton neuvottelutila\, Malminkaari 5 B\, 4. krs. Helsinki\, Malmi \nTilaisuus on ilmainen. \n 
URL:https://aivovammayhdistykset.fi/tapahtuma/aivovammautuneen-hyvinvointi-ja-palautuminen-rasituksesta-luento/
LOCATION:Aivovammaliiton toimitila\, Malminkaari 5\, Helsinki\, 00700\, Suomi
CATEGORIES:AVY Aivovammayhdistys ry,Uudenmaan Aivovammayhdistys ry
END:VEVENT
BEGIN:VEVENT
DTSTART;TZID=Europe/Helsinki:20251103T120000
DTEND;TZID=Europe/Helsinki:20251103T130000
DTSTAMP:20260422T041950
CREATED:20250623T115113Z
LAST-MODIFIED:20251019T132337Z
UID:16986-1762171200-1762174800@aivovammayhdistykset.fi
SUMMARY:Keilaus
DESCRIPTION:Tervetuloa keilaamaan Raision keilakeskukselle maanantaisin 8.9.2025 – 15.12. 2025  klo. 12.00 – 13.00. Syyskauden kurssimaksu on 30€ (15 kertaa) ja yksittäisen käyntikerran osallistujamaksu on 4€/kerta. Lisäksi tulee 1€ kenkävuokra\, joka maksetaan kassalle aina osallistuessa. Kauden kurssimaksu tai yksittäisen kerran osallistuminen maksetaan käteisellä (tasaraha) Terjelle tai Mobile Paylla yhdistyksen tapahtumakassaan\, numeroon 25861.
URL:https://aivovammayhdistykset.fi/tapahtuma/keilaus-169/
CATEGORIES:Varsinais-Suomen aivovammayhdistys ry
END:VEVENT
BEGIN:VEVENT
DTSTART;TZID=Europe/Helsinki:20251104T130000
DTEND;TZID=Europe/Helsinki:20251104T150000
DTSTAMP:20260422T041950
CREATED:20250813T075027Z
LAST-MODIFIED:20251028T075808Z
UID:17197-1762261200-1762268400@aivovammayhdistykset.fi
SUMMARY:Hyvinkään toimintaryhmä marraskuu
DESCRIPTION:Marraskuun tapaaminen: tiistaina 4.11. kello 13-15\,  huom! paikka vaihtunut. \nTapaaminen on Onnensillassa\, Kankurinkatu 4-6 rappu A7\n05800 Hyvinkää\npuh. 045 168 4577 . \nAlakerran kahvio on esteetön\, yläkertaan on jyrkät portaat\, hissin käyttöä suositellaan. \nEnsin juodaan kahvit alhaalla ja sitten siirrymme yläkertaan Kalle tilaan. \nKahvit omakustanteiset 1€+ kahvileipä 1€-3€. \nSitovat ilmoittautumiset 2.11.2025 sähköpostiin: sarjasanna231 (at) gmail.com. \nTerveisin Sanna ja Kari \nVaravetäjät
URL:https://aivovammayhdistykset.fi/tapahtuma/hyvinkaan-toimintaryhma-marraskuu/
LOCATION:Järjestökeskus Onnensilta\, Siltakatu 6\, Hyvinkää\, 05900\, Suomi
CATEGORIES:AVY Aivovammayhdistys ry,Uudenmaan Aivovammayhdistys ry
END:VEVENT
BEGIN:VEVENT
DTSTART;TZID=Europe/Helsinki:20251104T160000
DTEND;TZID=Europe/Helsinki:20251104T173000
DTSTAMP:20260422T041950
CREATED:20250623T131053Z
LAST-MODIFIED:20250623T131053Z
UID:17029-1762272000-1762277400@aivovammayhdistykset.fi
SUMMARY:Hallituksen kokous
DESCRIPTION:
URL:https://aivovammayhdistykset.fi/tapahtuma/hallituksen-kokous-7/
LOCATION:Aurakatu 15\, Aurakatu 15\, Turku\, Finland
CATEGORIES:Varsinais-Suomen aivovammayhdistys ry
END:VEVENT
BEGIN:VEVENT
DTSTART;TZID=Europe/Helsinki:20251104T180000
DTEND;TZID=Europe/Helsinki:20251104T200000
DTSTAMP:20260422T041950
CREATED:20250623T115005Z
LAST-MODIFIED:20250623T115005Z
UID:16984-1762279200-1762286400@aivovammayhdistykset.fi
SUMMARY:Läheisten tapaaminen
DESCRIPTION:Koollekutsujana Leila Visa
URL:https://aivovammayhdistykset.fi/tapahtuma/laheisten-tapaaminen-10/
LOCATION:Aurakatu 15\, Aurakatu 15\, Turku\, Finland
CATEGORIES:Varsinais-Suomen aivovammayhdistys ry
END:VEVENT
BEGIN:VEVENT
DTSTART;TZID=Europe/Helsinki:20251105T163000
DTEND;TZID=Europe/Helsinki:20251105T190000
DTSTAMP:20260422T041950
CREATED:20251028T111728Z
LAST-MODIFIED:20251028T114605Z
UID:17533-1762360200-1762369200@aivovammayhdistykset.fi
SUMMARY:Nuorten tapaaminen Malmilla
DESCRIPTION:Tervetuloa viettämään hauskaa aikaa & hengailemaan yhdessä muiden nuorten kanssa! \nTarjolla teetä\, kahvia\, ja pientä purtavaa \n\nTapaamiset pidetään joka kuun ensimmäinen keskiviikko.\nTapaamisen kesto 2\,5 tuntia\, lähtökohtaisesti klo 16.30–19.00.\n\nIlmoittautuminen toivottavaa\, muttei pakollista. Laita viestiä osoitteeseen uudenmaan.aivovammayhdistys@gmail.com. \nPaikkana Aivovammaliiton oleskelutila.
URL:https://aivovammayhdistykset.fi/tapahtuma/nuorten-tapaaminen-malmilla/
LOCATION:Aivovammaliiton toimitila\, Malminkaari 5\, Helsinki\, 00700\, Suomi
CATEGORIES:AVY Aivovammayhdistys ry,Uudenmaan Aivovammayhdistys ry
END:VEVENT
BEGIN:VEVENT
DTSTART;TZID=Europe/Helsinki:20251106T140000
DTEND;TZID=Europe/Helsinki:20251106T153000
DTSTAMP:20260422T041950
CREATED:20250115T193547Z
LAST-MODIFIED:20250403T193347Z
UID:16144-1762437600-1762443000@aivovammayhdistykset.fi
SUMMARY:Naisten ja Miesten vertaistukitapaaminen
DESCRIPTION:
URL:https://aivovammayhdistykset.fi/tapahtuma/naisten-ja-miesten-vertaistuki-tapaaminen-8/
CATEGORIES:Varsinais-Suomen aivovammayhdistys ry
END:VEVENT
BEGIN:VEVENT
DTSTART;TZID=Europe/Helsinki:20251110T120000
DTEND;TZID=Europe/Helsinki:20251110T130000
DTSTAMP:20260422T041950
CREATED:20250623T115144Z
LAST-MODIFIED:20251019T132427Z
UID:16988-1762776000-1762779600@aivovammayhdistykset.fi
SUMMARY:Keilaus
DESCRIPTION:Tervetuloa keilaamaan Raision keilakeskukselle maanantaisin 8.9.2025 – 15.12. 2025  klo. 12.00 – 13.00. Syyskauden kurssimaksu on 30€ (15 kertaa) ja yksittäisen käyntikerran osallistujamaksu on 4€/kerta. Lisäksi tulee 1€ kenkävuokra\, joka maksetaan kassalle aina osallistuessa. Kauden kurssimaksu tai yksittäisen kerran osallistuminen maksetaan käteisellä (tasaraha) Terjelle tai Mobile Paylla yhdistyksen tapahtumakassaan\, numeroon 25861.
URL:https://aivovammayhdistykset.fi/tapahtuma/keilaus-170/
CATEGORIES:Varsinais-Suomen aivovammayhdistys ry
END:VEVENT
END:VCALENDAR