BEGIN:VCALENDAR
VERSION:2.0
PRODID:-//Aivovammayhdistykset - ECPv6.15.18//NONSGML v1.0//EN
CALSCALE:GREGORIAN
METHOD:PUBLISH
X-WR-CALNAME:Aivovammayhdistykset
X-ORIGINAL-URL:https://aivovammayhdistykset.fi
X-WR-CALDESC:Tapahtumat Aivovammayhdistykset
REFRESH-INTERVAL;VALUE=DURATION:PT1H
X-Robots-Tag:noindex
X-PUBLISHED-TTL:PT1H
BEGIN:VTIMEZONE
TZID:Europe/Helsinki
BEGIN:DAYLIGHT
TZOFFSETFROM:+0200
TZOFFSETTO:+0300
TZNAME:EEST
DTSTART:20240331T010000
END:DAYLIGHT
BEGIN:STANDARD
TZOFFSETFROM:+0300
TZOFFSETTO:+0200
TZNAME:EET
DTSTART:20241027T010000
END:STANDARD
BEGIN:DAYLIGHT
TZOFFSETFROM:+0200
TZOFFSETTO:+0300
TZNAME:EEST
DTSTART:20250330T010000
END:DAYLIGHT
BEGIN:STANDARD
TZOFFSETFROM:+0300
TZOFFSETTO:+0200
TZNAME:EET
DTSTART:20251026T010000
END:STANDARD
BEGIN:DAYLIGHT
TZOFFSETFROM:+0200
TZOFFSETTO:+0300
TZNAME:EEST
DTSTART:20260329T010000
END:DAYLIGHT
BEGIN:STANDARD
TZOFFSETFROM:+0300
TZOFFSETTO:+0200
TZNAME:EET
DTSTART:20261025T010000
END:STANDARD
END:VTIMEZONE
BEGIN:VEVENT
DTSTART;TZID=Europe/Helsinki:20250317T120000
DTEND;TZID=Europe/Helsinki:20250317T130000
DTSTAMP:20260422T191558
CREATED:20250107T100735Z
LAST-MODIFIED:20250107T100735Z
UID:16027-1742212800-1742216400@aivovammayhdistykset.fi
SUMMARY:Keilaus
DESCRIPTION:Tarkemmat tiedot löydät sivun ylälaidasta kohdasta keilaus.
URL:https://aivovammayhdistykset.fi/tapahtuma/keilaus-147/
CATEGORIES:Varsinais-Suomen aivovammayhdistys ry
END:VEVENT
BEGIN:VEVENT
DTSTART;TZID=Europe/Helsinki:20250318T180000
DTEND;TZID=Europe/Helsinki:20250318T200000
DTSTAMP:20260422T191558
CREATED:20250115T194540Z
LAST-MODIFIED:20250115T194540Z
UID:16148-1742320800-1742328000@aivovammayhdistykset.fi
SUMMARY:Yhdistyksen vuosikokous!
DESCRIPTION:Tervetuloa yhdistyksen vuosikokoukseen!
URL:https://aivovammayhdistykset.fi/tapahtuma/yhdistyksen-vuosikokous-5/
CATEGORIES:Varsinais-Suomen aivovammayhdistys ry
END:VEVENT
BEGIN:VEVENT
DTSTART;TZID=Europe/Helsinki:20250319T160000
DTEND;TZID=Europe/Helsinki:20250319T180000
DTSTAMP:20260422T191558
CREATED:20250113T155745Z
LAST-MODIFIED:20250113T155750Z
UID:16108-1742400000-1742407200@aivovammayhdistykset.fi
SUMMARY:Nuoret aikuiset
DESCRIPTION:Tule mukaan nuorten rentoon vertaistapaamiseen ke 19.3. klo 16-18 kahvila Joo Hetki os. Satamatie 5\, Oulu.\nTapaaminen on tarkoitettu nuorille ja nuorille aikuisille\, joilla on aivovamma. Yhdistys tarjoaa pullakahvit.\nLisätietoja puheenjohtajalta: Eila Sääskö\, puh. 040 765 6989\, eila.saasko@gmail.com
URL:https://aivovammayhdistykset.fi/tapahtuma/nuoret-aikuiset-14/
CATEGORIES:Oulun Seudun Aivovammayhdistys ry
END:VEVENT
BEGIN:VEVENT
DTSTART;TZID=Europe/Helsinki:20250320T080000
DTEND;TZID=Europe/Helsinki:20250320T170000
DTSTAMP:20260422T191558
CREATED:20250320T050314Z
LAST-MODIFIED:20250320T050314Z
UID:16398-1742457600-1742490000@aivovammayhdistykset.fi
SUMMARY:Testi
DESCRIPTION:
URL:https://aivovammayhdistykset.fi/tapahtuma/testi-2/
CATEGORIES:AVY Aivovammayhdistys ry
END:VEVENT
BEGIN:VEVENT
DTSTART;TZID=Europe/Helsinki:20250324T120000
DTEND;TZID=Europe/Helsinki:20250324T130000
DTSTAMP:20260422T191558
CREATED:20250107T101043Z
LAST-MODIFIED:20250107T101043Z
UID:16029-1742817600-1742821200@aivovammayhdistykset.fi
SUMMARY:Keilaus
DESCRIPTION:Tarkemmat tiedot löydät sivun ylälaidasta kohdasta keilaus.
URL:https://aivovammayhdistykset.fi/tapahtuma/keilaus-148/
CATEGORIES:Varsinais-Suomen aivovammayhdistys ry
END:VEVENT
BEGIN:VEVENT
DTSTART;TZID=Europe/Helsinki:20250325T150000
DTEND;TZID=Europe/Helsinki:20250325T160000
DTSTAMP:20260422T191558
CREATED:20241127T154126Z
LAST-MODIFIED:20241127T154126Z
UID:15840-1742914800-1742918400@aivovammayhdistykset.fi
SUMMARY:Keilaus
DESCRIPTION:Yhdistys on varannut jäsentemme käyttöön kaksi keilarataa tiistaisin  25.3  klo 15.00-16.00 Oulun Keilahallilta os. Isokatu 97\, esteetön tila ja jäsenille maksuton.\nKenkävuokra 2 € on omakustanteinen.
URL:https://aivovammayhdistykset.fi/tapahtuma/keilaus-133/
CATEGORIES:Oulun Seudun Aivovammayhdistys ry
END:VEVENT
BEGIN:VEVENT
DTSTART;VALUE=DATE:20250326
DTEND;VALUE=DATE:20250327
DTSTAMP:20260422T191558
CREATED:20180214T112243Z
LAST-MODIFIED:20250325T120746Z
UID:3152-1742947200-1743033599@aivovammayhdistykset.fi
SUMMARY:Testi 26.3.2025
DESCRIPTION:Testi 26.3.2025
URL:https://aivovammayhdistykset.fi/tapahtuma/testi/
CATEGORIES:AVY Aivovammayhdistys ry,Pääkaupunkiseutu
ATTACH;FMTTYPE=image/jpeg:https://aivovammayhdistykset.fi/wp-content/uploads/2018/02/kuva-scaled.jpg
END:VEVENT
BEGIN:VEVENT
DTSTART;TZID=Europe/Helsinki:20250326T150000
DTEND;TZID=Europe/Helsinki:20250326T170000
DTSTAMP:20260422T191558
CREATED:20241127T173239Z
LAST-MODIFIED:20250113T160256Z
UID:15854-1743001200-1743008400@aivovammayhdistykset.fi
SUMMARY:Vertaistapaaminen
DESCRIPTION:Vertaistapaaminen ke 26.3. klo 15-17 kahvila Joo Hetki os. Satamatie 5. Tavataan kahvittelun ja yhdessäolon merkeissä. Läheiset ovat myös tervetulleita. Yhdistys tarjoaa pullakahvit.
URL:https://aivovammayhdistykset.fi/tapahtuma/vertaistapaaminen-6/
CATEGORIES:Oulun Seudun Aivovammayhdistys ry
END:VEVENT
BEGIN:VEVENT
DTSTART;TZID=Europe/Helsinki:20250331T120000
DTEND;TZID=Europe/Helsinki:20250331T130000
DTSTAMP:20260422T191558
CREATED:20250107T101233Z
LAST-MODIFIED:20250107T101233Z
UID:16031-1743422400-1743426000@aivovammayhdistykset.fi
SUMMARY:Keilaus
DESCRIPTION:Tarkemmat tiedot löydät sivun ylälaidasta kohdasta keilaus.
URL:https://aivovammayhdistykset.fi/tapahtuma/keilaus-149/
CATEGORIES:Varsinais-Suomen aivovammayhdistys ry
END:VEVENT
BEGIN:VEVENT
DTSTART;TZID=Europe/Helsinki:20250401T163000
DTEND;TZID=Europe/Helsinki:20250401T173000
DTSTAMP:20260422T191558
CREATED:20250115T192255Z
LAST-MODIFIED:20250331T154324Z
UID:16128-1743525000-1743528600@aivovammayhdistykset.fi
SUMMARY:Taidekerho
DESCRIPTION:Tällä kerralla maalataan tauluja. Vetäjänä Marjo Tiainen
URL:https://aivovammayhdistykset.fi/tapahtuma/taidekerho-3/
CATEGORIES:Varsinais-Suomen aivovammayhdistys ry
END:VEVENT
BEGIN:VEVENT
DTSTART;TZID=Europe/Helsinki:20250401T180000
DTEND;TZID=Europe/Helsinki:20250401T200000
DTSTAMP:20260422T191558
CREATED:20250115T194846Z
LAST-MODIFIED:20250331T154213Z
UID:16152-1743530400-1743537600@aivovammayhdistykset.fi
SUMMARY:Jäsenilta
DESCRIPTION:Ohjelmassa tasapainoharjoitteet\, Tule-keskus\, Ina Vihilehti
URL:https://aivovammayhdistykset.fi/tapahtuma/jasenilta-46/
CATEGORIES:Varsinais-Suomen aivovammayhdistys ry
END:VEVENT
BEGIN:VEVENT
DTSTART;TZID=Europe/Helsinki:20250403T140000
DTEND;TZID=Europe/Helsinki:20250403T153000
DTSTAMP:20260422T191558
CREATED:20250115T192834Z
LAST-MODIFIED:20250115T192834Z
UID:16134-1743688800-1743694200@aivovammayhdistykset.fi
SUMMARY:Naisten ja Miesten vertaistuki tapaaminen
DESCRIPTION:
URL:https://aivovammayhdistykset.fi/tapahtuma/naisten-ja-miesten-vertaistuki-tapaaminen-3/
CATEGORIES:Varsinais-Suomen aivovammayhdistys ry
END:VEVENT
BEGIN:VEVENT
DTSTART;TZID=Europe/Helsinki:20250407T120000
DTEND;TZID=Europe/Helsinki:20250407T130000
DTSTAMP:20260422T191558
CREATED:20250107T101415Z
LAST-MODIFIED:20250107T101415Z
UID:16033-1744027200-1744030800@aivovammayhdistykset.fi
SUMMARY:Keilaus
DESCRIPTION:Tarkemmat tiedot löydät sivun ylälaidasta kohdasta keilaus.
URL:https://aivovammayhdistykset.fi/tapahtuma/keilaus-150/
CATEGORIES:Varsinais-Suomen aivovammayhdistys ry
END:VEVENT
BEGIN:VEVENT
DTSTART;TZID=Europe/Helsinki:20250408T150000
DTEND;TZID=Europe/Helsinki:20250408T160000
DTSTAMP:20260422T191558
CREATED:20241127T155358Z
LAST-MODIFIED:20241127T155358Z
UID:15842-1744124400-1744128000@aivovammayhdistykset.fi
SUMMARY:Keilaus
DESCRIPTION:Yhdistys on varannut jäsentemme käyttöön kaksi keilarataa tiistaisin  8.4  klo 15.00-16.00 Oulun Keilahallilta os. Isokatu 97\, esteetön tila ja jäsenille maksuton.\nKenkävuokra 2 € on omakustanteinen.
URL:https://aivovammayhdistykset.fi/tapahtuma/keilaus-134/
CATEGORIES:Oulun Seudun Aivovammayhdistys ry
END:VEVENT
BEGIN:VEVENT
DTSTART;TZID=Europe/Helsinki:20250410T160000
DTEND;TZID=Europe/Helsinki:20250410T170000
DTSTAMP:20260422T191558
CREATED:20250331T123144Z
LAST-MODIFIED:20250401T045123Z
UID:16565-1744300800-1744304400@aivovammayhdistykset.fi
SUMMARY:AIVORUOKAILUA-Miten edistät aivojen hyvinvointia ruokailutottumuksillasi verkkoluento
DESCRIPTION:Luennoitsija: Jaana Laitinen\, ravitsemusterapeutti\, dosentti \nAika: 10.4.2025 klo 16-17 \nPaikka: Teams sekä Kumppanuuskeskus\, Kansankatu 53\, Oulu \nLuentoa voit seurata joko omalta tietokoneelta alla olevan Teams linkin kautta tai Kumppanuuskeskuksessa (Kansankatu 53\, 90100 OULU\, käynti Vanhatullinkadun puolelta) kokoustila Asemassa\, jossa esitys näkyy valkokankaalta ja tarjolla on aivoterveellistä naposteltavaa. \nLuennolle ei ole ilmoittautumisia. Tulethan Kumppanuuskeskukseen viim. klo 15.45 tai liitythän linjoille klo 15.50\, että pääsemme aloittamaan klo 16.00! Luento on kaikille avoin ja maksuton.  \nLisätiedot ja mahdolliset ennakkokysymykset luennoitsijalle: \nAuli p. 050 548 4420 tai e-mail: ollilaauli@gmail.com \nJärjestäjä: Oulun seudun aivovammayhdistys ry \nLinkki Teamsiin: \nMicrosoft Teams Tarvitsetko apua? \nLiity kokoukseen nyt \nKokoustunnus: 365 921 700 901 \nTunnuskoodi: Qx255La7
URL:https://aivovammayhdistykset.fi/tapahtuma/webinaari-aivoruokailua-miten-edistat-aivojen-hyvinvointia-ruokailutottumuksillasi/
LOCATION:Kumppanuuskeskus\, Kansankatu 53\, Oulu\, Finland
CATEGORIES:Oulu,Oulun Seudun Aivovammayhdistys ry
ATTACH;FMTTYPE=application/pdf:https://aivovammayhdistykset.fi/wp-content/uploads/2025/03/Aivoruokailua_mainos_OSA-3.pdf
END:VEVENT
BEGIN:VEVENT
DTSTART;TZID=Europe/Helsinki:20250414T120000
DTEND;TZID=Europe/Helsinki:20250414T130000
DTSTAMP:20260422T191558
CREATED:20250107T101648Z
LAST-MODIFIED:20250107T101825Z
UID:16038-1744632000-1744635600@aivovammayhdistykset.fi
SUMMARY:Keilaus
DESCRIPTION:Tarkemmat tiedot löydät sivun ylälaidasta kohdasta keilaus.
URL:https://aivovammayhdistykset.fi/tapahtuma/keilaus-151/
CATEGORIES:Varsinais-Suomen aivovammayhdistys ry
END:VEVENT
BEGIN:VEVENT
DTSTART;TZID=Europe/Helsinki:20250415T140000
DTEND;TZID=Europe/Helsinki:20250415T160000
DTSTAMP:20260422T191558
CREATED:20250120T115432Z
LAST-MODIFIED:20250120T115432Z
UID:16193-1744725600-1744732800@aivovammayhdistykset.fi
SUMMARY:Tutustuminen Hiihtomuseoon
DESCRIPTION:Tiistaina 15.4. klo 14 tutustumme Hiihtomuseoon\, Salpausselänkatu 8\, Lahti.  Perusnäyttely Hiihdon henkeä tarjoaa elämyksiä ja tietoa hiihdon vauhdikkaasta historiasta. Sisulla sankariksi-näyttely puolestaan kertoo suomalaisen kilpahiihdon kultakaudesta. \nYhdistys tarjoaa vierailun. Mikäli sinulla on Museokortti\, ota se mukaan. Kokoonnutaan aulassa vähän ennen kahta. \nHiihtomuseon pääovi löytyy mäkikatsomon pohjoispuolelta. Urheilukeskuksen alueella on maksuton kiekkopysäköinti (4h). Lahden Seudun Liikenteen vuorot 1\, 18 ja 19 kuljettavat lähimmäs Hiihtomuseota. Invapysäköintipaikat sijaitsevat museosisäänkäynnin lähettyvillä\, Ravintola Voiton edustalla. \nHiihtomuseon sisäänkäynti on esteetön. Museossa on kolme kerrosta\, joiden välillä voi liikkua hissillä tai porraskiipijällä. Museon katutasosta löytyy esteetön wc. Hiihtomuseossa on lainattava pyörätuoli. \n. \n 
URL:https://aivovammayhdistykset.fi/tapahtuma/tutustuminen-hiihtomuseoon/
LOCATION:Hiihtomuseo\, Salpausselänkatu 8\, Lahti
CATEGORIES:Päijät-Hämeen aivovammayhdistys ry
END:VEVENT
BEGIN:VEVENT
DTSTART;TZID=Europe/Helsinki:20250415T180000
DTEND;TZID=Europe/Helsinki:20250415T200000
DTSTAMP:20260422T191558
CREATED:20250129T171652Z
LAST-MODIFIED:20250206T203207Z
UID:16219-1744740000-1744747200@aivovammayhdistykset.fi
SUMMARY:Jäsenilta: Musiikin kuntouttava vaikutus!
DESCRIPTION:Aiheena: musiikin kuntouttava vaikutus neurologisella potilaalla. \nPuhujana: Riitta Danielsson-Ojala\, Tyks Neurokeskus.
URL:https://aivovammayhdistykset.fi/tapahtuma/jasenilta-47/
CATEGORIES:Varsinais-Suomen aivovammayhdistys ry
END:VEVENT
BEGIN:VEVENT
DTSTART;TZID=Europe/Helsinki:20250416T160000
DTEND;TZID=Europe/Helsinki:20250416T180000
DTSTAMP:20260422T191558
CREATED:20250113T155835Z
LAST-MODIFIED:20250327T122558Z
UID:16110-1744819200-1744826400@aivovammayhdistykset.fi
SUMMARY:Nuoret aikuiset
DESCRIPTION:Tule mukaan nuorten rentoon vertaistapaamiseen ke 16.4. klo 16-18 kahvila Joo Hetki os. Satamatie 5\, Oulu.\nTapaaminen on tarkoitettu nuorille ja nuorille aikuisille. Yhdistys tarjoaa pullakahvit.\nLisätietoja puheenjohtajalta: Eila Sääskö\, puh. 040 765 6989\, eila.saasko@gmail.com
URL:https://aivovammayhdistykset.fi/tapahtuma/nuoret-aikuiset-15/
CATEGORIES:Oulun Seudun Aivovammayhdistys ry
END:VEVENT
BEGIN:VEVENT
DTSTART;TZID=Europe/Helsinki:20250422T150000
DTEND;TZID=Europe/Helsinki:20250422T160000
DTSTAMP:20260422T191558
CREATED:20241127T155513Z
LAST-MODIFIED:20241127T155513Z
UID:15844-1745334000-1745337600@aivovammayhdistykset.fi
SUMMARY:Keilaus
DESCRIPTION:Yhdistys on varannut jäsentemme käyttöön kaksi keilarataa tiistaisin  22.4  klo 15.00-16.00 Oulun Keilahallilta os. Isokatu 97\, esteetön tila ja jäsenille maksuton.\nKenkävuokra 2 € on omakustanteinen.
URL:https://aivovammayhdistykset.fi/tapahtuma/keilaus-135/
CATEGORIES:Oulun Seudun Aivovammayhdistys ry
END:VEVENT
BEGIN:VEVENT
DTSTART;TZID=Europe/Helsinki:20250423T150000
DTEND;TZID=Europe/Helsinki:20250423T170000
DTSTAMP:20260422T191558
CREATED:20241127T173335Z
LAST-MODIFIED:20250408T142955Z
UID:15856-1745420400-1745427600@aivovammayhdistykset.fi
SUMMARY:Vertaistapaaminen
DESCRIPTION:Vertaistapaaminen ke 23.4. klo 15-17 kahvila Joo Hetki os. Satamatie 5. Tavataan kahvittelun ja yhdessäolon merkeissä. Läheiset ovat myös tervetulleita. Yhdistys tarjoaa pullakahvit.
URL:https://aivovammayhdistykset.fi/tapahtuma/vertaistapaaminen-7/
CATEGORIES:Oulun Seudun Aivovammayhdistys ry
END:VEVENT
BEGIN:VEVENT
DTSTART;TZID=Europe/Helsinki:20250428T120000
DTEND;TZID=Europe/Helsinki:20250428T130000
DTSTAMP:20260422T191558
CREATED:20250107T102040Z
LAST-MODIFIED:20250107T102040Z
UID:16042-1745841600-1745845200@aivovammayhdistykset.fi
SUMMARY:Keilaus
DESCRIPTION:Tarkemmat tiedot löydät sivun ylälaidasta kohdasta keilaus.
URL:https://aivovammayhdistykset.fi/tapahtuma/keilaus-152/
CATEGORIES:Varsinais-Suomen aivovammayhdistys ry
END:VEVENT
BEGIN:VEVENT
DTSTART;TZID=Europe/Helsinki:20250429T080000
DTEND;TZID=Europe/Helsinki:20250429T170000
DTSTAMP:20260422T191558
CREATED:20250429T105034Z
LAST-MODIFIED:20250429T105034Z
UID:16721-1745913600-1745946000@aivovammayhdistykset.fi
SUMMARY:Kevätjuhlat
DESCRIPTION:Yhdistyksen Kevätjuhlat ke 14.5.25 klo 12-17.00 Eurajoen Lahdenperässä\, Verkkokarintie 606\, 27100 Eurajoki. Yhdistys tarjoaa lohikeittoa ja kakkukahvit. Omat makkarat mukaan\, jos haluaa grillata.\nIlmittautumiset Seija Kröpille puh. 0440 103620 (myös ruoka-allergiat) perjantaihin 9.5 mennessä.\nTervetuloa mukaan !
URL:https://aivovammayhdistykset.fi/tapahtuma/kevatjuhlat-3/
END:VEVENT
BEGIN:VEVENT
DTSTART;TZID=Europe/Helsinki:20250506T150000
DTEND;TZID=Europe/Helsinki:20250506T160000
DTSTAMP:20260422T191558
CREATED:20241127T155617Z
LAST-MODIFIED:20241127T155617Z
UID:15846-1746543600-1746547200@aivovammayhdistykset.fi
SUMMARY:Keilaus
DESCRIPTION:Yhdistys on varannut jäsentemme käyttöön kaksi keilarataa tiistaisin  6.5  klo 15.00-16.00 Oulun Keilahallilta os. Isokatu 97\, esteetön tila ja jäsenille maksuton.\nKenkävuokra 2 € on omakustanteinen.
URL:https://aivovammayhdistykset.fi/tapahtuma/keilaus-136/
CATEGORIES:Oulun Seudun Aivovammayhdistys ry
END:VEVENT
BEGIN:VEVENT
DTSTART;TZID=Europe/Helsinki:20250506T163000
DTEND;TZID=Europe/Helsinki:20250506T173000
DTSTAMP:20260422T191558
CREATED:20250331T154853Z
LAST-MODIFIED:20250331T154853Z
UID:16587-1746549000-1746552600@aivovammayhdistykset.fi
SUMMARY:Taidekerho
DESCRIPTION:Tehdään kuristemuovista koruja tai avaimenperä. Vetäjänä Marjo Tiainen.
URL:https://aivovammayhdistykset.fi/tapahtuma/taidekerho-4/
CATEGORIES:Varsinais-Suomen aivovammayhdistys ry
END:VEVENT
BEGIN:VEVENT
DTSTART;TZID=Europe/Helsinki:20250506T180000
DTEND;TZID=Europe/Helsinki:20250506T200000
DTSTAMP:20260422T191558
CREATED:20250129T171849Z
LAST-MODIFIED:20250403T193657Z
UID:16221-1746554400-1746561600@aivovammayhdistykset.fi
SUMMARY:Jäsenilta: Digiasiointi Varhassa
DESCRIPTION:Digiasiointi Varhassa\, Risto Savolainen
URL:https://aivovammayhdistykset.fi/tapahtuma/jasenilta-48/
CATEGORIES:Varsinais-Suomen aivovammayhdistys ry
END:VEVENT
BEGIN:VEVENT
DTSTART;TZID=Europe/Helsinki:20250508T140000
DTEND;TZID=Europe/Helsinki:20250508T153000
DTSTAMP:20260422T191558
CREATED:20250115T193014Z
LAST-MODIFIED:20250403T193012Z
UID:16136-1746712800-1746718200@aivovammayhdistykset.fi
SUMMARY:Naisten ja Miesten vertaistukitapaaminen
DESCRIPTION:
URL:https://aivovammayhdistykset.fi/tapahtuma/naisten-ja-miesten-vertaistuki-tapaaminen-4/
CATEGORIES:Varsinais-Suomen aivovammayhdistys ry
END:VEVENT
BEGIN:VEVENT
DTSTART;TZID=Europe/Helsinki:20250514T120000
DTEND;TZID=Europe/Helsinki:20250514T170000
DTSTAMP:20260422T191558
CREATED:20250429T110904Z
LAST-MODIFIED:20250429T110904Z
UID:16725-1747224000-1747242000@aivovammayhdistykset.fi
SUMMARY:Kevätjuhlat
DESCRIPTION:Yhdistyksen kevätjuhlat ke 14.5.25 klo 12-17.00 Eurajoen Lahdenperässä\, Verkkokarintie 606\, 27100 Eurajoki. Yhdistys tarjoaa lohikeittoa ja kakkukahvit. Omat makkarat mukaan jos haluaa grillata.\nLiiton toiminnanjohtaja Päivi Puhakka tulee vieraaksemme.\nIlmoittautumiset pe 9.5 mennessä Seija Kröpille puh. 0440 103620 (myös ruoka-allergiat).\nTervetuloa mukaan!
URL:https://aivovammayhdistykset.fi/tapahtuma/kevatjuhlat-4/
CATEGORIES:Kankaanpää,Pori,Rauma,Satakunnan aivovammayhdistys ry
END:VEVENT
BEGIN:VEVENT
DTSTART;TZID=Europe/Helsinki:20250514T160000
DTEND;TZID=Europe/Helsinki:20250514T180000
DTSTAMP:20260422T191558
CREATED:20250113T155942Z
LAST-MODIFIED:20250113T155942Z
UID:16113-1747238400-1747245600@aivovammayhdistykset.fi
SUMMARY:Nuoret aikuiset
DESCRIPTION:Tule mukaan nuorten rentoon vertaistapaamiseen ke 14.5. klo 16-18 kahvila Joo Hetki os. Satamatie 5\, Oulu.\nTapaaminen on tarkoitettu nuorille ja nuorille aikuisille\, joilla on aivovamma. Yhdistys tarjoaa pullakahvit.\nLisätietoja puheenjohtajalta: Eila Sääskö\, puh. 040 765 6989\, eila.saasko@gmail.com
URL:https://aivovammayhdistykset.fi/tapahtuma/nuoret-aikuiset-16/
CATEGORIES:Oulun Seudun Aivovammayhdistys ry
END:VEVENT
BEGIN:VEVENT
DTSTART;TZID=Europe/Helsinki:20250515T080000
DTEND;TZID=Europe/Helsinki:20250515T170000
DTSTAMP:20260422T191558
CREATED:20250515T075615Z
LAST-MODIFIED:20250515T075615Z
UID:16756-1747296000-1747328400@aivovammayhdistykset.fi
SUMMARY:Uudenmaan Aivovammayhdistyksen kesäretki
DESCRIPTION:Mustion linnaan
URL:https://aivovammayhdistykset.fi/tapahtuma/uudenmaan-aivovammayhdistyksen-kesaretki/
CATEGORIES:Uudenmaan Aivovammayhdistys ry
END:VEVENT
END:VCALENDAR