BEGIN:VCALENDAR
VERSION:2.0
PRODID:-//Aivovammayhdistykset - ECPv6.15.18//NONSGML v1.0//EN
CALSCALE:GREGORIAN
METHOD:PUBLISH
X-WR-CALNAME:Aivovammayhdistykset
X-ORIGINAL-URL:https://aivovammayhdistykset.fi
X-WR-CALDESC:Tapahtumat Aivovammayhdistykset
REFRESH-INTERVAL;VALUE=DURATION:PT1H
X-Robots-Tag:noindex
X-PUBLISHED-TTL:PT1H
BEGIN:VTIMEZONE
TZID:Europe/Helsinki
BEGIN:DAYLIGHT
TZOFFSETFROM:+0200
TZOFFSETTO:+0300
TZNAME:EEST
DTSTART:20230326T010000
END:DAYLIGHT
BEGIN:STANDARD
TZOFFSETFROM:+0300
TZOFFSETTO:+0200
TZNAME:EET
DTSTART:20231029T010000
END:STANDARD
BEGIN:DAYLIGHT
TZOFFSETFROM:+0200
TZOFFSETTO:+0300
TZNAME:EEST
DTSTART:20240331T010000
END:DAYLIGHT
BEGIN:STANDARD
TZOFFSETFROM:+0300
TZOFFSETTO:+0200
TZNAME:EET
DTSTART:20241027T010000
END:STANDARD
BEGIN:DAYLIGHT
TZOFFSETFROM:+0200
TZOFFSETTO:+0300
TZNAME:EEST
DTSTART:20250330T010000
END:DAYLIGHT
BEGIN:STANDARD
TZOFFSETFROM:+0300
TZOFFSETTO:+0200
TZNAME:EET
DTSTART:20251026T010000
END:STANDARD
END:VTIMEZONE
BEGIN:VEVENT
DTSTART;TZID=Europe/Helsinki:20240118T180000
DTEND;TZID=Europe/Helsinki:20240118T200000
DTSTAMP:20260426T041548
CREATED:20231109T085844Z
LAST-MODIFIED:20231109T085918Z
UID:13911-1705600800-1705608000@aivovammayhdistykset.fi
SUMMARY:Neuropsykologian erikoispsykologi Jaana Sarajuuri\, luento 18.1.2024
DESCRIPTION:Kampin palvelukeskuksessa\, Salomonkatu 21 B\, Helsinki\, ruokasali\, alakerros \nLuennot ovat iltaisin 18-20
URL:https://aivovammayhdistykset.fi/tapahtuma/neuropsykologian-erikoispsykologi-jaana-sarajuuri-luento-18-1-2024/
LOCATION:Kampin palvelukeskus\, Salomonkatu 21 B\, Helsinki\, 00100\, Suomi
CATEGORIES:AVY Aivovammayhdistys ry
END:VEVENT
BEGIN:VEVENT
DTSTART;TZID=Europe/Helsinki:20240122T120000
DTEND;TZID=Europe/Helsinki:20240122T130000
DTSTAMP:20260426T041548
CREATED:20231208T114540Z
LAST-MODIFIED:20231208T115131Z
UID:14114-1705924800-1705928400@aivovammayhdistykset.fi
SUMMARY:Keilaus
DESCRIPTION:Käytössä 2. rataa. Osallistumismaksu kenkävuokra 1 euro.
URL:https://aivovammayhdistykset.fi/tapahtuma/keilaus-96/
CATEGORIES:Varsinais-Suomen aivovammayhdistys ry
END:VEVENT
BEGIN:VEVENT
DTSTART;TZID=Europe/Helsinki:20240123T120000
DTEND;TZID=Europe/Helsinki:20240123T130000
DTSTAMP:20260426T041548
CREATED:20231126T075414Z
LAST-MODIFIED:20231126T075414Z
UID:13977-1706011200-1706014800@aivovammayhdistykset.fi
SUMMARY:Keilaus
DESCRIPTION:Keilaus\nYhdistys on varannut jäsentemme käyttöön kaksi keilarataa tiistaisin  23.1 klo 12.00-13.00 Oulun Keilahallilta os. Isokatu 97\, esteetön tila ja jäsenille maksuton.\nKenkävuokra 2 € on omakustanteinen.
URL:https://aivovammayhdistykset.fi/tapahtuma/keilaus-86/
CATEGORIES:Oulun Seudun Aivovammayhdistys ry
END:VEVENT
BEGIN:VEVENT
DTSTART;TZID=Europe/Helsinki:20240125T170000
DTEND;TZID=Europe/Helsinki:20240125T181500
DTSTAMP:20260426T041548
CREATED:20240104T144935Z
LAST-MODIFIED:20240104T145813Z
UID:14255-1706202000-1706206500@aivovammayhdistykset.fi
SUMMARY:Satakunnan aivovammayhdistyksen ja Rauman AVH-kerhojen järjestämä yleisöluento\, Kirsi Lukka-Aro: "RAKASTA AIVOJASI"
DESCRIPTION:Satakunnan aivovammayhdistyksen ja Rauman AVH-kerhojen järjestämä yleisöluento\, Kirsi Lukka-Aro: ”RAKASTA  AIVOJASI” järjestetään Rauman kaupungin valtuustosalissa torstaina 25.1.2024 klo 17:00 – 18:15\n\n\nAloitetaan kahvilla klo 16.30. Luennon jälkeen luvassa keskustelua\, tilaisuus päättyy klo 19.00\nTervetuloa mukaan kaikki aivoterveydestä kiinnostuneet!
URL:https://aivovammayhdistykset.fi/tapahtuma/satakunnan-aivovammayhdistyksen-ja-rauman-avh-kerhojen-jarjestama-yleisoluento-kirsi-lukka-aro-rakasta-aivojasi/
LOCATION:Rauman kaupungin valtuustosali\, Kanalinranta 3\, Rauma\, 26100\, Suomi
CATEGORIES:Satakunnan aivovammayhdistys ry
END:VEVENT
BEGIN:VEVENT
DTSTART;TZID=Europe/Helsinki:20240126T130000
DTEND;TZID=Europe/Helsinki:20240126T160000
DTSTAMP:20260426T041548
CREATED:20240105T105501Z
LAST-MODIFIED:20240105T105634Z
UID:14276-1706274000-1706284800@aivovammayhdistykset.fi
SUMMARY:Patikka perjantai 26.1.2023
DESCRIPTION:Lähde mukaan reippailemaan Ruissalon maisemiin! Kokoonnumme Turun kasvitieteellisen puutarhan isolla parkkipaikalla klo. klo.13.00. Voimme valita vaihtoehtoisia kävelyreittejä joko meren rantaan Kansanpuiston suuntaan\, Honkapirtille\, tai vaikka metsäpolkuja kulkien kasvitieteellisen puutarhan ympäristössä. Matkan varrella tai lopuksi voimme pysähtyä kahville sopivaksi katsomaamme paikkaan. \nTapahtuma on omakustanteinen. \nHUOM. SÄÄVARAAUS!  Huonon sään kohdatessa voimme kiertää myös sisällä kasvitieteellisessä puutarhassa. \nTapahtuman kesto on n. 2-3 h
URL:https://aivovammayhdistykset.fi/tapahtuma/patikka-perjantai-26-1-2023/
CATEGORIES:Varsinais-Suomen aivovammayhdistys ry
END:VEVENT
BEGIN:VEVENT
DTSTART;TZID=Europe/Helsinki:20240128T140000
DTEND;TZID=Europe/Helsinki:20240128T170000
DTSTAMP:20260426T041548
CREATED:20240109T141541Z
LAST-MODIFIED:20240119T090506Z
UID:14299-1706450400-1706461200@aivovammayhdistykset.fi
SUMMARY:KAAMOSKAHVIT
DESCRIPTION:Yhdistys tarjoaa sunnuntaina 28.1. klo 14-17 KAAMOSKAHVIT aivovammautuneille\, heidän läheisilleen ja muille asiasta kiinnostuneille D-klubilla\, Karjalankatu 16\, Lahti.  Klo 15 saamme nauttia Eija Granbackan lauluesityksestä. Sisäänkäynti pihalta. Pihassa ei ole parkkipaikkoja vieraille. WC-tilat ovat pyörätuolille ahtaat\, muuten tila on esteetön. \nPannu on kuumana. Tule rohkeasti mukaan ja huomaa kuinka mukava on tavata vertaisia kahvittelun merkeissä!
URL:https://aivovammayhdistykset.fi/tapahtuma/28-1-kaamoskahvit/
LOCATION:D-klubi\, Karjalankatu 16\, Lahti\, 15140
CATEGORIES:Lahti,Päijät-Hämeen aivovammayhdistys ry
END:VEVENT
BEGIN:VEVENT
DTSTART;TZID=Europe/Helsinki:20240129T120000
DTEND;TZID=Europe/Helsinki:20240129T130000
DTSTAMP:20260426T041548
CREATED:20231208T114121Z
LAST-MODIFIED:20240105T100820Z
UID:14111-1706529600-1706533200@aivovammayhdistykset.fi
SUMMARY:Keilaus
DESCRIPTION:Käytössä 2. rataa. Osallistumismaksu kenkävuokra 1 euro.
URL:https://aivovammayhdistykset.fi/tapahtuma/keilaus-95/
CATEGORIES:Varsinais-Suomen aivovammayhdistys ry
END:VEVENT
BEGIN:VEVENT
DTSTART;TZID=Europe/Helsinki:20240131T133000
DTEND;TZID=Europe/Helsinki:20240131T150000
DTSTAMP:20260426T041548
CREATED:20231126T080805Z
LAST-MODIFIED:20231126T080805Z
UID:14002-1706707800-1706713200@aivovammayhdistykset.fi
SUMMARY:Jäsentapaaminen
DESCRIPTION:Ke 31.1. klo 13.30-15.00 Cafeteria Serafiinassa\, os. Harjapäänkatu 33 (Etu-Lyötty)\, kahvittelun ja yhdessäolon merkeissä. Läheiset ovat myös tervetulleita.Yhdistys tarjoaa pullakahvit.
URL:https://aivovammayhdistykset.fi/tapahtuma/jasentapaaminen-57/
CATEGORIES:Oulun Seudun Aivovammayhdistys ry
END:VEVENT
BEGIN:VEVENT
DTSTART;TZID=Europe/Helsinki:20240201T170000
DTEND;TZID=Europe/Helsinki:20240201T190000
DTSTAMP:20260426T041548
CREATED:20240126T112259Z
LAST-MODIFIED:20240126T112259Z
UID:14451-1706806800-1706814000@aivovammayhdistykset.fi
SUMMARY:HELMIKUUN JÄSENTAPAAMINEN torstaina 1.2. klo.17.00
DESCRIPTION:Tapaamme torstaina 1.2.klo.17.00 alkaen Äärellä Kuppi & Kattila kahvilassa Seinäjoella\nos. Nyykoolinkatu 25 Seinäjoki (Itikan mäellä Kalevan navetta)\nYhdistys tarjoaa pullakahvit ja vertaistuellista seuraa.\nTervetuloa mukaan!
URL:https://aivovammayhdistykset.fi/tapahtuma/helmikuun-jasentapaaminen-torstaina-1-2-klo-17-00/
LOCATION:Äärellä Kuppi & Kattila\, Nyykoolinkatu 25\, Seinäjoki\, 60100\, Suomi
CATEGORIES:Etelä-Pohjanmaan aivovammayhdistys ry
END:VEVENT
BEGIN:VEVENT
DTSTART;TZID=Europe/Helsinki:20240205T120000
DTEND;TZID=Europe/Helsinki:20240205T130000
DTSTAMP:20260426T041548
CREATED:20231208T114931Z
LAST-MODIFIED:20231208T114931Z
UID:14117-1707134400-1707138000@aivovammayhdistykset.fi
SUMMARY:Keilaus
DESCRIPTION:Käytössä 2. rataa. Osallistumismaksu kenkävuokra 1 euro.
URL:https://aivovammayhdistykset.fi/tapahtuma/keilaus-97/
CATEGORIES:Varsinais-Suomen aivovammayhdistys ry
END:VEVENT
BEGIN:VEVENT
DTSTART;TZID=Europe/Helsinki:20240206T120000
DTEND;TZID=Europe/Helsinki:20240206T130000
DTSTAMP:20260426T041548
CREATED:20231126T075517Z
LAST-MODIFIED:20231126T075517Z
UID:13979-1707220800-1707224400@aivovammayhdistykset.fi
SUMMARY:Keilaus
DESCRIPTION:Keilaus\nYhdistys on varannut jäsentemme käyttöön kaksi keilarataa tiistaisin 6.2 klo 12.00-13.00 Oulun Keilahallilta os. Isokatu 97\, esteetön tila ja jäsenille maksuton.\nKenkävuokra 2 € on omakustanteinen.
URL:https://aivovammayhdistykset.fi/tapahtuma/keilaus-87/
CATEGORIES:Oulun Seudun Aivovammayhdistys ry
END:VEVENT
BEGIN:VEVENT
DTSTART;TZID=Europe/Helsinki:20240206T180000
DTEND;TZID=Europe/Helsinki:20240206T200000
DTSTAMP:20260426T041548
CREATED:20231208T110029Z
LAST-MODIFIED:20231208T110029Z
UID:14092-1707242400-1707249600@aivovammayhdistykset.fi
SUMMARY:jäsenilta.
DESCRIPTION:Turun kaupungin liikuntatoimen esittely.
URL:https://aivovammayhdistykset.fi/tapahtuma/jasenilta-36/
LOCATION:Turun Seudun TST ry\, Kanslerintie 19\, Turku\, 20200
CATEGORIES:Varsinais-Suomen aivovammayhdistys ry
END:VEVENT
BEGIN:VEVENT
DTSTART;TZID=Europe/Helsinki:20240207T133000
DTEND;TZID=Europe/Helsinki:20240207T150000
DTSTAMP:20260426T041548
CREATED:20231126T080234Z
LAST-MODIFIED:20231126T080234Z
UID:13993-1707312600-1707318000@aivovammayhdistykset.fi
SUMMARY:Nuoret aikuiset
DESCRIPTION:Tule mukaan nuorten rentoon tapaamiseen ke 7.2.\, klo 13.30-15.00 Cafeteria Serafiinaan\, os. Harjapäänkatu 33 (Etu-Lyötty)\, Oulu.\nTapaaminen on tarkoitettu nuorille ja nuorille aikuisille\, joilla on aivovamma.\nKahvi ja tee tarjoilu.\nLisätietoja yhdistyksen puheenjohtajalta: Eila Sääskö\, puh. 040 765 6989\, eila.saasko@gmail.com
URL:https://aivovammayhdistykset.fi/tapahtuma/nuoret-aikuiset-8/
CATEGORIES:Oulun Seudun Aivovammayhdistys ry
END:VEVENT
BEGIN:VEVENT
DTSTART;TZID=Europe/Helsinki:20240208T183000
DTEND;TZID=Europe/Helsinki:20240208T213000
DTSTAMP:20260426T041548
CREATED:20231216T141241Z
LAST-MODIFIED:20231216T141241Z
UID:14211-1707417000-1707427800@aivovammayhdistykset.fi
SUMMARY:Iloinen iltapäivä MAAGIKOT 2024- KIERTUE!
DESCRIPTION:Yhdistyksen nuoremille jäsenille jo perinteiseksi muodostunut tapahtuma Iloinen iltapäivä järjestetään tällä kertaa turun logomolla. \n  \nSUOMEN SUURIN MAGIA-KIERTUE MAAGIKOT 3 SAAPUU LOGOMOON HELMIKUUSSA 2024! \nMaagikot 3 – Suomen suurin magia-kiertue hämmästyttää jälleen helmikuussa 2024: ”Rautainen kokonaisuus\, jolla voisi kiertää missä päin maailmaa tahansa” \nTo 8.2.2023 klo 19.00 LOGOMO \n Ovet auki asiakkaille klo 18.30\n– Siirtyminen saliin viimeistään klo 18.50\n– Konsertti alkaa klo 19.00 \nLipun hinta 30 € Liput rivillä 9. Huom! Lippuja on 9 kpl tähän hintaan. \nLippu maksetaan yhdistyksen tilille\, jonka tiedot saat ilmoittautumisen yhteydessä. \nPyörätuolipaikkoja tai paikkoja avustajille ei varattu. \nIlmoittautuminen viimeistään: 26.1.2024 \nIlmoittautuminen sähköpostilla: puheenjohtaja.vsavy@gmail.com\n\ntai puh. 044 314 4838\n\nVaraus ja maksu mahdollisimman pian.
URL:https://aivovammayhdistykset.fi/tapahtuma/iloinen-iltapaiva-maagikot-2024-kiertue/
LOCATION:LOGOMO\, Junakatu 9\, Turku\, 20100
CATEGORIES:Varsinais-Suomen aivovammayhdistys ry
END:VEVENT
BEGIN:VEVENT
DTSTART;TZID=Europe/Helsinki:20240212T120000
DTEND;TZID=Europe/Helsinki:20240212T130000
DTSTAMP:20260426T041548
CREATED:20231208T115538Z
LAST-MODIFIED:20231208T115538Z
UID:14121-1707739200-1707742800@aivovammayhdistykset.fi
SUMMARY:Keilaus
DESCRIPTION:Käytössä 2. rataa. Osallistumismaksu kenkävuokra 1 euro.
URL:https://aivovammayhdistykset.fi/tapahtuma/keilaus-98/
CATEGORIES:Varsinais-Suomen aivovammayhdistys ry
END:VEVENT
BEGIN:VEVENT
DTSTART;TZID=Europe/Helsinki:20240217T000000
DTEND;TZID=Europe/Helsinki:20240217T000000
DTSTAMP:20260426T041548
CREATED:20240119T100052Z
LAST-MODIFIED:20240212T181257Z
UID:14397-1708128000-1708128000@aivovammayhdistykset.fi
SUMMARY:Musiikkia
DESCRIPTION:Lauantaina 17.2. kuuntelemme Lahden konservatorion Felix Krohn-salissa\, Sibeliuksenkatu 8\, Sally Westerdahl-pianokilpailua\, jossa soittavat nuoret pianistit. Kokoonnutaan klo 14.30 salin edustalle. VAPAA PÄÄSY.
URL:https://aivovammayhdistykset.fi/tapahtuma/musiikkia/
LOCATION:Lahden konservatorio Felix Krohn -sali\, Sibeliuksenkatu 8\, Lahti
CATEGORIES:Lahti,Päijät-Hämeen aivovammayhdistys ry
END:VEVENT
BEGIN:VEVENT
DTSTART;TZID=Europe/Helsinki:20240219T120000
DTEND;TZID=Europe/Helsinki:20240219T130000
DTSTAMP:20260426T041548
CREATED:20231208T120018Z
LAST-MODIFIED:20231208T120018Z
UID:14125-1708344000-1708347600@aivovammayhdistykset.fi
SUMMARY:Keilaus
DESCRIPTION:Käytössä 2. rataa. Osallistumismaksu kenkävuokra 1 euro.
URL:https://aivovammayhdistykset.fi/tapahtuma/keilaus-99/
CATEGORIES:Varsinais-Suomen aivovammayhdistys ry
END:VEVENT
BEGIN:VEVENT
DTSTART;TZID=Europe/Helsinki:20240220T120000
DTEND;TZID=Europe/Helsinki:20240220T130000
DTSTAMP:20260426T041548
CREATED:20231126T075612Z
LAST-MODIFIED:20231126T075612Z
UID:13981-1708430400-1708434000@aivovammayhdistykset.fi
SUMMARY:Keilaus
DESCRIPTION:Keilaus\nYhdistys on varannut jäsentemme käyttöön kaksi keilarataa tiistaisin  20.2. klo 12.00-13.00 Oulun Keilahallilta os. Isokatu 97\, esteetön tila ja jäsenille maksuton.\nKenkävuokra 2 € on omakustanteinen.
URL:https://aivovammayhdistykset.fi/tapahtuma/keilaus-88/
CATEGORIES:Oulun Seudun Aivovammayhdistys ry
END:VEVENT
BEGIN:VEVENT
DTSTART;TZID=Europe/Helsinki:20240220T180000
DTEND;TZID=Europe/Helsinki:20240220T200000
DTSTAMP:20260426T041548
CREATED:20231208T104253Z
LAST-MODIFIED:20231208T104621Z
UID:14084-1708452000-1708459200@aivovammayhdistykset.fi
SUMMARY:Jäsenilta.
DESCRIPTION:Jäsenilta. \nAivovammaliiton kurssien ja tuettujen lomien esittely vuodelle 2024.
URL:https://aivovammayhdistykset.fi/tapahtuma/jasenilta-35/
LOCATION:Turun Seudun TST ry\, Kanslerintie 19\, Turku\, 20200
CATEGORIES:Varsinais-Suomen aivovammayhdistys ry
END:VEVENT
BEGIN:VEVENT
DTSTART;TZID=Europe/Helsinki:20240221T140000
DTEND;TZID=Europe/Helsinki:20240221T160000
DTSTAMP:20260426T041548
CREATED:20240104T153046Z
LAST-MODIFIED:20240104T153046Z
UID:14267-1708524000-1708531200@aivovammayhdistykset.fi
SUMMARY:Vuosikokous
DESCRIPTION:Satakunnan Aivovammayhdistys ry:n vuosikokous Porissa\, Yhteisötalo Otavassa järjestetään keskiviikkona 21.2.2024 klo 14- 16 \nLämpimästi tervetuloa mukaan päättämään yhteisistä asioista ja keskustelemaan tulevista tapahtumista!\n\nT. Yhdistyksen hallitus
URL:https://aivovammayhdistykset.fi/tapahtuma/vuosikokous-10/
CATEGORIES:Satakunnan aivovammayhdistys ry
END:VEVENT
BEGIN:VEVENT
DTSTART;TZID=Europe/Helsinki:20240221T160000
DTEND;TZID=Europe/Helsinki:20240221T170000
DTSTAMP:20260426T041548
CREATED:20240119T100837Z
LAST-MODIFIED:20240119T100837Z
UID:14402-1708531200-1708534800@aivovammayhdistykset.fi
SUMMARY:Kuntosaliohjaus
DESCRIPTION:Ke 21.2. klo 16–17 KUNTOSALIOHJAUSTA Mäkikatsomon kuntosalilla\, Salpausselänkatu 8\, Lahti. \nMainio tilaisuus aloittaa saliharjoittelu turvallisesti liikunnanohjaaja Anna Kulosen henkilökohtaisessa ohjauksessa. Ota mukaasi rennot vaatteet\, sisätossut ja pyyhe\, jos haluat käydä suihkussa. \nTule kohentamaan kuntoasi – se kannattaa!
URL:https://aivovammayhdistykset.fi/tapahtuma/kuntosaliohjaus/
LOCATION:Mäkikatsomon sali\, Salpausselänkatu 8\, Lahti
CATEGORIES:Lahti,Päijät-Hämeen aivovammayhdistys ry
END:VEVENT
BEGIN:VEVENT
DTSTART;TZID=Europe/Helsinki:20240225T150000
DTEND;TZID=Europe/Helsinki:20240225T170000
DTSTAMP:20260426T041548
CREATED:20240215T142740Z
LAST-MODIFIED:20240215T142740Z
UID:14602-1708873200-1708880400@aivovammayhdistykset.fi
SUMMARY:E-P.n Aivovammayhdistys ry järjestää yhdessä OLKA Seinäjoen kanssa KOSKETTAVAN LUENNON
DESCRIPTION:Vakavasta liiekenneonnettomuudesta selviämisestä\, vertaistuesta ja sairaalassa tarjottavasta ohjauksesta. \nKauhajoen yläkoulun auditoriossa 25.2.klo.15.00 alkaen.\nTapahtumassa puhuu OLKA-koordinaattori Tarja Kulmala Seinäjoen OLKAsta.\nKokemusasiantuntija Jyrki Itäsalmi kertoo omasta vakavasta liikenneonnettomuudestaan\nja sen aiheuttamista pysyvistä vammoista ja niiden kanssa elämisen opettelusta. \nTAPAHTUMAAN ON VAPAA PÄÄSY!!
URL:https://aivovammayhdistykset.fi/tapahtuma/e-p-n-aivovammayhdistys-ry-jarjestaa-yhdessa-olka-seinajoen-kanssa-koskettavan-luennon/
LOCATION:Kauhajoen yhteiskoulu\, Prännärintie 4\, Kauhajoki\, 61800\, Suomi
CATEGORIES:Etelä-Pohjanmaan aivovammayhdistys ry
END:VEVENT
BEGIN:VEVENT
DTSTART;TZID=Europe/Helsinki:20240226T120000
DTEND;TZID=Europe/Helsinki:20240226T130000
DTSTAMP:20260426T041548
CREATED:20231208T120221Z
LAST-MODIFIED:20231208T120221Z
UID:14127-1708948800-1708952400@aivovammayhdistykset.fi
SUMMARY:Keilaus
DESCRIPTION:Käytössä 2. rataa. Osallistumismaksu kenkävuokra 1 euro.
URL:https://aivovammayhdistykset.fi/tapahtuma/keilaus-100/
CATEGORIES:Varsinais-Suomen aivovammayhdistys ry
END:VEVENT
BEGIN:VEVENT
DTSTART;TZID=Europe/Helsinki:20240228T133000
DTEND;TZID=Europe/Helsinki:20240228T150000
DTSTAMP:20260426T041548
CREATED:20231126T080854Z
LAST-MODIFIED:20240221T094640Z
UID:14004-1709127000-1709132400@aivovammayhdistykset.fi
SUMMARY:Vertaistapaaminen
DESCRIPTION:Ke 28.2.\, klo 13.30-15.00 Cafeteria Serafiinassa\, os. Harjapäänkatu 33 (Etu-Lyötty)\, kahvittelun ja yhdessäolon merkeissä. Läheiset ovat myös tervetulleita.Yhdistys tarjoaa pullakahvit.
URL:https://aivovammayhdistykset.fi/tapahtuma/jasentapaaminen-58/
CATEGORIES:Oulun Seudun Aivovammayhdistys ry
END:VEVENT
BEGIN:VEVENT
DTSTART;TZID=Europe/Helsinki:20240301T100000
DTEND;TZID=Europe/Helsinki:20240301T160000
DTSTAMP:20260426T041548
CREATED:20240211T124844Z
LAST-MODIFIED:20240211T125410Z
UID:14551-1709287200-1709308800@aivovammayhdistykset.fi
SUMMARY:Patikka / kulttuuriperjantai 1.3.2024
DESCRIPTION:Hei. \nEnsimmäinen patikka / kulttuuriperjantai järjestettiin tammikuun lopussa reippaillen auringon paisteessa. Kävelyn yhteydessä kävimme lounastamassa Honkapirtillä. \nTaas olisi aika järjestää tämä tapahtuma! \nTällä kertaa lähdemme 1.3.2024  Savojärven rannalle Kuhankuononnon kansallispuiston maisemiin retkeilemään. Tarkoituksena on kiertää Savojärven kierros joka pituudeltaan n. 6 km. Kokoonnumme klo. 11.00  Kurjenpesän luontotuvan pysäköintialueella\, Kuhankuonontie 67\, Pöytyä. \nPaikalle pääsee myös Bussilla. Turusta ja Säkylästä on linja-autoyhteys (matkahuolto.fi) Kurjenrahkalle. Pikavuoropysäkki nimeltään ”Kuhankuono (Kurjenrahkan kansallispuisto” on Turku-Säkylä -tien (nro 204) varressa noin 500 metrin päässä Kurjenpesän luontotuvasta. \nMinun kyydissä mahtuu 3. henkilöä. kun etukäteen sovitaan. lähtö Raisiosta tapahtuu n. klo. 10.00 \n  \nMukaan ulkoiluun sopivat vaatetus ja kengät. (poluilla voi olla liukasta joten varaudu piikein jos mahdollista). Omat eväät! \nTerje Vainio / 040 565 3737
URL:https://aivovammayhdistykset.fi/tapahtuma/patikka-kulttuuriperjantai-1-3-2024/
LOCATION:Kurjenrahkan kansallispuisto
CATEGORIES:Varsinais-Suomen aivovammayhdistys ry
END:VEVENT
BEGIN:VEVENT
DTSTART;TZID=Europe/Helsinki:20240304T120000
DTEND;TZID=Europe/Helsinki:20240304T130000
DTSTAMP:20260426T041548
CREATED:20231208T121458Z
LAST-MODIFIED:20231208T121458Z
UID:14131-1709553600-1709557200@aivovammayhdistykset.fi
SUMMARY:Keilaus.
DESCRIPTION:
URL:https://aivovammayhdistykset.fi/tapahtuma/keilaus-101/
CATEGORIES:Varsinais-Suomen aivovammayhdistys ry
END:VEVENT
BEGIN:VEVENT
DTSTART;TZID=Europe/Helsinki:20240305T120000
DTEND;TZID=Europe/Helsinki:20240305T130000
DTSTAMP:20260426T041548
CREATED:20231126T075713Z
LAST-MODIFIED:20231126T075713Z
UID:13983-1709640000-1709643600@aivovammayhdistykset.fi
SUMMARY:Keilaus
DESCRIPTION:Keilaus\nYhdistys on varannut jäsentemme käyttöön kaksi keilarataa tiistaisin  5.3  klo 12.00-13.00 Oulun Keilahallilta os. Isokatu 97\, esteetön tila ja jäsenille maksuton.\nKenkävuokra 2 € on omakustanteinen.
URL:https://aivovammayhdistykset.fi/tapahtuma/keilaus-89/
CATEGORIES:Oulun Seudun Aivovammayhdistys ry
END:VEVENT
BEGIN:VEVENT
DTSTART;TZID=Europe/Helsinki:20240305T180000
DTEND;TZID=Europe/Helsinki:20240305T200000
DTSTAMP:20260426T041548
CREATED:20231208T110941Z
LAST-MODIFIED:20231208T110941Z
UID:14094-1709661600-1709668800@aivovammayhdistykset.fi
SUMMARY:Jäsenilta
DESCRIPTION:Esteettömän ja turvallisen asumisen neuvontakeskus\, Kunnonkoti
URL:https://aivovammayhdistykset.fi/tapahtuma/jasenilta-37/
LOCATION:Turun Seudun TST ry\, Kanslerintie 19\, Turku\, 20200
CATEGORIES:Varsinais-Suomen aivovammayhdistys ry
END:VEVENT
BEGIN:VEVENT
DTSTART;TZID=Europe/Helsinki:20240306T133000
DTEND;TZID=Europe/Helsinki:20240306T150000
DTSTAMP:20260426T041548
CREATED:20231126T080322Z
LAST-MODIFIED:20231126T080322Z
UID:13995-1709731800-1709737200@aivovammayhdistykset.fi
SUMMARY:Nuoret aikuiset
DESCRIPTION:Tule mukaan nuorten rentoon tapaamiseen ke  6.3. klo 13.30-15.00 Cafeteria Serafiinaan\, os. Harjapäänkatu 33 (Etu-Lyötty)\, Oulu.\nTapaaminen on tarkoitettu nuorille ja nuorille aikuisille\, joilla on aivovamma.\nKahvi ja tee tarjoilu.\nLisätietoja yhdistyksen puheenjohtajalta: Eila Sääskö\, puh. 040 765 6989\, eila.saasko@gmail.com
URL:https://aivovammayhdistykset.fi/tapahtuma/nuoret-aikuiset-9/
CATEGORIES:Oulun Seudun Aivovammayhdistys ry
END:VEVENT
BEGIN:VEVENT
DTSTART;TZID=Europe/Helsinki:20240309T130000
DTEND;TZID=Europe/Helsinki:20240309T150000
DTSTAMP:20260426T041548
CREATED:20240215T143551Z
LAST-MODIFIED:20240215T143551Z
UID:14606-1709989200-1709996400@aivovammayhdistykset.fi
SUMMARY:VUOSIKOKOUS 9.3.2024 klo.13.00
DESCRIPTION:Etelä-Pohjanmaan Aivovammayhdistys ry.n sääntömääräinen vuosikokous on 9.3.klo.13.00\nSeinäjoen Järjestötalon 4.kerros.\nKäsitellään sääntöjen määräämien asioiden lisäksi SÄÄNTÖMUUTOS\n(muuttuneen yhdistyslain vuoksi) myös jäsenmaksuun on tarve tehdä pieni korotus.\n(korotettu viimeksi 16 vuotta sitten)\nKahvitarjoilu\, tervetuloa mukaan.
URL:https://aivovammayhdistykset.fi/tapahtuma/vuosikokous-9-3-2024-klo-13-00/
LOCATION:Järjestötalo Seinäjoki\, Ruukintie 1\, Seinäjoki\, Etelä-Pohjanmaa\, 60100\, Suomi
CATEGORIES:Etelä-Pohjanmaan aivovammayhdistys ry
END:VEVENT
END:VCALENDAR