BEGIN:VCALENDAR
VERSION:2.0
PRODID:-//Aivovammayhdistykset - ECPv6.15.18//NONSGML v1.0//EN
CALSCALE:GREGORIAN
METHOD:PUBLISH
X-WR-CALNAME:Aivovammayhdistykset
X-ORIGINAL-URL:https://aivovammayhdistykset.fi
X-WR-CALDESC:Tapahtumat Aivovammayhdistykset
REFRESH-INTERVAL;VALUE=DURATION:PT1H
X-Robots-Tag:noindex
X-PUBLISHED-TTL:PT1H
BEGIN:VTIMEZONE
TZID:Europe/Helsinki
BEGIN:DAYLIGHT
TZOFFSETFROM:+0200
TZOFFSETTO:+0300
TZNAME:EEST
DTSTART:20220327T010000
END:DAYLIGHT
BEGIN:STANDARD
TZOFFSETFROM:+0300
TZOFFSETTO:+0200
TZNAME:EET
DTSTART:20221030T010000
END:STANDARD
BEGIN:DAYLIGHT
TZOFFSETFROM:+0200
TZOFFSETTO:+0300
TZNAME:EEST
DTSTART:20230326T010000
END:DAYLIGHT
BEGIN:STANDARD
TZOFFSETFROM:+0300
TZOFFSETTO:+0200
TZNAME:EET
DTSTART:20231029T010000
END:STANDARD
BEGIN:DAYLIGHT
TZOFFSETFROM:+0200
TZOFFSETTO:+0300
TZNAME:EEST
DTSTART:20240331T010000
END:DAYLIGHT
BEGIN:STANDARD
TZOFFSETFROM:+0300
TZOFFSETTO:+0200
TZNAME:EET
DTSTART:20241027T010000
END:STANDARD
END:VTIMEZONE
BEGIN:VEVENT
DTSTART;TZID=Europe/Helsinki:20230927T150000
DTEND;TZID=Europe/Helsinki:20230927T170000
DTSTAMP:20260426T071352
CREATED:20230519T073903Z
LAST-MODIFIED:20230519T073903Z
UID:13149-1695826800-1695834000@aivovammayhdistykset.fi
SUMMARY:Syyskauden avajaiset
DESCRIPTION:Syyskauden avajaiset ke 27.9. klo 15-17 Jäälinmajalla\, os. Rantakuja 10\, Jääli. Ilmoittautuminen ja erikoisruokavaliot/ainerajoitukset tarjoilun vuoksi 18.9. mennessä Eilalle teksiviestillä puh. 040 765 6989 tai eila.saasko@gmail.com
URL:https://aivovammayhdistykset.fi/tapahtuma/syyskauden-avajaiset-2/
CATEGORIES:Oulun Seudun Aivovammayhdistys ry
END:VEVENT
BEGIN:VEVENT
DTSTART;TZID=Europe/Helsinki:20230930T100000
DTEND;TZID=Europe/Helsinki:20230930T150000
DTSTAMP:20260426T071352
CREATED:20230923T080139Z
LAST-MODIFIED:20230923T080139Z
UID:13660-1696068000-1696086000@aivovammayhdistykset.fi
SUMMARY:Soveltavan luontoliikunnan kokeilupäivä
DESCRIPTION:Yhdistyksemme on nyt Suomen Paralympiakomitean jäsen ja siksi meidänkin jäsenille on avoimena soveltavan luontoliikunnan kokeilupäivä lauantaina 30.9. klo 10-15 Nastolassa Pajulahden liikuntakeskuksessa\, Pajulahdentie 167. \nTapahtumassa pääset kokeilemaan soveltavaa melontaa ja luontoliikunnan apuvälineitä\, sekä tutustumaan soveltavaa luontoliikuntaa tarjoaviin tahoihin unohtamatta tulistelua Iso-Kukkasen rannassa. \nVapaa pääsy. Ei ilmoittautumista. \nLisätiedot: Risto Karjalainen\, risto@adventuristo.fi\, p. 040 5361 279
URL:https://aivovammayhdistykset.fi/tapahtuma/soveltavan-luontoliikunnan-kokeilupaiva/
LOCATION:Pajulahden liikuntakeskus\, Pajulahdentie 167\, Nastola\, Suomi
CATEGORIES:Päijät-Hämeen aivovammayhdistys ry
END:VEVENT
BEGIN:VEVENT
DTSTART;TZID=Europe/Helsinki:20231004T133000
DTEND;TZID=Europe/Helsinki:20231004T150000
DTSTAMP:20260426T071352
CREATED:20230817T135330Z
LAST-MODIFIED:20230904T140336Z
UID:13475-1696426200-1696431600@aivovammayhdistykset.fi
SUMMARY:Nuoret aikuiset
DESCRIPTION:Tule mukaan nuorten rentoon tapaamiseen ke 6.9.\, 4.10.\, 8.11. ja 13.12. klo 13:30-15.00 Cafeteria Serafiinaaan\, os. Harjapäänkatu 33 (Etu-Lyötty)\, Oulu. Kahvi/teetarjoilu. \n\n\n\nTapaaminen on tarkoitettu nuorille ja nuorille aikuisille\, joilla on aivovamma. \n\n\n\nLisätietoja yhdistyksen puheenjohtajalta: Eila Sääskö\, puh. 040 765 6989\, eila.saasko@gmail.com
URL:https://aivovammayhdistykset.fi/tapahtuma/nuoret-aikuiset-4/
CATEGORIES:Oulun Seudun Aivovammayhdistys ry
END:VEVENT
BEGIN:VEVENT
DTSTART;TZID=Europe/Helsinki:20231005T190000
DTEND;TZID=Europe/Helsinki:20231005T213000
DTSTAMP:20260426T071352
CREATED:20230920T080413Z
LAST-MODIFIED:20230920T080413Z
UID:13624-1696532400-1696541400@aivovammayhdistykset.fi
SUMMARY:LOKAKUUN JÄSENTAPAAMINEN TORSTAINA 5.10. klo.19.00
DESCRIPTION:Tapaamme Teatteri Hysteriassa Piirin alueella\nOsoite; Seuralantie 25 Seinäjoki.\nOhjelmassa Mielensäpahoittaja Iloosia aikoja!\nTapahtuma on täynnä\, vain ilmoittautuneet voivat osallistua.
URL:https://aivovammayhdistykset.fi/tapahtuma/lokakuun-jasentapaaminen-torstaina-5-10-klo-19-00/
LOCATION:Teatteri Hysteria\, Seuralantie 25\, Seinäjoki\, Suomi
CATEGORIES:Etelä-Pohjanmaan aivovammayhdistys ry
END:VEVENT
BEGIN:VEVENT
DTSTART;TZID=Europe/Helsinki:20231007T100000
DTEND;TZID=Europe/Helsinki:20231007T140000
DTSTAMP:20260426T071352
CREATED:20230922T130403Z
LAST-MODIFIED:20230922T130519Z
UID:13638-1696672800-1696687200@aivovammayhdistykset.fi
SUMMARY:Hallitun kaatumisen kurssi
DESCRIPTION:Lauantaina 7.10. järjestetään hallitun kaatumisen kurssi Pajulahden liikuntaopiston Nikulahallilla\, Pajulahdentie 167\, Nastola. Kurssin tarkoituksena on oppia kaatumaan turvallisesti ja itseään vaurioittamatta. \nKlo 10.00 Kurssi alkaa \nKlo 11.15 jälkeen ruokailu liikuntaopiston ruokalassa (hinta 11\,85). \nKlo 12.15 PajuCase tiimitoimintaa ja ongelmanratkaisua. Tehtävissä vaaditaan monipuolista ajattelua\, taitoa\, tarkkuutta ja yhteistyötä. \nKlo 13.30 päiväkahvi ruokalassa (hinta 9\,80). \nKurssin hinta: jäsenet 10e \, avustajat 5e\, muut 20e. Ei sisällä lounasta eikä päiväkahvia. \nIlmoittaudu Karille viimeistään ma 25.9. p. 040 828 0906 tai info.phavy@gmail.com. Ilmoita samalla erikoisruokavaliot. Maksa osallistumisesi 30.9. mennessä P-H aivovammayhdistyksen tilille FI15 4212 0010 1321 95. Käytä viitettä 1601. \n  \n 
URL:https://aivovammayhdistykset.fi/tapahtuma/hallitun-kaatumisen-kurssi/
LOCATION:Pajulahden liikuntakeskus\, Pajulahdentie 167\, Nastola\, Suomi
CATEGORIES:Päijät-Hämeen aivovammayhdistys ry
END:VEVENT
BEGIN:VEVENT
DTSTART;TZID=Europe/Helsinki:20231007T130000
DTEND;TZID=Europe/Helsinki:20231007T150000
DTSTAMP:20260426T071352
CREATED:20230817T134247Z
LAST-MODIFIED:20230817T134247Z
UID:13462-1696683600-1696690800@aivovammayhdistykset.fi
SUMMARY:Syyskokous
DESCRIPTION:La 7.10. klo 13.00-15.00 Yhdistyksen sääntömääräinen syyskokous. Paikka: Kumppanuuskeskus\, kokoustila Asema\, 2.  kerros os. Kansankatu 53\, Oulu sisäänkäynti Vanhantullin kadun puolelta. \nKahvitarjoulu. Tervetuloa!
URL:https://aivovammayhdistykset.fi/tapahtuma/syyskokous-4/
CATEGORIES:Oulun Seudun Aivovammayhdistys ry
END:VEVENT
BEGIN:VEVENT
DTSTART;TZID=Europe/Helsinki:20231010T120000
DTEND;TZID=Europe/Helsinki:20231010T130000
DTSTAMP:20260426T071352
CREATED:20230817T135919Z
LAST-MODIFIED:20230817T135919Z
UID:13486-1696939200-1696942800@aivovammayhdistykset.fi
SUMMARY:Keilaus
DESCRIPTION:Yhdistys on varannut jäsentemme käyttöön kaksi keilarataa tiistaina 12.9.\, 26.9.\, 10.10.\, 24.10.\, 7.11.\, 21.11.\, 12.12. ja 19.12. klo 12-13 Oulun Keilahallilta\, os. Isokatu 97\, Oulu. Keilaus on jäsenille maksuton ja tila on esteetön. Kenkävuokra 2€ on omakustanteinen.
URL:https://aivovammayhdistykset.fi/tapahtuma/keilaus-79/
CATEGORIES:Oulun Seudun Aivovammayhdistys ry
END:VEVENT
BEGIN:VEVENT
DTSTART;TZID=Europe/Helsinki:20231023T160000
DTEND;TZID=Europe/Helsinki:20231023T190000
DTSTAMP:20260426T071352
CREATED:20230922T131306Z
LAST-MODIFIED:20230922T131331Z
UID:13643-1698076800-1698087600@aivovammayhdistykset.fi
SUMMARY:Sisäpelejä PadelMarinassa
DESCRIPTION:Maanantaina 23.10. klo 16-19 tutustumme erilaisiin sisäpeleihin PadelMarinassa\, Tarmontie 5\, Hollola. \nPääset kokeilemaan mm. padelia\, sulkapalloa\, pickelballia\, ammuntaa tai golfia simulaattorissa\, pingistä\, biljardia\, mölkkyä tai petankkia tai dartsia\, kaikkea jokaisen halun ja kykyjen mukaan. Ota rennot liikuntavaatteet ja sisäpelikengät. \nIlmoittaudu tähän maksuttomaan tapahtumaan Kari Vainiolle viimeistään ke 11.10.\,  p. 040 828 0906 tai info.phavy@gmail.com. \nTervetuloa mukaan!
URL:https://aivovammayhdistykset.fi/tapahtuma/sisapeli-iltapaiva-padelmarinassa/
LOCATION:PadelMarina\, Tarmontie 5\, Hollola\, 15860
CATEGORIES:Lahti,Päijät-Hämeen aivovammayhdistys ry
END:VEVENT
BEGIN:VEVENT
DTSTART;TZID=Europe/Helsinki:20231024T120000
DTEND;TZID=Europe/Helsinki:20231024T130000
DTSTAMP:20260426T071352
CREATED:20230817T135954Z
LAST-MODIFIED:20230817T135954Z
UID:13488-1698148800-1698152400@aivovammayhdistykset.fi
SUMMARY:Keilaus
DESCRIPTION:Yhdistys on varannut jäsentemme käyttöön kaksi keilarataa tiistaina 12.9.\, 26.9.\, 10.10.\, 24.10.\, 7.11.\, 21.11.\, 12.12. ja 19.12. klo 12-13 Oulun Keilahallilta\, os. Isokatu 97\, Oulu. Keilaus on jäsenille maksuton ja tila on esteetön. Kenkävuokra 2€ on omakustanteinen.
URL:https://aivovammayhdistykset.fi/tapahtuma/keilaus-80/
CATEGORIES:Oulun Seudun Aivovammayhdistys ry
END:VEVENT
BEGIN:VEVENT
DTSTART;TZID=Europe/Helsinki:20231025T133000
DTEND;TZID=Europe/Helsinki:20231025T150000
DTSTAMP:20260426T071352
CREATED:20230817T134411Z
LAST-MODIFIED:20230904T140248Z
UID:13464-1698240600-1698246000@aivovammayhdistykset.fi
SUMMARY:Jäsentapaaminen
DESCRIPTION:Ke 25.10. klo 13:30-15.00 Jäsentapaaminen Cafeteria Serafiinassa\, os. Harjapäänkatu 33 (Etu- Lyötty)\, kahvittelun ja yhdessäolon merkeissä. Läheiset ovat myös tervetulleita. Yhdistys tarjoaa pullakahvit. \nMarraskuun jäsentapaaminen elokuvan merkeissä\, Elokuvateatteri Star\, os. Kalliotie 6\, Oulu. Lisätietoja syksyn jäsenkirjeessä. \n 
URL:https://aivovammayhdistykset.fi/tapahtuma/jasentapaaminen-56/
CATEGORIES:Oulun Seudun Aivovammayhdistys ry
END:VEVENT
BEGIN:VEVENT
DTSTART;TZID=Europe/Helsinki:20231026T180000
DTEND;TZID=Europe/Helsinki:20231026T200000
DTSTAMP:20260426T071352
CREATED:20231011T110713Z
LAST-MODIFIED:20231024T100820Z
UID:13792-1698343200-1698350400@aivovammayhdistykset.fi
SUMMARY:Neuropsykologian erikoispsykologi Jaana Sarajuuri\, luento 26.10.2023 PERUTTU!
DESCRIPTION:Kampin palvelukeskuksessa\, Salomonkatu 21 B\, Helsinki\, ruokasali\, alakerros \nLuennot ovat iltaisin 18-20 \nTämä luento on peruttu sairastumisen takia!
URL:https://aivovammayhdistykset.fi/tapahtuma/neuropsykologian-erikoispsykologi-jaana-sarajuuri-luento-26-10-2023/
LOCATION:Kampin palvelukeskus\, Salomonkatu 21 B\, Helsinki\, 00100\, Suomi
CATEGORIES:AVY Aivovammayhdistys ry
END:VEVENT
BEGIN:VEVENT
DTSTART;TZID=Europe/Helsinki:20231107T120000
DTEND;TZID=Europe/Helsinki:20231107T130000
DTSTAMP:20260426T071352
CREATED:20230817T140101Z
LAST-MODIFIED:20230817T140101Z
UID:13491-1699358400-1699362000@aivovammayhdistykset.fi
SUMMARY:Keilaus
DESCRIPTION:Yhdistys on varannut jäsentemme käyttöön kaksi keilarataa tiistaina 12.9.\, 26.9.\, 10.10.\, 24.10.\, 7.11.\, 21.11.\, 12.12. ja 19.12. klo 12-13 Oulun Keilahallilta\, os. Isokatu 97\, Oulu. Keilaus on jäsenille maksuton ja tila on esteetön. Kenkävuokra 2€ on omakustanteinen.
URL:https://aivovammayhdistykset.fi/tapahtuma/keilaus-81/
CATEGORIES:Oulun Seudun Aivovammayhdistys ry
END:VEVENT
BEGIN:VEVENT
DTSTART;TZID=Europe/Helsinki:20231107T180000
DTEND;TZID=Europe/Helsinki:20231107T200000
DTSTAMP:20260426T071352
CREATED:20231011T111538Z
LAST-MODIFIED:20231011T111538Z
UID:13800-1699380000-1699387200@aivovammayhdistykset.fi
SUMMARY:Neuropsykologian erikoispsykologi Outi Surma-Aho\, luento  Uni ja vireys aivovamman jälkeen 7.11.2023
DESCRIPTION:Kampin palvelukeskuksessa\, Salomonkatu 21 B\, Helsinki\, ruokasali\, alakerros \nLuennot ovat iltaisin 18-20
URL:https://aivovammayhdistykset.fi/tapahtuma/neuropsykologian-erikoispsykologi-outi-surma-aho-luento-uni-ja-vireys-aivovamman-jalkeen-7-11-2023/
LOCATION:Kampin palvelukeskus\, Salomonkatu 21 B\, Helsinki\, 00100\, Suomi
CATEGORIES:AVY Aivovammayhdistys ry
END:VEVENT
BEGIN:VEVENT
DTSTART;TZID=Europe/Helsinki:20231108T120000
DTEND;TZID=Europe/Helsinki:20231108T140000
DTSTAMP:20260426T071352
CREATED:20231023T162215Z
LAST-MODIFIED:20231023T162215Z
UID:13845-1699444800-1699452000@aivovammayhdistykset.fi
SUMMARY:Kulttuurikerhon tapaaminen 8.11.23
DESCRIPTION:Kulttuuriryhmän marraskuun tapaaminen Sinebrychoffin taidemuseolla 8.11 ke klo 12-14\, Bulevardi 40. \nTapaaminen klo 12 museon aulassa \nterveisin Saana ja Tiina \nKäynnit ovat omakustanteisia. Museokortti ja eläkekortti mukaan \nIlmoittaudu sähköpostiin tuisku100@gmail.com
URL:https://aivovammayhdistykset.fi/tapahtuma/kulttuurikerhon-tapaaminen-8-11-23/
LOCATION:Bulevardi 40\, Helsinki\, Bulevardi 40\, Helsinki
CATEGORIES:AVY Aivovammayhdistys ry
END:VEVENT
BEGIN:VEVENT
DTSTART;TZID=Europe/Helsinki:20231108T133000
DTEND;TZID=Europe/Helsinki:20231108T150000
DTSTAMP:20260426T071352
CREATED:20230817T135427Z
LAST-MODIFIED:20230904T140424Z
UID:13477-1699450200-1699455600@aivovammayhdistykset.fi
SUMMARY:Nuoret aikuiset
DESCRIPTION:Tule mukaan nuorten rentoon tapaamiseen ke 6.9.\, 4.10.\, 8.11. ja 13.12. klo 13:30-15.00 Cafeteria Serafiinaaan\, os. Harjapäänkatu 33 (Etu-Lyötty)\, Oulu. Kahvi/teetarjoilu. \n\n\n\nTapaaminen on tarkoitettu nuorille ja nuorille aikuisille\, joilla on aivovamma. \n\n\n\nLisätietoja yhdistyksen puheenjohtajalta: Eila Sääskö\, puh. 040 765 6989\, eila.saasko@gmail.com
URL:https://aivovammayhdistykset.fi/tapahtuma/nuoret-aikuiset-5/
CATEGORIES:Oulun Seudun Aivovammayhdistys ry
END:VEVENT
BEGIN:VEVENT
DTSTART;TZID=Europe/Helsinki:20231108T173000
DTEND;TZID=Europe/Helsinki:20231108T173000
DTSTAMP:20260426T071352
CREATED:20231011T101733Z
LAST-MODIFIED:20231101T122048Z
UID:13773-1699464600-1699464600@aivovammayhdistykset.fi
SUMMARY:Neuropsykologi Tarja Ketola:  Mitä aivoni kaipaavat?
DESCRIPTION:”Luennolla käydään läpi mm. sitä tutkimustietoa\, mitä on saatu aivoterveyteen vaikuttavista tekijöistä. Näkökulmana on miten jokainen meistä voi omilla arjen ratkaisuillaan vaikuttaa myönteisesti omien aivojensa toimintaa”. \nLuennoitsijana on pitkään kuntoutus- ja sopeutumisvalmennusta tehnyt neuropsykologi Tarja Ketola. Luento taltioidaan. \n  \nPikka: Liedon lukion Auditorio\, Opintie 1\, Lieto \nAika: 8.11.2023 17:30 \n  \nTapahtuman järjestää: \nTurun Seudun Nivelyhdistys ry.
URL:https://aivovammayhdistykset.fi/tapahtuma/neuropsykologi-tarja-ketola-mita-aivoni-kaipaavat/
CATEGORIES:Varsinais-Suomen aivovammayhdistys ry
END:VEVENT
BEGIN:VEVENT
DTSTART;TZID=Europe/Helsinki:20231111T140000
DTEND;TZID=Europe/Helsinki:20231111T160000
DTSTAMP:20260426T071352
CREATED:20230817T135641Z
LAST-MODIFIED:20230817T135641Z
UID:13481-1699711200-1699718400@aivovammayhdistykset.fi
SUMMARY:Luento
DESCRIPTION:La 11.11. klo 14.00 Luento aiheena Aivovamma- liikunta. \nPaikka: Aleksinkulma\, kokoustila Pohjansali\, Aleksanterinkatu 9\, Oulu\, sisäänkäynti sisäpihan puolelta\, esteetön tila\, 2. kerros\, hissi. \nLuennoitsijana Anne Utriainen\, erityisliikunnanohjaaja \nLiikuntapalvelut\, Oulun kaupunki \nKahvitarjoulu. Tervetuloa!
URL:https://aivovammayhdistykset.fi/tapahtuma/luento-4/
CATEGORIES:Oulun Seudun Aivovammayhdistys ry
END:VEVENT
BEGIN:VEVENT
DTSTART;TZID=Europe/Helsinki:20231116T180000
DTEND;TZID=Europe/Helsinki:20231116T200000
DTSTAMP:20260426T071352
CREATED:20231011T111209Z
LAST-MODIFIED:20231011T111209Z
UID:13796-1700157600-1700164800@aivovammayhdistykset.fi
SUMMARY:Neuropsykologian erikoispsykologi Jaana Sarajuuri\, luento 16.11.2023
DESCRIPTION:Kampin palvelukeskuksessa\, Salomonkatu 21 B\, Helsinki\, ruokasali\, alakerros \nLuennot ovat iltaisin 18-20
URL:https://aivovammayhdistykset.fi/tapahtuma/neuropsykologian-erikoispsykologi-jaana-sarajuuri-luento-16-11-2023/
LOCATION:Kampin palvelukeskus\, Salomonkatu 21 B\, Helsinki\, 00100\, Suomi
CATEGORIES:AVY Aivovammayhdistys ry
END:VEVENT
BEGIN:VEVENT
DTSTART;TZID=Europe/Helsinki:20231120T103000
DTEND;TZID=Europe/Helsinki:20231120T193000
DTSTAMP:20260426T071352
CREATED:20230915T062730Z
LAST-MODIFIED:20230915T062730Z
UID:13619-1700476200-1700508600@aivovammayhdistykset.fi
SUMMARY:Pikkujouluristeily 20.11.2023
DESCRIPTION:Pikkujouluristeily 20.11.2023 ja aikataulu on seuraava\n\nHelsinki- Tallinna- Helsinki\nViking XPRS\n\nLähtö Helsinki klo 10.30 \n           Tallinna klo 13.00\n\nPaluu Tallinna klo 17.00\n           Helsinki klo 19.30\n\nMenomatkalla varattu kokoustila yhteistä oleskelua varten \nKokouskahvit +hedelmiä \n\nPaluumatkalla \nKlo 17 Buffet ruokailu (joululounas)\n\nHyttejä varattu 2 kpl\n\nOmavastuu 20e/ henkilö \n\nIlmottautumiset 9.10.2023 mennessä\nOmavastuu maksu 16.10 mennessä\nIlmoitan tilinumeron ilmottautumisen yhteydessä\n\nIlmoittautumiset sähköpostiin sirkka.dahlman@gmail.com
URL:https://aivovammayhdistykset.fi/tapahtuma/pikkujouluristeily-20-11-2023/
CATEGORIES:AVY Aivovammayhdistys ry
END:VEVENT
BEGIN:VEVENT
DTSTART;TZID=Europe/Helsinki:20231120T120000
DTEND;TZID=Europe/Helsinki:20231211T130000
DTSTAMP:20260426T071352
CREATED:20231113T174149Z
LAST-MODIFIED:20231113T174149Z
UID:13927-1700481600-1702299600@aivovammayhdistykset.fi
SUMMARY:Keilausta!
DESCRIPTION:Raision keilailuhallissa tarjolla yhdistyksen jäsenille keilausvuoro maanantaisin klo. 12.00-13.00. \nViimenen kerta 11.12.2023 \nKeilaus jatkuu ensi vuonna viikolla 2. \nOsallistuja maksaa itse 1. euron kenkävuokran. \n  \nRaision Keilailukeskus \nVarppeenkatu 24\n21200 RAISIO
URL:https://aivovammayhdistykset.fi/tapahtuma/keilausta/
CATEGORIES:Varsinais-Suomen aivovammayhdistys ry
END:VEVENT
BEGIN:VEVENT
DTSTART;TZID=Europe/Helsinki:20231121T120000
DTEND;TZID=Europe/Helsinki:20231121T130000
DTSTAMP:20260426T071352
CREATED:20230817T140135Z
LAST-MODIFIED:20230817T140135Z
UID:13493-1700568000-1700571600@aivovammayhdistykset.fi
SUMMARY:Keilaus
DESCRIPTION:Yhdistys on varannut jäsentemme käyttöön kaksi keilarataa tiistaina 12.9.\, 26.9.\, 10.10.\, 24.10.\, 7.11.\, 21.11.\, 12.12. ja 19.12. klo 12-13 Oulun Keilahallilta\, os. Isokatu 97\, Oulu. Keilaus on jäsenille maksuton ja tila on esteetön. Kenkävuokra 2€ on omakustanteinen.
URL:https://aivovammayhdistykset.fi/tapahtuma/keilaus-82/
CATEGORIES:Oulun Seudun Aivovammayhdistys ry
END:VEVENT
BEGIN:VEVENT
DTSTART;TZID=Europe/Helsinki:20231121T160000
DTEND;TZID=Europe/Helsinki:20231121T180000
DTSTAMP:20260426T071352
CREATED:20230923T112416Z
LAST-MODIFIED:20230923T112632Z
UID:13664-1700582400-1700589600@aivovammayhdistykset.fi
SUMMARY:Vierailu Malvassa
DESCRIPTION:Tiistaina 21.11. klo 16-18 menemme upeaan MALVAAN\, Lahden visuaalisten taiteiden museoon\, Päijänteenkatu 9. Museossa on silloin mm. seuraavat näyttelyt: Emma Helle\, Tamara Piilola ja Pia Sirén: Tulevaisuuden puutarha ja Sari Soininen: Katseen takana. \nVoit valita kaikki näyttelyt (liput eläkeläiset\, opiskelijat\, työttömät 12\,-\, muut 16\,-) tai yhden näyttelyn (liput eläkeläiset\, opiskelijat\, työttömät 8\,-\, muut 10\,-). Avustajat ilmaiseksi. Jokainen ostaa lippunsa itse joko paikan päällä tai verkkokaupasta. Museokortti käy myös. \nIlmoita osallistumisesi Vainion Karille viimeistään maanantaina 13.11.\, puh. 040 828 0906 tai info@phavy.com \n 
URL:https://aivovammayhdistykset.fi/tapahtuma/vierailu-malvassa/
LOCATION:Lahden visuaalisten taiteiden museo\, Päijänteenkatu 9\, Lahti
END:VEVENT
BEGIN:VEVENT
DTSTART;TZID=Europe/Helsinki:20231121T160000
DTEND;TZID=Europe/Helsinki:20231121T180000
DTSTAMP:20260426T071352
CREATED:20230923T135455Z
LAST-MODIFIED:20230923T135455Z
UID:13667-1700582400-1700589600@aivovammayhdistykset.fi
SUMMARY:Vierailu Malvaan
DESCRIPTION:Tiistaina  21.11. klo 16-18 menemme upeaan MALVAAN\, Lahden visuaalisten taiteiden museoon\, Päijänteenkatu 9. Museossa on silloin mm. seuraavat näyttelyt: Emma Helle\, Tamara Piilola ja Pia Sirén: Tulevaisuuden puutarha ja Sari Soininen: Katseen takana. \nVoit valita kaikki näyttelyt (liput eläkeläiset\, opiskelijat\, työttömät 12\,-\, muut 16\,-) tai yhden näyttelyn (liput eläkeläiset\, opiskelijat\, työttömät 8\,-\, muut 10\,-). Avustajat ilmaiseksi. Jokainen ostaa lippunsa itse joko paikan päällä tai verkkokaupasta. Museokortti käy myös. \nIlmoita osallistumisesi Vainion Karille viimeistään maanantaina 13.11.\, puh. 040 828 0906 tai info@phavy.com \n 
URL:https://aivovammayhdistykset.fi/tapahtuma/vierailu-malvaan/
LOCATION:Lahden visuaalisten taiteiden museo\, Päijänteenkatu 9\, Lahti
CATEGORIES:Lahti,Päijät-Hämeen aivovammayhdistys ry
END:VEVENT
BEGIN:VEVENT
DTSTART;TZID=Europe/Helsinki:20231125T150000
DTEND;TZID=Europe/Helsinki:20231125T170000
DTSTAMP:20260426T071352
CREATED:20230924T192746Z
LAST-MODIFIED:20230924T192746Z
UID:13673-1700924400-1700931600@aivovammayhdistykset.fi
SUMMARY:Elokuva Mummola
DESCRIPTION:Elokuva ”Mummola” lauantaina 25.11. klo 15.00 Elokuvateatteri Starissa\, os. Kalliotie 6\, Oulu. Tila on esteetön. Tia Kouvon ohjaama elokuva on humoristinen ja koskettava. Ilmoittautuminen 17.11. mennessä Eilalle\, eila.saasko@gmail.com tai puh. 040 765 6989. Yhdistys tarjoaa elokuvalipun jäsenille. Tule paikalle 20 min. aikaisemmin ennen esitystä.
URL:https://aivovammayhdistykset.fi/tapahtuma/elokuva-mummola/
CATEGORIES:Oulun Seudun Aivovammayhdistys ry
END:VEVENT
BEGIN:VEVENT
DTSTART;TZID=Europe/Helsinki:20231207T140000
DTEND;TZID=Europe/Helsinki:20231207T154500
DTSTAMP:20260426T071352
CREATED:20231201T085002Z
LAST-MODIFIED:20231201T085058Z
UID:14021-1701957600-1701963900@aivovammayhdistykset.fi
SUMMARY:Miestenryhmän vertaistapaaminen Happy House
DESCRIPTION:
URL:https://aivovammayhdistykset.fi/tapahtuma/naistenryhman-vertaistapaaminen-happy-house/
CATEGORIES:Varsinais-Suomen aivovammayhdistys ry
END:VEVENT
BEGIN:VEVENT
DTSTART;TZID=Europe/Helsinki:20231207T140000
DTEND;TZID=Europe/Helsinki:20231207T154500
DTSTAMP:20260426T071352
CREATED:20231201T085657Z
LAST-MODIFIED:20231201T085657Z
UID:14027-1701957600-1701963900@aivovammayhdistykset.fi
SUMMARY:Naistenryhmän vertaistapaaminen 7.12.2023 Happy House
DESCRIPTION:  \n 
URL:https://aivovammayhdistykset.fi/tapahtuma/naistenryhman-vertaistapaaminen-7-12-2023-happy-house/
CATEGORIES:Varsinais-Suomen aivovammayhdistys ry
END:VEVENT
BEGIN:VEVENT
DTSTART;TZID=Europe/Helsinki:20231208T080000
DTEND;TZID=Europe/Helsinki:20231208T170000
DTSTAMP:20260426T071352
CREATED:20231208T113227Z
LAST-MODIFIED:20231208T113227Z
UID:14102-1702022400-1702054800@aivovammayhdistykset.fi
SUMMARY:Jäsenilta
DESCRIPTION:Rekan alle jäänyt. \nKonginkankaalla 19.3.2004 liikenneonnettomuudessa mukana ollut  Saana Kiviranta tulee kertomaan esikoisteoksestaan Rekan alle jäänyt.
URL:https://aivovammayhdistykset.fi/tapahtuma/jasenilta-41/
END:VEVENT
BEGIN:VEVENT
DTSTART;TZID=Europe/Helsinki:20231209T150000
DTEND;TZID=Europe/Helsinki:20231209T180000
DTSTAMP:20260426T071352
CREATED:20230817T135737Z
LAST-MODIFIED:20231004T091501Z
UID:13483-1702134000-1702144800@aivovammayhdistykset.fi
SUMMARY:Pikkujoulut
DESCRIPTION:Lauantaina 9.12. klo 15 -18. Cafeteria Serafiinassa\, Harjapäänkatu 33\,\n(Etu-Lyötty) Oulu.\nPäivällisen hinta 15 €/jäsen ja 42 €/ei jäsen. \nOhjelma:\n* Joulumusiikkia Ari Hyvälä\n*Jaana Vähänikkilä lukee Tove Janssonin joulukertomuksen\n* Arvontaa\nIlmoittautuminen ja erikoisruokavaliot/ainerajoitukset 28.11. mennessä\nEilalle\, eila.saasko@gmail.com tai tekstiviestillä puh. 040 765 6989.\nMaksu Oulun Seudun Aivovammayhdistys ry:n tilille FI78 5740 7520 0587 68\,\nviimeistään 28. 11.\, viestiksi joulupäivällinen.\nTervetuloa!\nJoulubuffet\nHedelmäinen vihersalaatti + salaatinkastike L\, G\nRosollia L\, G\nItaliansalaattia L\,\nGraavilohta L\, G\nRuisleipää ja rieskaa+ levite L\nPorkkanalaatikkoa L\, G\nLanttulaatikkoa L\, G\nPerunamuusia L\, G\nSavulohta L\, G\nKinkkua ja ruskeaa kastiketta L\, G\nRuokajuomana\nJäävesi\, mehu\, kotikalja\n********\nKahvi/ tee\nLuumurahkaa L\, G\nTorttuja L
URL:https://aivovammayhdistykset.fi/tapahtuma/pikkujoulut-9/
CATEGORIES:Oulun Seudun Aivovammayhdistys ry
END:VEVENT
BEGIN:VEVENT
DTSTART;TZID=Europe/Helsinki:20231212T120000
DTEND;TZID=Europe/Helsinki:20231212T130000
DTSTAMP:20260426T071352
CREATED:20230817T140249Z
LAST-MODIFIED:20230817T140249Z
UID:13497-1702382400-1702386000@aivovammayhdistykset.fi
SUMMARY:Keilaus
DESCRIPTION:Yhdistys on varannut jäsentemme käyttöön kaksi keilarataa tiistaina 12.9.\, 26.9.\, 10.10.\, 24.10.\, 7.11.\, 21.11.\, 12.12. ja 19.12. klo 12-13 Oulun Keilahallilta\, os. Isokatu 97\, Oulu. Keilaus on jäsenille maksuton ja tila on esteetön. Kenkävuokra 2€ on omakustanteinen.
URL:https://aivovammayhdistykset.fi/tapahtuma/keilaus-84/
CATEGORIES:Oulun Seudun Aivovammayhdistys ry
END:VEVENT
BEGIN:VEVENT
DTSTART;TZID=Europe/Helsinki:20231212T170000
DTEND;TZID=Europe/Helsinki:20231212T193000
DTSTAMP:20260426T071352
CREATED:20230923T075203Z
LAST-MODIFIED:20230923T075203Z
UID:13655-1702400400-1702409400@aivovammayhdistykset.fi
SUMMARY:Pikkujoulut
DESCRIPTION:Pikkujouluja vietetään tiistaina 12.12. klo 17.00 – 19.30 tällä kertaa ravintola Kodissa\, Salpausselänkatu 7\, 15110 Lahti. \nNautimme joulubuffetin\, hinta jäsenille 15€\, avustajat 7\,50€\, alle 12 v. lapset 12€\, muut 25 €. Luvassa mukavaa jouluista ohjelmaa\, mm. arpajaiset ja musiikkia. Ota muutaman euron pikkupaketti pukinkonttiin. \nIlmoittaudu viimeistään 1.12. Karille\, puh. 040 828 0906 tai info@phavy.com. Kerro samalla ruoka-aineallergiat. \nMaksa osallistumisesi 5.12. mennessä PH Aivovammayhdistyksen tilille FI15 4212 0010 1321 95 Käytä viitettä 1504.
URL:https://aivovammayhdistykset.fi/tapahtuma/pikkujoulut-10/
LOCATION:Ravintola Koti\, Salpausselänkatu 7\, Lahti\, 15110
CATEGORIES:Lahti,Päijät-Hämeen aivovammayhdistys ry
END:VEVENT
END:VCALENDAR