BEGIN:VCALENDAR
VERSION:2.0
PRODID:-//Aivovammayhdistykset - ECPv6.15.18//NONSGML v1.0//EN
CALSCALE:GREGORIAN
METHOD:PUBLISH
X-WR-CALNAME:Aivovammayhdistykset
X-ORIGINAL-URL:https://aivovammayhdistykset.fi
X-WR-CALDESC:Tapahtumat Aivovammayhdistykset
REFRESH-INTERVAL;VALUE=DURATION:PT1H
X-Robots-Tag:noindex
X-PUBLISHED-TTL:PT1H
BEGIN:VTIMEZONE
TZID:Europe/Helsinki
BEGIN:DAYLIGHT
TZOFFSETFROM:+0200
TZOFFSETTO:+0300
TZNAME:EEST
DTSTART:20240331T010000
END:DAYLIGHT
BEGIN:STANDARD
TZOFFSETFROM:+0300
TZOFFSETTO:+0200
TZNAME:EET
DTSTART:20241027T010000
END:STANDARD
BEGIN:DAYLIGHT
TZOFFSETFROM:+0200
TZOFFSETTO:+0300
TZNAME:EEST
DTSTART:20250330T010000
END:DAYLIGHT
BEGIN:STANDARD
TZOFFSETFROM:+0300
TZOFFSETTO:+0200
TZNAME:EET
DTSTART:20251026T010000
END:STANDARD
BEGIN:DAYLIGHT
TZOFFSETFROM:+0200
TZOFFSETTO:+0300
TZNAME:EEST
DTSTART:20260329T010000
END:DAYLIGHT
BEGIN:STANDARD
TZOFFSETFROM:+0300
TZOFFSETTO:+0200
TZNAME:EET
DTSTART:20261025T010000
END:STANDARD
END:VTIMEZONE
BEGIN:VEVENT
DTSTART;TZID=Europe/Helsinki:20250203T080000
DTEND;TZID=Europe/Helsinki:20250203T170000
DTSTAMP:20260422T160008
CREATED:20250107T094512Z
LAST-MODIFIED:20250107T094512Z
UID:16005-1738569600-1738602000@aivovammayhdistykset.fi
SUMMARY:Keilaus
DESCRIPTION:Tarkemmat tiedot löydät sivun ylälaidasta kohdasta keilaus.
URL:https://aivovammayhdistykset.fi/tapahtuma/keilaus-141/
CATEGORIES:Varsinais-Suomen aivovammayhdistys ry
END:VEVENT
BEGIN:VEVENT
DTSTART;TZID=Europe/Helsinki:20250204T163000
DTEND;TZID=Europe/Helsinki:20250204T173000
DTSTAMP:20260422T160008
CREATED:20250115T191834Z
LAST-MODIFIED:20250115T191834Z
UID:16123-1738686600-1738690200@aivovammayhdistykset.fi
SUMMARY:Taidekerho
DESCRIPTION:Taidekerho\, vetäjänä Marjo Tiainen
URL:https://aivovammayhdistykset.fi/tapahtuma/taidekerho/
CATEGORIES:Varsinais-Suomen aivovammayhdistys ry
END:VEVENT
BEGIN:VEVENT
DTSTART;TZID=Europe/Helsinki:20250204T180000
DTEND;TZID=Europe/Helsinki:20250204T200000
DTSTAMP:20260422T160008
CREATED:20250107T090901Z
LAST-MODIFIED:20250107T090901Z
UID:15989-1738692000-1738699200@aivovammayhdistykset.fi
SUMMARY:Jäsenilta
DESCRIPTION:Helmikuussa jäsenilta ti 4.2. klo 18 ( äänimaljarentoutus)
URL:https://aivovammayhdistykset.fi/tapahtuma/jasenilta-44/
CATEGORIES:Varsinais-Suomen aivovammayhdistys ry
END:VEVENT
BEGIN:VEVENT
DTSTART;TZID=Europe/Helsinki:20250206T140000
DTEND;TZID=Europe/Helsinki:20250206T153000
DTSTAMP:20260422T160008
CREATED:20250115T192527Z
LAST-MODIFIED:20250115T192527Z
UID:16130-1738850400-1738855800@aivovammayhdistykset.fi
SUMMARY:Naisten ja Miesten vertaistuki tapaaminen
DESCRIPTION:
URL:https://aivovammayhdistykset.fi/tapahtuma/naisten-ja-miesten-vertaistuki-tapaaminen/
CATEGORIES:Varsinais-Suomen aivovammayhdistys ry
END:VEVENT
BEGIN:VEVENT
DTSTART;TZID=Europe/Helsinki:20250206T170000
DTEND;TZID=Europe/Helsinki:20250206T190000
DTSTAMP:20260422T160008
CREATED:20250130T114200Z
LAST-MODIFIED:20250130T114200Z
UID:16228-1738861200-1738868400@aivovammayhdistykset.fi
SUMMARY:HELMIKUUN JÄSENTAPAAMINEN 6.2. klo.17.00 Seinäjoen Apila kirjaston kahvilassa
DESCRIPTION:Tapaamme Seinäjoen Apila kirjastossa torstaina 6.2. klo.17.00\nYhdistys tarjoaa jäsenilleen korvapuusti kahvit ja vertaistuellista keskustelu seuraa.\nTervetuloa mukaan!
URL:https://aivovammayhdistykset.fi/tapahtuma/helmikuun-jasentapaaminen-6-2-klo-17-00-seinajoen-apila-kirjaston-kahvilassa/
LOCATION:Apila kirjasto\, Alvar Aallonkatu 14\, Seinäjoki\, 60100\, Finland
CATEGORIES:AVY Aivovammayhdistys ry
END:VEVENT
BEGIN:VEVENT
DTSTART;TZID=Europe/Helsinki:20250206T170000
DTEND;TZID=Europe/Helsinki:20250206T190000
DTSTAMP:20260422T160008
CREATED:20250130T122519Z
LAST-MODIFIED:20250130T122519Z
UID:16232-1738861200-1738868400@aivovammayhdistykset.fi
SUMMARY:HELMIKUUN JÄSENTAPAAMINEN torstaina 6.2. klo.17.00 Seinäjoen Apila kirjastossa
DESCRIPTION:Helmikuun jäsentapaaminen Seinäjoen Apila kirjaston kahvilassa torstaina 6.2. klo.17.00\nYhdistys tarjoaa korvapuusti kahvit ja vertaistuellista keskustelu seuraa.\nMaksuton tapahtuma.\nosoite; Alvar Aallonkatu 14 Seinäjoki\nTervetuloa mukaan!
URL:https://aivovammayhdistykset.fi/tapahtuma/helmikuun-jasentapaaminen-torstaina-6-2-klo-17-00-seinajoen-apila-kirjastossa/
LOCATION:Apila kirjasto\, Alvar Aallonkatu 14\, Seinäjoki\, 60100\, Finland
CATEGORIES:Etelä-Pohjanmaan aivovammayhdistys ry
END:VEVENT
BEGIN:VEVENT
DTSTART;TZID=Europe/Helsinki:20250210T120000
DTEND;TZID=Europe/Helsinki:20250210T130000
DTSTAMP:20260422T160008
CREATED:20250107T094835Z
LAST-MODIFIED:20250107T095304Z
UID:16007-1739188800-1739192400@aivovammayhdistykset.fi
SUMMARY:Keilaus.
DESCRIPTION:Tarkemmat tiedot löydät sivun ylälaidasta kohdasta keilaus.
URL:https://aivovammayhdistykset.fi/tapahtuma/keilaus-142/
CATEGORIES:Varsinais-Suomen aivovammayhdistys ry
END:VEVENT
BEGIN:VEVENT
DTSTART;TZID=Europe/Helsinki:20250211T150000
DTEND;TZID=Europe/Helsinki:20250211T160000
DTSTAMP:20260422T160008
CREATED:20241127T153836Z
LAST-MODIFIED:20241127T153836Z
UID:15834-1739286000-1739289600@aivovammayhdistykset.fi
SUMMARY:Keilaus
DESCRIPTION:Yhdistys on varannut jäsentemme käyttöön kaksi keilarataa tiistaisin  11.2  klo 15.00-16.00 Oulun Keilahallilta os. Isokatu 97\, esteetön tila ja jäsenille maksuton.\nKenkävuokra 2 € on omakustanteinen.
URL:https://aivovammayhdistykset.fi/tapahtuma/keilaus-130/
CATEGORIES:Oulun Seudun Aivovammayhdistys ry
END:VEVENT
BEGIN:VEVENT
DTSTART;TZID=Europe/Helsinki:20250217T120000
DTEND;TZID=Europe/Helsinki:20250217T130000
DTSTAMP:20260422T160008
CREATED:20250107T095716Z
LAST-MODIFIED:20250107T095716Z
UID:16019-1739793600-1739797200@aivovammayhdistykset.fi
SUMMARY:Keilaus
DESCRIPTION:Tarkemmat tiedot löydät sivun ylälaidasta kohdasta keilaus.
URL:https://aivovammayhdistykset.fi/tapahtuma/keilaus-143/
CATEGORIES:Varsinais-Suomen aivovammayhdistys ry
END:VEVENT
BEGIN:VEVENT
DTSTART;TZID=Europe/Helsinki:20250219T160000
DTEND;TZID=Europe/Helsinki:20250219T180000
DTSTAMP:20260422T160008
CREATED:20250113T155644Z
LAST-MODIFIED:20250113T155702Z
UID:16105-1739980800-1739988000@aivovammayhdistykset.fi
SUMMARY:Nuoret aikuiset
DESCRIPTION:Tule mukaan nuorten rentoon vertaistapaamiseen ke 19.2. klo 16-18 kahvila Joo Hetki os. Satamatie 5\, Oulu.\nTapaaminen on tarkoitettu nuorille ja nuorille aikuisille\, joilla on aivovamma. Yhdistys tarjoaa pullakahvit.\nLisätietoja puheenjohtajalta: Eila Sääskö\, puh. 040 765 6989\, eila.saasko@gmail.com
URL:https://aivovammayhdistykset.fi/tapahtuma/nuoret-aikuiset-13/
CATEGORIES:Oulun Seudun Aivovammayhdistys ry
END:VEVENT
BEGIN:VEVENT
DTSTART;TZID=Europe/Helsinki:20250224T120000
DTEND;TZID=Europe/Helsinki:20250224T130000
DTSTAMP:20260422T160008
CREATED:20250107T095945Z
LAST-MODIFIED:20250107T095945Z
UID:16021-1740398400-1740402000@aivovammayhdistykset.fi
SUMMARY:Keilaus
DESCRIPTION:Tarkemmat tiedot löydät sivun ylälaidasta kohdasta keilaus.
URL:https://aivovammayhdistykset.fi/tapahtuma/keilaus-144/
CATEGORIES:Varsinais-Suomen aivovammayhdistys ry
END:VEVENT
BEGIN:VEVENT
DTSTART;TZID=Europe/Helsinki:20250225T150000
DTEND;TZID=Europe/Helsinki:20250225T160000
DTSTAMP:20260422T160008
CREATED:20241127T153933Z
LAST-MODIFIED:20241127T153933Z
UID:15836-1740495600-1740499200@aivovammayhdistykset.fi
SUMMARY:Keilaus
DESCRIPTION:Yhdistys on varannut jäsentemme käyttöön kaksi keilarataa tiistaisin  25.2  klo 15.00-16.00 Oulun Keilahallilta os. Isokatu 97\, esteetön tila ja jäsenille maksuton.\nKenkävuokra 2 € on omakustanteinen.
URL:https://aivovammayhdistykset.fi/tapahtuma/keilaus-131/
CATEGORIES:Oulun Seudun Aivovammayhdistys ry
END:VEVENT
BEGIN:VEVENT
DTSTART;TZID=Europe/Helsinki:20250225T180000
DTEND;TZID=Europe/Helsinki:20250225T200000
DTSTAMP:20260422T160008
CREATED:20250206T202724Z
LAST-MODIFIED:20250206T202724Z
UID:16270-1740506400-1740513600@aivovammayhdistykset.fi
SUMMARY:Jäsenilta
DESCRIPTION:
URL:https://aivovammayhdistykset.fi/tapahtuma/jasenilta-49/
CATEGORIES:Varsinais-Suomen aivovammayhdistys ry
END:VEVENT
BEGIN:VEVENT
DTSTART;TZID=Europe/Helsinki:20250226T150000
DTEND;TZID=Europe/Helsinki:20250226T170000
DTSTAMP:20260422T160008
CREATED:20241127T173151Z
LAST-MODIFIED:20250113T160217Z
UID:15852-1740582000-1740589200@aivovammayhdistykset.fi
SUMMARY:Vertaistapaaminen
DESCRIPTION:Vertaistapaaminen ke  26.2.\,  klo 15-17 kahvila Joo Hetki os. Satamatie 5. Tavataan kahvittelun ja yhdessäolon merkeissä. Läheiset ovat myös tervetulleita. Yhdistys tarjoaa pullakahvit.
URL:https://aivovammayhdistykset.fi/tapahtuma/vertaistapaaminen-5/
CATEGORIES:Oulun Seudun Aivovammayhdistys ry
END:VEVENT
BEGIN:VEVENT
DTSTART;TZID=Europe/Helsinki:20250228T170000
DTEND;TZID=Europe/Helsinki:20250302T130000
DTSTAMP:20260422T160008
CREATED:20250129T133726Z
LAST-MODIFIED:20250129T133726Z
UID:16217-1740762000-1740920400@aivovammayhdistykset.fi
SUMMARY:Leiriviikonloppu Sinapin leirikeskuksessa 28.2 - 2.3.2025
DESCRIPTION:Meille on mahdollistunut osallistua Hengitysyhdistys Helin kanssa samalle leirille 28.2. – 2.3 Sinapin leirikeskuksessa Kakskerrassa. \nTässä teille osallistumis tiedot ja linkit. Tapahtumaan voi osallistua joko lauantain päiväkävijänä tai vaikka koko viikonloppuun! \n  \nLämpimästi tervetuloa taas Sinapin leirikeskukseen\, Kakskertaan\, meren rannalle. 19 kpl 2h huoneita\, ryhmätyötiloja\, kappeli\, sauna ym.\n\nLeiri alkaa pe 28.2. klo 17\, päättyy  su 2.3. klo 13. Hinta 75 e\, sis ruoan\, majoituksen\, ohjelman. Leiri toteutetaan yhteistyössä Hengitysyhdistyksen kanssa. Leirille saa tulla vaikka koko aikaisestikin.\nOhjelmassa tutustumista toisiimme\, musiikkia\, ohjelmahetkiä. Päivien aikana mahdollisuus myös ulkoilla ja nauttia luonnosta\, yhdessä olosta ja myös omasta rauhasta.\n\nPia Aivovammaliitosta mukana leirillä lauantaina\, hän tekee juttua Aivoitus-lehteen\n1.3 la PÄIVÄKÄVIJÄT\, hinta 25 e (sis ruoan ja ohjelman)\nAlustava ohjelmarunko…\n8.30 Aamiainen\, päiväkävijät saapuu\nohjelmatuokio\n12.00 Lounas + lepo\nohjelmaa\n14.30 Päiväkahvit\nohjelmaa\n16.00 Lauantai-kävijöiden päivä päättyy\n\nLisätietoja leiristä Tanja Rantapere puh 040- 341 7244 srk\n\nIlmoittautuminen koko leirille: https://www.lyyti.fi/reg/hengitellen2025\nIlmoittutuminen leiripäivään la 1.3. : https://www.lyyti.fi/reg/hengitellen2025pv\n\nJos tulee Terje lisää kysyttävää niin laita soittoa tai viestiä.\n\nTerkuin\,\n\n\nTanja Rantapere\nVammaistyö diakoniatyöntekijä \nKirkko Turussa ja Kaarinassa \np.040-341 7244 \ntanja.rantapere@evl.fi \nhttp://www.turunseurakunnat.fi/apua-ja-tukea/vammaiset/muut-vammaisryhmat \n\n  \n 
URL:https://aivovammayhdistykset.fi/tapahtuma/leiriviikonloppu-sinapin-leirikeskuksessa-28-2-2-3-2025/
CATEGORIES:Varsinais-Suomen aivovammayhdistys ry
END:VEVENT
END:VCALENDAR