BEGIN:VCALENDAR
VERSION:2.0
PRODID:-//Aivovammayhdistykset - ECPv6.15.18//NONSGML v1.0//EN
CALSCALE:GREGORIAN
METHOD:PUBLISH
X-ORIGINAL-URL:https://aivovammayhdistykset.fi
X-WR-CALDESC:Tapahtumat Aivovammayhdistykset
REFRESH-INTERVAL;VALUE=DURATION:PT1H
X-Robots-Tag:noindex
X-PUBLISHED-TTL:PT1H
BEGIN:VTIMEZONE
TZID:Europe/Helsinki
BEGIN:DAYLIGHT
TZOFFSETFROM:+0200
TZOFFSETTO:+0300
TZNAME:EEST
DTSTART:20240331T010000
END:DAYLIGHT
BEGIN:STANDARD
TZOFFSETFROM:+0300
TZOFFSETTO:+0200
TZNAME:EET
DTSTART:20241027T010000
END:STANDARD
BEGIN:DAYLIGHT
TZOFFSETFROM:+0200
TZOFFSETTO:+0300
TZNAME:EEST
DTSTART:20250330T010000
END:DAYLIGHT
BEGIN:STANDARD
TZOFFSETFROM:+0300
TZOFFSETTO:+0200
TZNAME:EET
DTSTART:20251026T010000
END:STANDARD
BEGIN:DAYLIGHT
TZOFFSETFROM:+0200
TZOFFSETTO:+0300
TZNAME:EEST
DTSTART:20260329T010000
END:DAYLIGHT
BEGIN:STANDARD
TZOFFSETFROM:+0300
TZOFFSETTO:+0200
TZNAME:EET
DTSTART:20261025T010000
END:STANDARD
END:VTIMEZONE
BEGIN:VEVENT
DTSTART;TZID=Europe/Helsinki:20250107T150000
DTEND;TZID=Europe/Helsinki:20250107T160000
DTSTAMP:20260422T173533
CREATED:20241127T153406Z
LAST-MODIFIED:20241127T153406Z
UID:15830-1736262000-1736265600@aivovammayhdistykset.fi
SUMMARY:Keilaus
DESCRIPTION:Yhdistys on varannut jäsentemme käyttöön kaksi keilarataa tiistaisin  7.1  klo 15.00-16.00 Oulun Keilahallilta os. Isokatu 97\, esteetön tila ja jäsenille maksuton.\nKenkävuokra 2 € on omakustanteinen.
URL:https://aivovammayhdistykset.fi/tapahtuma/keilaus-128/
CATEGORIES:Oulun Seudun Aivovammayhdistys ry
END:VEVENT
BEGIN:VEVENT
DTSTART;TZID=Europe/Helsinki:20250109T170000
DTEND;TZID=Europe/Helsinki:20250109T190000
DTSTAMP:20260422T173533
CREATED:20250104T123227Z
LAST-MODIFIED:20250104T123227Z
UID:15976-1736442000-1736449200@aivovammayhdistykset.fi
SUMMARY:TAMMIKUUN JÄSENTAPAAMINEN 9.1. klo.17.00
DESCRIPTION:Tapaamme tammikuun 9. päivä Äärellä Kuppi & Kattila kahvilassa Seinäjoella\nNyykoolinkatu 25 (Itikanmäellä Kalevan navetta)\nYhdistys tarjoaa pulla/leivos kahvit ja vertaistuellista seuraa!\nTervetuloa mukaan!
URL:https://aivovammayhdistykset.fi/tapahtuma/tammikuun-jasentapaaminen-9-1-klo-17-00/
LOCATION:Äärellä Kuppi & Kattila\, Nyykoolinkatu 25\, Seinäjoki\, 60100\, Suomi
CATEGORIES:Etelä-Pohjanmaan aivovammayhdistys ry,Hämeenlinna,Hyvinkää,Jyväskylä,Kankaanpää,Pääkaupunkiseutu,Pori,Porvoo,Tampere
END:VEVENT
BEGIN:VEVENT
DTSTART;TZID=Europe/Helsinki:20250113T120000
DTEND;TZID=Europe/Helsinki:20250113T130000
DTSTAMP:20260422T173533
CREATED:20250107T085813Z
LAST-MODIFIED:20250107T085813Z
UID:15981-1736769600-1736773200@aivovammayhdistykset.fi
SUMMARY:Keilaus!
DESCRIPTION:Tervetuloa keilaamaan Raision keilakeskukselle maanantaisin 13.1.2025 – 28.4. 2025  klo. 12.00 – 13.00. \nKausi maksu 30 euroa / osallistuja + kenkä vuokra joka maksetaan kasalle aina osallistuessa. \nOsallistuminen maksetaan yhdistyksen tilille viite numeroa vastaa\, jonka keilaryhmän vastaavalta. \n 
URL:https://aivovammayhdistykset.fi/tapahtuma/keilaus-138/
CATEGORIES:Varsinais-Suomen aivovammayhdistys ry
END:VEVENT
BEGIN:VEVENT
DTSTART;TZID=Europe/Helsinki:20250120T120000
DTEND;TZID=Europe/Helsinki:20250120T130000
DTSTAMP:20260422T173533
CREATED:20250107T091522Z
LAST-MODIFIED:20250107T091522Z
UID:15991-1737374400-1737378000@aivovammayhdistykset.fi
SUMMARY:Keilaus
DESCRIPTION:Tarkempi kuvaus tapahtuma sivun ylä laidassa.
URL:https://aivovammayhdistykset.fi/tapahtuma/keilaus-139/
CATEGORIES:Varsinais-Suomen aivovammayhdistys ry
END:VEVENT
BEGIN:VEVENT
DTSTART;TZID=Europe/Helsinki:20250121T150000
DTEND;TZID=Europe/Helsinki:20250121T160000
DTSTAMP:20260422T173533
CREATED:20241127T153725Z
LAST-MODIFIED:20241127T153725Z
UID:15832-1737471600-1737475200@aivovammayhdistykset.fi
SUMMARY:Keilaus
DESCRIPTION:Yhdistys on varannut jäsentemme käyttöön kaksi keilarataa tiistaisin  21.1  klo 15.00-16.00 Oulun Keilahallilta os. Isokatu 97\, esteetön tila ja jäsenille maksuton.\nKenkävuokra 2 € on omakustanteinen.
URL:https://aivovammayhdistykset.fi/tapahtuma/keilaus-129/
CATEGORIES:Oulun Seudun Aivovammayhdistys ry
END:VEVENT
BEGIN:VEVENT
DTSTART;TZID=Europe/Helsinki:20250127T120000
DTEND;TZID=Europe/Helsinki:20250127T130000
DTSTAMP:20260422T173533
CREATED:20250107T091929Z
LAST-MODIFIED:20250107T091929Z
UID:15995-1737979200-1737982800@aivovammayhdistykset.fi
SUMMARY:Keilaus
DESCRIPTION:Tarkemmat tiedot tapahtuma sivun ylä laidassa.
URL:https://aivovammayhdistykset.fi/tapahtuma/keilaus-140/
CATEGORIES:Varsinais-Suomen aivovammayhdistys ry
END:VEVENT
BEGIN:VEVENT
DTSTART;TZID=Europe/Helsinki:20250128T180000
DTEND;TZID=Europe/Helsinki:20250128T200000
DTSTAMP:20260422T173533
CREATED:20250107T090624Z
LAST-MODIFIED:20250115T191314Z
UID:15987-1738087200-1738094400@aivovammayhdistykset.fi
SUMMARY:Jäsenilta
DESCRIPTION:Tammikuussa jäsenilta tiistaina 28.01.2025 klo 18 alkaen Happy Housessa. Kevään ohjelman esittely. Yhdistyksen hallitukseen valitaan uusi jäsen eronneen tilalle seuraavaan vuosikokoukseen asti.
URL:https://aivovammayhdistykset.fi/tapahtuma/jasenilta-43/
CATEGORIES:Varsinais-Suomen aivovammayhdistys ry
END:VEVENT
BEGIN:VEVENT
DTSTART;TZID=Europe/Helsinki:20250129T150000
DTEND;TZID=Europe/Helsinki:20250129T170000
DTSTAMP:20260422T173533
CREATED:20241127T173050Z
LAST-MODIFIED:20250113T160120Z
UID:15850-1738162800-1738170000@aivovammayhdistykset.fi
SUMMARY:Vertaistapaaminen
DESCRIPTION:Vertaistapaaminen ke 29.1. 15-17 kahvila Joo Hetki os. Satamatie 5. Tavataan kahvittelun ja yhdessäolon merkeissä. Läheiset ovat myös tervetulleita. Yhdistys tarjoaa pullakahvit.
URL:https://aivovammayhdistykset.fi/tapahtuma/vertaistapaaminen-4/
CATEGORIES:Oulun Seudun Aivovammayhdistys ry
END:VEVENT
END:VCALENDAR