BEGIN:VCALENDAR
VERSION:2.0
PRODID:-//Aivovammayhdistykset - ECPv6.15.18//NONSGML v1.0//EN
CALSCALE:GREGORIAN
METHOD:PUBLISH
X-ORIGINAL-URL:https://aivovammayhdistykset.fi
X-WR-CALDESC:Tapahtumat Aivovammayhdistykset
REFRESH-INTERVAL;VALUE=DURATION:PT1H
X-Robots-Tag:noindex
X-PUBLISHED-TTL:PT1H
BEGIN:VTIMEZONE
TZID:Europe/Helsinki
BEGIN:DAYLIGHT
TZOFFSETFROM:+0200
TZOFFSETTO:+0300
TZNAME:EEST
DTSTART:20230326T010000
END:DAYLIGHT
BEGIN:STANDARD
TZOFFSETFROM:+0300
TZOFFSETTO:+0200
TZNAME:EET
DTSTART:20231029T010000
END:STANDARD
BEGIN:DAYLIGHT
TZOFFSETFROM:+0200
TZOFFSETTO:+0300
TZNAME:EEST
DTSTART:20240331T010000
END:DAYLIGHT
BEGIN:STANDARD
TZOFFSETFROM:+0300
TZOFFSETTO:+0200
TZNAME:EET
DTSTART:20241027T010000
END:STANDARD
BEGIN:DAYLIGHT
TZOFFSETFROM:+0200
TZOFFSETTO:+0300
TZNAME:EEST
DTSTART:20250330T010000
END:DAYLIGHT
BEGIN:STANDARD
TZOFFSETFROM:+0300
TZOFFSETTO:+0200
TZNAME:EET
DTSTART:20251026T010000
END:STANDARD
END:VTIMEZONE
BEGIN:VEVENT
DTSTART;TZID=Europe/Helsinki:20240803T130000
DTEND;TZID=Europe/Helsinki:20240803T170000
DTSTAMP:20260423T015038
CREATED:20240402T130041Z
LAST-MODIFIED:20240414T080844Z
UID:14934-1722690000-1722704400@aivovammayhdistykset.fi
SUMMARY:Elojuhla
DESCRIPTION:Elojuhla la 3.8. klo 13-17 Peuhun kartanossa\, os. Peuhuntie 194\, Oulunsalo.Tunnelmallinen kartanoalue sijaitsee Perämeren rannalla. Matkaa Oulusta on noin 20 km.\nTule viettämään koko perheen kanssa rentoa ja mukavaa lauantai-iltapäivää Peuhuun. Ilmoittautuminen ja erikoisruokavaliot- ainerajoitukset tarjoilun vuoksi 22.7. mennessä Eila Sääskölle teksiviestillä 040 765 6989 tai eila.saasko@gmail.com\nJos autossasi on tilaa tai tarvitset kyytiä\, ota yhteyttä Eilaan\, niin yritämme järjestää.\nHuom! Aika ja paikka muuttunut!\nTervetuloa!
URL:https://aivovammayhdistykset.fi/tapahtuma/elojuhla-3/
CATEGORIES:Oulun Seudun Aivovammayhdistys ry
END:VEVENT
BEGIN:VEVENT
DTSTART;TZID=Europe/Helsinki:20240806T120000
DTEND;TZID=Europe/Helsinki:20240806T130000
DTSTAMP:20260423T015038
CREATED:20240402T131111Z
LAST-MODIFIED:20240402T131111Z
UID:14950-1722945600-1722949200@aivovammayhdistykset.fi
SUMMARY:Keilaus
DESCRIPTION:Keilaus\nYhdistys on varannut jäsentemme käyttöön kaksi keilarataa tiistaisin  6.8  klo 12.00-13.00 Oulun Keilahallilta os. Isokatu 97\, esteetön tila ja jäsenille maksuton.\nKenkävuokra 2 € on omakustanteinen.
URL:https://aivovammayhdistykset.fi/tapahtuma/keilaus-118/
CATEGORIES:Oulun Seudun Aivovammayhdistys ry
END:VEVENT
BEGIN:VEVENT
DTSTART;TZID=Europe/Helsinki:20240807T080000
DTEND;TZID=Europe/Helsinki:20240807T170000
DTSTAMP:20260423T015038
CREATED:20240807T155342Z
LAST-MODIFIED:20240807T155358Z
UID:15384-1723017600-1723050000@aivovammayhdistykset.fi
SUMMARY:Tasapainoryhmä
DESCRIPTION:Tasapainoryhmä UUSI RYHMÄ!\n\nRyhmässä on tasapainoharjoitusten lisäksi myös voimaharjoituksia.Tunnit räätälöidään osallistujien mukaan.\nPaikka: Oulun uimahallin liikuntasali\, os. Pikkukankaantie 3.\nAika: torstaisin 17.10.\, 24.10. ja 31.10. klo 16-17. Ohjaajana ertyisliikunnanohjaaja Anne Utriainen. Jäsenille maksuton ja tila esteetön.\nTule rohkeasti mukaan! Tervetuloa yhdelle tai vaikka kaikille kerroille\, niin kuin sinulle sopii.\nLisätietoja Eila Sääskö puh. 040 765 6989 tai eila.saasko@gmail.com
URL:https://aivovammayhdistykset.fi/tapahtuma/tasapaino/
CATEGORIES:Oulun Seudun Aivovammayhdistys ry
END:VEVENT
BEGIN:VEVENT
DTSTART;TZID=Europe/Helsinki:20240808T170000
DTEND;TZID=Europe/Helsinki:20240808T190000
DTSTAMP:20260423T015038
CREATED:20240728T075453Z
LAST-MODIFIED:20240728T075453Z
UID:15308-1723136400-1723143600@aivovammayhdistykset.fi
SUMMARY:ELOKUUN JÄSENTAPAAMINEN 8.8. klo.17.00
DESCRIPTION:Tapaamme elokuun 8. päivä klo.17.00 AARNIKOTKAN KODALLA\nSeinäjoen Jouppilanvuorella.\nKyrkösvuorentie 26 Seinäjoki.\nTarjolla; nokipannu kahvit\, nuotio makkaraa ja vertaistuellista seuraa.\nJäsenille maksuton tapahtuma.\nTERVETULOA MUKAAN
URL:https://aivovammayhdistykset.fi/tapahtuma/elokuun-jasentapaaminen-8-8-klo-17-00/
LOCATION:AARNIKOTKAN KOTA\, Kyrkösvuorentie 26\, Seinäjoki
CATEGORIES:Etelä-Pohjanmaan aivovammayhdistys ry
END:VEVENT
BEGIN:VEVENT
DTSTART;TZID=Europe/Helsinki:20240816T120000
DTEND;TZID=Europe/Helsinki:20240816T133000
DTSTAMP:20260423T015038
CREATED:20240710T120532Z
LAST-MODIFIED:20240710T121201Z
UID:15298-1723809600-1723815000@aivovammayhdistykset.fi
SUMMARY:Sähköankerias Lastenkonsertti
DESCRIPTION:Tervetuloa perjantaina 16.8 klo 12.00 Satakunnan Aivovammayhdistyksen ja Rauman vammaisneuvoston järjestämälle pienten vammaisten lasten Konserttiin Parpansalin juhlateltalle\, Kanavakatu 15\, 26100 Rauma.\nTarjoilun järjestämisen takia pyydämme ilmoittautumista pe 12.8 mennessä Ritva Parjaselle numeroon 044995 1212 (mielellään tekstiviestillä).\nTilaisuus maksuton.\nTERVETULOA!
URL:https://aivovammayhdistykset.fi/tapahtuma/sahkoankerias-lastenkonsertti/
CATEGORIES:Kankaanpää,Pori,Rauma,Satakunnan aivovammayhdistys ry
END:VEVENT
BEGIN:VEVENT
DTSTART;TZID=Europe/Helsinki:20240820T120000
DTEND;TZID=Europe/Helsinki:20240820T130000
DTSTAMP:20260423T015038
CREATED:20240402T131155Z
LAST-MODIFIED:20240402T131155Z
UID:14952-1724155200-1724158800@aivovammayhdistykset.fi
SUMMARY:Keilaus
DESCRIPTION:Keilaus\nYhdistys on varannut jäsentemme käyttöön kaksi keilarataa tiistaisin  20.8  klo 12.00-13.00 Oulun Keilahallilta os. Isokatu 97\, esteetön tila ja jäsenille maksuton.\nKenkävuokra 2 € on omakustanteinen.
URL:https://aivovammayhdistykset.fi/tapahtuma/keilaus-119/
CATEGORIES:Oulun Seudun Aivovammayhdistys ry
END:VEVENT
BEGIN:VEVENT
DTSTART;TZID=Europe/Helsinki:20240823T160000
DTEND;TZID=Europe/Helsinki:20240825T133000
DTSTAMP:20260423T015038
CREATED:20240710T113705Z
LAST-MODIFIED:20240710T113705Z
UID:15296-1724428800-1724592600@aivovammayhdistykset.fi
SUMMARY:Junnilan virkistysleiri
DESCRIPTION:Satakunnan Aivovammayhdistys järjestää jäsenille perheineen 23-25.8.2024 virkistysleirin Reposaaren Junnilassa\, Takarannantie 9\, 28900 Pori.\nPe 23.8 saapuminen klo 16-17.00\, keittopäivällinen\, ohjelmaa ja klo 20.30 iltapala.\nLa 24.8 aamiainen klo 8.00.  Klo 9-11.15 luontopolku\, tutustuminen Linnakepuistoon\, pihapelejä ja ulkonaoloa.  Klo 11.30 lounas\, lepotauko ja ohjelmaa.  Klo 14.00 iltapäiväkahvit. Mahdollisuus saunomiseen ja uimaretkeen (alueella ei ole uimarantaa).  Klo 17.00 päivällinen ja ohjelmaa sisällä.            Klo 20.30 iltapala.\nSu 25.8 aamiainen klo 8.00.  Palautetta\, tulevaisuuden ohjelman suunnittelua.  Klo 13.00 lounas\, keskustelu jatkuu.  Klo 13.30 kotiinlähtökahvit.\nHinnat:\nKoko viikonloppu 40-55 euroa/hlö sisältäen ruokailut\, yöpymiset ja liinavaatteet. Lauantain päiväkäynti 15-20 euroa/hlö.    Hinta määräytyy osallistujamäärän mukaan.\nIlmoittautumiset ruokavalioineen ma 5.8 mennessä Seija Kröpille numeroon 0440 103620. Lisätietoja Ritva Parjaselta puh. 044 995 1212.
URL:https://aivovammayhdistykset.fi/tapahtuma/junnilan-virkistysleiri/
CATEGORIES:Kankaanpää,Pori,Rauma,Satakunnan aivovammayhdistys ry
END:VEVENT
END:VCALENDAR