BEGIN:VCALENDAR
VERSION:2.0
PRODID:-//Aivovammayhdistykset - ECPv6.15.18//NONSGML v1.0//EN
CALSCALE:GREGORIAN
METHOD:PUBLISH
X-ORIGINAL-URL:https://aivovammayhdistykset.fi
X-WR-CALDESC:Tapahtumat Aivovammayhdistykset
REFRESH-INTERVAL;VALUE=DURATION:PT1H
X-Robots-Tag:noindex
X-PUBLISHED-TTL:PT1H
BEGIN:VTIMEZONE
TZID:Europe/Helsinki
BEGIN:DAYLIGHT
TZOFFSETFROM:+0200
TZOFFSETTO:+0300
TZNAME:EEST
DTSTART:20230326T010000
END:DAYLIGHT
BEGIN:STANDARD
TZOFFSETFROM:+0300
TZOFFSETTO:+0200
TZNAME:EET
DTSTART:20231029T010000
END:STANDARD
BEGIN:DAYLIGHT
TZOFFSETFROM:+0200
TZOFFSETTO:+0300
TZNAME:EEST
DTSTART:20240331T010000
END:DAYLIGHT
BEGIN:STANDARD
TZOFFSETFROM:+0300
TZOFFSETTO:+0200
TZNAME:EET
DTSTART:20241027T010000
END:STANDARD
BEGIN:DAYLIGHT
TZOFFSETFROM:+0200
TZOFFSETTO:+0300
TZNAME:EEST
DTSTART:20250330T010000
END:DAYLIGHT
BEGIN:STANDARD
TZOFFSETFROM:+0300
TZOFFSETTO:+0200
TZNAME:EET
DTSTART:20251026T010000
END:STANDARD
END:VTIMEZONE
BEGIN:VEVENT
DTSTART;TZID=Europe/Helsinki:20240502T140000
DTEND;TZID=Europe/Helsinki:20240502T153000
DTSTAMP:20260425T133822
CREATED:20240315T205309Z
LAST-MODIFIED:20240315T205309Z
UID:14831-1714658400-1714663800@aivovammayhdistykset.fi
SUMMARY:Naisten ja miesten ryhmän kuukausitapaaminen
DESCRIPTION:
URL:https://aivovammayhdistykset.fi/tapahtuma/naisten-ja-miesten-ryhman-kuukausitapaaminen-2/
CATEGORIES:Varsinais-Suomen aivovammayhdistys ry
END:VEVENT
BEGIN:VEVENT
DTSTART;TZID=Europe/Helsinki:20240504T150000
DTEND;TZID=Europe/Helsinki:20240504T180000
DTSTAMP:20260425T133822
CREATED:20240111T151227Z
LAST-MODIFIED:20240111T151300Z
UID:14319-1714834800-1714845600@aivovammayhdistykset.fi
SUMMARY:Yhdistyksen 30-vuotisjuhla
DESCRIPTION:Yhdistyksen 30-vuotisjuhla lauantaina 4.5. klo 15 Aleksinkulman juhlasalissa os. Aleksanterinkatu 9\, Oulu\, käynti sisäpihan puolelta. Kutsu lähetetään lähempänä ajankohtaa.
URL:https://aivovammayhdistykset.fi/tapahtuma/yhdistyksen-30-vuotisjuhla/
CATEGORIES:Oulun Seudun Aivovammayhdistys ry
END:VEVENT
BEGIN:VEVENT
DTSTART;TZID=Europe/Helsinki:20240506T120000
DTEND;TZID=Europe/Helsinki:20240506T130000
DTSTAMP:20260425T133822
CREATED:20231208T123027Z
LAST-MODIFIED:20231208T123027Z
UID:14148-1714996800-1715000400@aivovammayhdistykset.fi
SUMMARY:Keilaus
DESCRIPTION:Käytössä 2. rataa. Osallistumismaksu kenkävuokra 1 euro.
URL:https://aivovammayhdistykset.fi/tapahtuma/keilaus-109/
CATEGORIES:Varsinais-Suomen aivovammayhdistys ry
END:VEVENT
BEGIN:VEVENT
DTSTART;TZID=Europe/Helsinki:20240507T120000
DTEND;TZID=Europe/Helsinki:20240507T130000
DTSTAMP:20260425T133822
CREATED:20240111T151506Z
LAST-MODIFIED:20240423T114813Z
UID:14323-1715083200-1715086800@aivovammayhdistykset.fi
SUMMARY:Keilaus
DESCRIPTION:Yhdistys on varannut jäsentemme käyttöön kaksi keilarataa tiistaisin 7.5.  klo 12-13 Oulun Keilahallilta\, Isokatu 97. Tila esteetön ja maksuton. Kenkävuokra 2€ omakustanteinen.
URL:https://aivovammayhdistykset.fi/tapahtuma/keilaus-110/
CATEGORIES:Oulun Seudun Aivovammayhdistys ry
END:VEVENT
BEGIN:VEVENT
DTSTART;TZID=Europe/Helsinki:20240507T180000
DTEND;TZID=Europe/Helsinki:20240507T200000
DTSTAMP:20260425T133822
CREATED:20231208T121343Z
LAST-MODIFIED:20240402T164935Z
UID:14129-1715104800-1715112000@aivovammayhdistykset.fi
SUMMARY:Jäsenilta
DESCRIPTION:Rekan alle jäänyt. \nKonginkankaalla 19.3.2004  liikenneonnettomuudessa mukana ollut Saana Kiviranta tulee kertomaan esikoisteoksestaan ja kaikesta siitä mikä sai hänet kirjoittamaan kirjan.
URL:https://aivovammayhdistykset.fi/tapahtuma/jasenilta-42/
LOCATION:Turun Seudun TST ry\, Kanslerintie 19\, Turku\, 20200
CATEGORIES:Varsinais-Suomen aivovammayhdistys ry
END:VEVENT
BEGIN:VEVENT
DTSTART;TZID=Europe/Helsinki:20240508T133000
DTEND;TZID=Europe/Helsinki:20240508T150000
DTSTAMP:20260425T133822
CREATED:20240111T151710Z
LAST-MODIFIED:20240506T070532Z
UID:14327-1715175000-1715180400@aivovammayhdistykset.fi
SUMMARY:Nuoret aikuiset
DESCRIPTION:Tule mukaan nuorten rentoon tapaamiseen keskiviikkoisin 8.5 klo 13.30-15.00 Cafeteria Serafiinaan\, os. Harjapäänkatu 33 (Etu-Lyötty)\, Oulu.\nTapaaminen on tarkoitettu nuorille ja nuorille aikuisille\, joilla on aivovamma.\nKahvi ja tee tarjoilu. Lisätietoja yhdistyksen puheenjohtajalta: Eila Sääskö\, puh. 040 765 6989\, eila.saasko@gmail.com\nPeruttu yksityistilaisuus alkaa klo 13:00
URL:https://aivovammayhdistykset.fi/tapahtuma/nuoret-aikuiset-11/
CATEGORIES:Oulun Seudun Aivovammayhdistys ry
END:VEVENT
BEGIN:VEVENT
DTSTART;TZID=Europe/Helsinki:20240515T120000
DTEND;TZID=Europe/Helsinki:20240515T170000
DTSTAMP:20260425T133822
CREATED:20240116T122000Z
LAST-MODIFIED:20240301T114641Z
UID:14358-1715774400-1715792400@aivovammayhdistykset.fi
SUMMARY:Satakunnan aivovammayhdistyksen kevätjuhla
DESCRIPTION:Satakunnan aivovammayhdistyksen kevätjuhla järjestetään Eurajoen Lahdenperässä keskiviikkona 15.5. kello 12-17. Tervetuloa!
URL:https://aivovammayhdistykset.fi/tapahtuma/satakunnan-aivovammayhdistyksen-kevatjuhla/
CATEGORIES:Satakunnan aivovammayhdistys ry
END:VEVENT
BEGIN:VEVENT
DTSTART;TZID=Europe/Helsinki:20240516T170000
DTEND;TZID=Europe/Helsinki:20240516T190000
DTSTAMP:20260425T133822
CREATED:20240426T135144Z
LAST-MODIFIED:20240426T135144Z
UID:15021-1715878800-1715886000@aivovammayhdistykset.fi
SUMMARY:Toukokuun jäsentapaaminen torstaina 16.5. klo.17.00
DESCRIPTION:Tapaamme torstaina 16.5. klo.17.00 eläinten vanhainkoti WANHALLA MARKILLA\nLapuantie 511 Ylistaro.\nMeille esitellään tilan eläimet ja toiminta.\nTarjolla pullakahvit.\nJäsenille maksuton tapahtuma.\nTERVETULOA MUKAAN
URL:https://aivovammayhdistykset.fi/tapahtuma/toukokuun-jasentapaaminen-torstaina-16-5-klo-17-00/
LOCATION:Wanhamarkki\, Lapuantie 511\, Seinäjoki\, 61400\, Suomi
CATEGORIES:Etelä-Pohjanmaan aivovammayhdistys ry
END:VEVENT
BEGIN:VEVENT
DTSTART;TZID=Europe/Helsinki:20240521T120000
DTEND;TZID=Europe/Helsinki:20240521T130000
DTSTAMP:20260425T133822
CREATED:20240111T151550Z
LAST-MODIFIED:20240423T114841Z
UID:14325-1716292800-1716296400@aivovammayhdistykset.fi
SUMMARY:Keilaus
DESCRIPTION:Yhdistys on varannut jäsentemme käyttöön kaksi keilarataa tiistaisin 21.5. klo 12-13 Oulun Keilahallilta\, Isokatu 97. Tila esteetön ja maksuton. Kenkävuokra 2€ omakustanteinen.
URL:https://aivovammayhdistykset.fi/tapahtuma/keilaus-111/
CATEGORIES:Oulun Seudun Aivovammayhdistys ry
END:VEVENT
BEGIN:VEVENT
DTSTART;TZID=Europe/Helsinki:20240521T153000
DTEND;TZID=Europe/Helsinki:20240521T200000
DTSTAMP:20260425T133822
CREATED:20240225T132007Z
LAST-MODIFIED:20240510T084921Z
UID:14633-1716305400-1716321600@aivovammayhdistykset.fi
SUMMARY:YHDISTYS TÄYTTÄÄ 30 VUOTTA!!
DESCRIPTION:Varsinais-Suomen\nAivovammayhdistys ry.\nToivotamme teidät lämpimästi tervetulleeksi\nyhdistyksen 30-vuotisjuhlaan tiistaina 21.5.2024 \nPaikka: Taito – ravintola\nLemminkäisenkatu 14 -18 b\nTurku \nAika 16.00 – 20.00 \nHinta: 10 euroa / osallistuja \nIlmoittautumisaikaa jatkettu 12.5. 2024\ntiedotus.vsavy@gmail.com \nIlmoittautumisen yhteydessä saat maksutiedot\,\nmuistathan kertoa myös ruoka-allergiat.\nPaikat täytetään ilmoittautumisjärjestyksessä\,\nMaksun jälkeen olet varmistanut paikan. \nPs Saavuthan ajoissa\, ovet aukeavat klo. 15.30
URL:https://aivovammayhdistykset.fi/tapahtuma/yhdistys-tayttaa-30-vuotta/
LOCATION:Opetusravintola TAITO\, Lemminkäisenkatu 14 B\, Turku\, Varsinais - Suomi\, 20100\, Suomi
CATEGORIES:Varsinais-Suomen aivovammayhdistys ry
END:VEVENT
BEGIN:VEVENT
DTSTART;TZID=Europe/Helsinki:20240529T150000
DTEND;TZID=Europe/Helsinki:20240529T170000
DTSTAMP:20260425T133822
CREATED:20240111T151338Z
LAST-MODIFIED:20240413T135036Z
UID:14321-1716994800-1717002000@aivovammayhdistykset.fi
SUMMARY:Vertaistapaaminen
DESCRIPTION:Ke 29.5. klo 15-17. Vertaistapaaminen kahvila POOKloski Johteenpookissa\, os. Kansankentäntie 11\, (Hietasaaren veneilykeskus). Yhdistys tarjoaa pullakahvit.
URL:https://aivovammayhdistykset.fi/tapahtuma/jasentapaaminen-60/
CATEGORIES:Oulun Seudun Aivovammayhdistys ry
END:VEVENT
BEGIN:VEVENT
DTSTART;TZID=Europe/Helsinki:20240530T150000
DTEND;TZID=Europe/Helsinki:20240530T200000
DTSTAMP:20260425T133822
CREATED:20240119T092441Z
LAST-MODIFIED:20240119T092601Z
UID:14384-1717081200-1717099200@aivovammayhdistykset.fi
SUMMARY:Kevätkauden päättäjäiset
DESCRIPTION:TO 30.5. klo15-20 vietetään KEVÄTKAUDEN PÄÄTTÄJÄISET Parinpellon leiri- ja kurssikeskuksessa\, Parinpellontie 173\, Hollola Kk. Vietetään keväinen iltapäivä rennosti: grillataan makkaraa\, nautitaan ruokaisa salaatti patongin kanssa. Kahvit ja makeaakin on tiedossa. Sauna on kuumana\, ota uimapuku ja pyyhe mukaan. Jäsenhinta 10\,-. avustajat 5\,-\, muut 15\,-. \nIlmoittaudu Karille viimeistään 12.5. Ilmoita samalla mahdolliset ruoka-aineallergiat. Puhelin 040 828 0906 tai info.phavy@gmail.com. Maksa osallistumisesi 15.5. mennessä P-H Aivovammayhdistyksen tilille FI15 4212 0010 1321 95. Käytä viitettä 1009.
URL:https://aivovammayhdistykset.fi/tapahtuma/kevatkauden-paattajaiset-3/
LOCATION:Parinpellon leiri- ja kurssikeskus\, Parinpellontie 173\, Hollola kk
CATEGORIES:Lahti,Päijät-Hämeen aivovammayhdistys ry
END:VEVENT
END:VCALENDAR