BEGIN:VCALENDAR
VERSION:2.0
PRODID:-//Aivovammayhdistykset - ECPv6.15.18//NONSGML v1.0//EN
CALSCALE:GREGORIAN
METHOD:PUBLISH
X-ORIGINAL-URL:https://aivovammayhdistykset.fi
X-WR-CALDESC:Tapahtumat Aivovammayhdistykset
REFRESH-INTERVAL;VALUE=DURATION:PT1H
X-Robots-Tag:noindex
X-PUBLISHED-TTL:PT1H
BEGIN:VTIMEZONE
TZID:Europe/Helsinki
BEGIN:DAYLIGHT
TZOFFSETFROM:+0200
TZOFFSETTO:+0300
TZNAME:EEST
DTSTART:20220327T010000
END:DAYLIGHT
BEGIN:STANDARD
TZOFFSETFROM:+0300
TZOFFSETTO:+0200
TZNAME:EET
DTSTART:20221030T010000
END:STANDARD
BEGIN:DAYLIGHT
TZOFFSETFROM:+0200
TZOFFSETTO:+0300
TZNAME:EEST
DTSTART:20230326T010000
END:DAYLIGHT
BEGIN:STANDARD
TZOFFSETFROM:+0300
TZOFFSETTO:+0200
TZNAME:EET
DTSTART:20231029T010000
END:STANDARD
BEGIN:DAYLIGHT
TZOFFSETFROM:+0200
TZOFFSETTO:+0300
TZNAME:EEST
DTSTART:20240331T010000
END:DAYLIGHT
BEGIN:STANDARD
TZOFFSETFROM:+0300
TZOFFSETTO:+0200
TZNAME:EET
DTSTART:20241027T010000
END:STANDARD
END:VTIMEZONE
BEGIN:VEVENT
DTSTART;TZID=Europe/Helsinki:20230906T133000
DTEND;TZID=Europe/Helsinki:20230906T150000
DTSTAMP:20260426T054831
CREATED:20230817T135242Z
LAST-MODIFIED:20230905T065721Z
UID:13473-1694007000-1694012400@aivovammayhdistykset.fi
SUMMARY:Nuoret aikuiset
DESCRIPTION:Tule mukaan nuorten rentoon tapaamiseen ke 6.9.\, 4.10.\, 8.11. ja 13.12. klo 13:30-15.00 Cafeteria Serafiinaaan\, os. Harjapäänkatu 33 (Etu-Lyötty)\, Oulu. Kahvi/teetarjoilu. \n\n\n\nTapaaminen on tarkoitettu nuorille ja nuorille aikuisille\, joilla on aivovamma. \n\n\n\nLisätietoja yhdistyksen puheenjohtajalta: Eila Sääskö\, puh. 040 765 6989\, eila.saasko@gmail.com
URL:https://aivovammayhdistykset.fi/tapahtuma/nuoret-aikuiset-2/
CATEGORIES:Oulun Seudun Aivovammayhdistys ry
END:VEVENT
BEGIN:VEVENT
DTSTART;TZID=Europe/Helsinki:20230906T140000
DTEND;TZID=Europe/Helsinki:20230906T170000
DTSTAMP:20260426T054831
CREATED:20230816T153428Z
LAST-MODIFIED:20230816T154000Z
UID:13460-1694008800-1694019600@aivovammayhdistykset.fi
SUMMARY:Iltapäivä Vervessä 6.9.
DESCRIPTION:Alunperin elokuulle ilmoitettu VERVEN TAPAHTUMA siirtyy myöhemmäksi. Uusi päivä on keskiviikko 6. syyskuuta.\nKello 14 alkaen vietämme rennon iltapäivän aivovammakuntoutuskurssilaisten kanssa. Tarjolla on makkaraa\, kahvia ja lettuja. Pelataan mölkkyä ja seurustellaan.\nOsoite on Launeenkatu 10\, 15100 Lahti\nIlmoittaudu Karille viimeistään 3.9.\, puh. 040 828 0906 tai info.phavy@gmail.com.
URL:https://aivovammayhdistykset.fi/tapahtuma/iltapaiva-vervessa-6-9/
LOCATION:Verve Lahti\, Launeenkatu 10\, Lahti\, 15100\, Suomi
CATEGORIES:Päijät-Hämeen aivovammayhdistys ry
END:VEVENT
BEGIN:VEVENT
DTSTART;TZID=Europe/Helsinki:20230906T170000
DTEND;TZID=Europe/Helsinki:20230906T190000
DTSTAMP:20260426T054831
CREATED:20230901T071543Z
LAST-MODIFIED:20230901T071543Z
UID:13525-1694019600-1694026800@aivovammayhdistykset.fi
SUMMARY:SYYSKUUN JÄSENTAPAAMINEN KESKIVIIKKONA 6.9. klo.17.00 S.Q.B.Center Seinäjoki
DESCRIPTION:Tavataan keilaamisen merkeissä KESKIVIIKKONA 6.9. klo.17.00\nS.Q.B.Centerissä osoite; Urheilupuisto 5 Seinäjoki.\nMeille varattuna 4 rataa kahdeksi tunniksi.\nKeilauksen päätteeksi tarjolla pullakahvit!\nJäsenille maksuton tapahtuma.\nTervetuloa mukaan.
URL:https://aivovammayhdistykset.fi/tapahtuma/syyskuun-jasentapaaminen-keskiviikkona-6-9-klo-17-00-s-q-b-center-seinajoki/
LOCATION:S.Q.B. Center Seinäjoki\, Urheilupuisto 4\, Seinäjoki\, 60100\, Suomi
CATEGORIES:Etelä-Pohjanmaan aivovammayhdistys ry
END:VEVENT
BEGIN:VEVENT
DTSTART;TZID=Europe/Helsinki:20230907T130000
DTEND;TZID=Europe/Helsinki:20230907T160000
DTSTAMP:20260426T054831
CREATED:20230807T104427Z
LAST-MODIFIED:20230807T105734Z
UID:13408-1694091600-1694102400@aivovammayhdistykset.fi
SUMMARY:Ensitietopäivä aivovammoista Satasairaalassa 7.9.2023
DESCRIPTION:Ensitietopäivä Satasairaalassa 7.9.2023 klo 13–16. Paikka: Satasairaalan auditorio\, N2-rakennus\, Sairaalatie 3\, Pori \nTapahtuma on suunnattu alle viisi vuotta sitten aivovamman saaneille ja heidän läheisilleen\, sekä muille aiheesta kiinnostuneille\, kuten sosiaali- ja terveysalan opiskelijoille. Tilaisuuden järjestävät yhteistyössä Satasairaalan neurologian yksikkö ja Satakunnan Aivovammayhdistys. \nTapahtumaan on vapaa pääsy\, mutta toivomme etukäteen ilmoittautumista tarjoilujen vuoksi. Ilmoittautuminen tapahtuu sähköpostitse satakunnanaivovammayhdistys@gmail.com tai puhelimitse 0500 721 422. \nOHJELMA: \n13.00 Alkusanat\, Satasairaalan neurologian yksikön ylilääkäri Juha Puustinen \n13.15 Satasairaalan osastonylilääkäri\, neurologian erikoislääkäri Muhammad Azad \n14.00 Neuropsykologiset oireet ja sairauteen sopeutuminen\, psykologi Niina Takagi \n14.30 Tauko ja kahvitarjoilu \n15.00 Toimintakyvyn tukeminen arjessa\, toimintaterapeutti Heidi Hämäläinen \n15.30 Aivovammaliiton toiminnan esittely\, koordinaattori Eeva Paavilainen \n15.40 Satakunnan Aivovammayhdistys ja kokemuspuheenvuoro\, Satakunnan ensitietopäivä.pdfTaina Mäkitalo ja Ritva Parjanen \n16.00 Lopetus \nKatso tapahtuman mainos tästä (PDF) \n  \n 
URL:https://aivovammayhdistykset.fi/tapahtuma/ensitietopaiva-aivovammoista-satasairaalassa-7-9-2023/
CATEGORIES:Satakunnan aivovammayhdistys ry
END:VEVENT
BEGIN:VEVENT
DTSTART;TZID=Europe/Helsinki:20230908T180000
DTEND;TZID=Europe/Helsinki:20230908T200000
DTSTAMP:20260426T054831
CREATED:20230731T095928Z
LAST-MODIFIED:20230731T100342Z
UID:13393-1694196000-1694203200@aivovammayhdistykset.fi
SUMMARY:LÄHEISTENRYHMÄN TAPAAMINEN PERJANTAINA 8.9. KLO.18.00
DESCRIPTION:Tapaamme perjantaina 8.9.klo.18.00 alkaen Seinäjoen Kyrkösjärven Sirius kodalla.
URL:https://aivovammayhdistykset.fi/tapahtuma/elokuun-jasentapaaminen-9-8-klo-17-00/
LOCATION:Sirius kota\, Kyrkösvuorentie 26\, Seinäjoki\, Suomi
CATEGORIES:Etelä-Pohjanmaan aivovammayhdistys ry
END:VEVENT
BEGIN:VEVENT
DTSTART;TZID=Europe/Helsinki:20230912T120000
DTEND;TZID=Europe/Helsinki:20230912T130000
DTSTAMP:20260426T054831
CREATED:20230328T175828Z
LAST-MODIFIED:20230328T175828Z
UID:12905-1694520000-1694523600@aivovammayhdistykset.fi
SUMMARY:Keilaus
DESCRIPTION:Yhdistys on varannut jäsentemme käyttöön kaksi keilarataa tiistaisin  klo 12-13 Oulun Keilahallilta\, os. Isokatu 97 Oulu (esteetön tila ja maksuton). Kenkävuokra (2€) omakustanteinen.
URL:https://aivovammayhdistykset.fi/tapahtuma/keilaus-77/
CATEGORIES:Oulun Seudun Aivovammayhdistys ry
END:VEVENT
BEGIN:VEVENT
DTSTART;TZID=Europe/Helsinki:20230916T103000
DTEND;TZID=Europe/Helsinki:20230916T153000
DTSTAMP:20260426T054831
CREATED:20230816T152653Z
LAST-MODIFIED:20230816T152754Z
UID:13456-1694860200-1694878200@aivovammayhdistykset.fi
SUMMARY:LÄHEISTEN PÄIVÄ Aulangon kylpylässä 16.9.2023
DESCRIPTION:Aivovamma muuttaa paitsi vammautuneen myös läheisen elämän. Me arvostamme kovasti läheisten antamaa apua\, tukea ja kärsivällisyyttä ja haluamme tukea heidän hyvinvointiaan ja jaksamista. Yhdistys tarjoaa läheisille virkistävän päivän 16.9. Scandic Aulangolla Hämeenlinnassa. \nPäivän ohjelma:\n– klo 9.15 lähtö Lahdesta omilla autoilla (järjestellään kimppakyytejä)\n– klo 10.30 kokoontuminen ja ulkoilua Aulangolla\n– klo 12-14.15 kylpylävierailu\n– klo 14.30 ruokailu ravintola Aulangossa \nPäivä on tarkoitettu vain aivovammautuneen läheiselle. Mukaan mahtuu vielä hyvin! \nIlmoittaudu Sarille viimeistään 30.8.\, puhelin 0400 757468 tai sari@sarivainio.com. \nVietetään mukava rento päivä hyvässä seurassa. LÄMPIMÄSTI TERVETULOA ! \n 
URL:https://aivovammayhdistykset.fi/tapahtuma/laheisten-paiva-aulangon-kylpylassa-16-9-2023/
LOCATION:Scandic Aulanko\, Aulangontie 93\, Hämeenlinna\, Suomi
CATEGORIES:Päijät-Hämeen aivovammayhdistys ry
END:VEVENT
BEGIN:VEVENT
DTSTART;TZID=Europe/Helsinki:20230926T120000
DTEND;TZID=Europe/Helsinki:20230926T130000
DTSTAMP:20260426T054831
CREATED:20230328T175903Z
LAST-MODIFIED:20230328T175903Z
UID:12907-1695729600-1695733200@aivovammayhdistykset.fi
SUMMARY:Keilaus
DESCRIPTION:Yhdistys on varannut jäsentemme käyttöön kaksi keilarataa tiistaisin  klo 12-13 Oulun Keilahallilta\, os. Isokatu 97 Oulu (esteetön tila ja maksuton). Kenkävuokra (2€) omakustanteinen.
URL:https://aivovammayhdistykset.fi/tapahtuma/keilaus-78/
CATEGORIES:Oulun Seudun Aivovammayhdistys ry
END:VEVENT
BEGIN:VEVENT
DTSTART;TZID=Europe/Helsinki:20230927T150000
DTEND;TZID=Europe/Helsinki:20230927T170000
DTSTAMP:20260426T054831
CREATED:20230519T073903Z
LAST-MODIFIED:20230519T073903Z
UID:13149-1695826800-1695834000@aivovammayhdistykset.fi
SUMMARY:Syyskauden avajaiset
DESCRIPTION:Syyskauden avajaiset ke 27.9. klo 15-17 Jäälinmajalla\, os. Rantakuja 10\, Jääli. Ilmoittautuminen ja erikoisruokavaliot/ainerajoitukset tarjoilun vuoksi 18.9. mennessä Eilalle teksiviestillä puh. 040 765 6989 tai eila.saasko@gmail.com
URL:https://aivovammayhdistykset.fi/tapahtuma/syyskauden-avajaiset-2/
CATEGORIES:Oulun Seudun Aivovammayhdistys ry
END:VEVENT
BEGIN:VEVENT
DTSTART;TZID=Europe/Helsinki:20230930T100000
DTEND;TZID=Europe/Helsinki:20230930T150000
DTSTAMP:20260426T054831
CREATED:20230923T080139Z
LAST-MODIFIED:20230923T080139Z
UID:13660-1696068000-1696086000@aivovammayhdistykset.fi
SUMMARY:Soveltavan luontoliikunnan kokeilupäivä
DESCRIPTION:Yhdistyksemme on nyt Suomen Paralympiakomitean jäsen ja siksi meidänkin jäsenille on avoimena soveltavan luontoliikunnan kokeilupäivä lauantaina 30.9. klo 10-15 Nastolassa Pajulahden liikuntakeskuksessa\, Pajulahdentie 167. \nTapahtumassa pääset kokeilemaan soveltavaa melontaa ja luontoliikunnan apuvälineitä\, sekä tutustumaan soveltavaa luontoliikuntaa tarjoaviin tahoihin unohtamatta tulistelua Iso-Kukkasen rannassa. \nVapaa pääsy. Ei ilmoittautumista. \nLisätiedot: Risto Karjalainen\, risto@adventuristo.fi\, p. 040 5361 279
URL:https://aivovammayhdistykset.fi/tapahtuma/soveltavan-luontoliikunnan-kokeilupaiva/
LOCATION:Pajulahden liikuntakeskus\, Pajulahdentie 167\, Nastola\, Suomi
CATEGORIES:Päijät-Hämeen aivovammayhdistys ry
END:VEVENT
END:VCALENDAR