BEGIN:VCALENDAR
VERSION:2.0
PRODID:-//Aivovammayhdistykset - ECPv6.15.18//NONSGML v1.0//EN
CALSCALE:GREGORIAN
METHOD:PUBLISH
X-WR-CALNAME:Aivovammayhdistykset
X-ORIGINAL-URL:https://aivovammayhdistykset.fi
X-WR-CALDESC:Tapahtumat Aivovammayhdistykset
REFRESH-INTERVAL;VALUE=DURATION:PT1H
X-Robots-Tag:noindex
X-PUBLISHED-TTL:PT1H
BEGIN:VTIMEZONE
TZID:Europe/Helsinki
BEGIN:DAYLIGHT
TZOFFSETFROM:+0200
TZOFFSETTO:+0300
TZNAME:EEST
DTSTART:20220327T010000
END:DAYLIGHT
BEGIN:STANDARD
TZOFFSETFROM:+0300
TZOFFSETTO:+0200
TZNAME:EET
DTSTART:20221030T010000
END:STANDARD
BEGIN:DAYLIGHT
TZOFFSETFROM:+0200
TZOFFSETTO:+0300
TZNAME:EEST
DTSTART:20230326T010000
END:DAYLIGHT
BEGIN:STANDARD
TZOFFSETFROM:+0300
TZOFFSETTO:+0200
TZNAME:EET
DTSTART:20231029T010000
END:STANDARD
BEGIN:DAYLIGHT
TZOFFSETFROM:+0200
TZOFFSETTO:+0300
TZNAME:EEST
DTSTART:20240331T010000
END:DAYLIGHT
BEGIN:STANDARD
TZOFFSETFROM:+0300
TZOFFSETTO:+0200
TZNAME:EET
DTSTART:20241027T010000
END:STANDARD
END:VTIMEZONE
BEGIN:VEVENT
DTSTART;TZID=Europe/Helsinki:20230808T120000
DTEND;TZID=Europe/Helsinki:20230808T130000
DTSTAMP:20260426T071120
CREATED:20230328T175713Z
LAST-MODIFIED:20230328T175713Z
UID:12901-1691496000-1691499600@aivovammayhdistykset.fi
SUMMARY:Keilaus
DESCRIPTION:Yhdistys on varannut jäsentemme käyttöön kaksi keilarataa tiistaisin  klo 12-13 Oulun Keilahallilta\, os. Isokatu 97 Oulu (esteetön tila ja maksuton). Kenkävuokra (2€) omakustanteinen.
URL:https://aivovammayhdistykset.fi/tapahtuma/keilaus-75/
CATEGORIES:Oulun Seudun Aivovammayhdistys ry
END:VEVENT
BEGIN:VEVENT
DTSTART;TZID=Europe/Helsinki:20230809T120000
DTEND;TZID=Europe/Helsinki:20230809T150000
DTSTAMP:20260426T071120
CREATED:20230731T100940Z
LAST-MODIFIED:20230731T100940Z
UID:13397-1691582400-1691593200@aivovammayhdistykset.fi
SUMMARY:VAASAN TOIMINTARYHMÄN TAPAAMINEN  KESKIVIIKKONA 9.8. KLO.12.00
DESCRIPTION:Vaasan toimintaryhmä kokoontuu Vaasassa Rewell Centerissä H & M.n kulmalla 9.8.klo.12.00\njosta jatketaan lounaalle\, yhdessä päätettävään ravintolaan.\nTervetuloa mukaan!
URL:https://aivovammayhdistykset.fi/tapahtuma/vaasan-toimintaryhman-tapaaminen-keskiviikkona-9-8-klo-12-00/
LOCATION:Revell Center\, Ylätori 2\, Vaasa\, 65100\, Suomi
CATEGORIES:Etelä-Pohjanmaan aivovammayhdistys ry
END:VEVENT
BEGIN:VEVENT
DTSTART;TZID=Europe/Helsinki:20230809T170000
DTEND;TZID=Europe/Helsinki:20230809T200000
DTSTAMP:20260426T071120
CREATED:20230730T081940Z
LAST-MODIFIED:20230730T082527Z
UID:13388-1691600400-1691611200@aivovammayhdistykset.fi
SUMMARY:ELOKUUN JÄSENTAPAAMINEN keskiviikkona 9.8. klo.17.00
DESCRIPTION:Keskiviikkona 9.8. tapaamme Kyrkösjärven rannalla Sirius kodalla klo.17.00.\nTarjolla nuotiomakkaraa\, nokipannukahvia\, pullaa ja vertaistuellista seuraa.\nTervetuloa mukaan!
URL:https://aivovammayhdistykset.fi/tapahtuma/elokuun-jasentapaaminen-keskiviikkona-9-8-klo-17-00/
LOCATION:Sirius kota\, Kyrkösvuorentie 26\, Seinäjoki\, Suomi
CATEGORIES:Etelä-Pohjanmaan aivovammayhdistys ry
END:VEVENT
BEGIN:VEVENT
DTSTART;TZID=Europe/Helsinki:20230812T130000
DTEND;TZID=Europe/Helsinki:20230812T170000
DTSTAMP:20260426T071120
CREATED:20230519T073742Z
LAST-MODIFIED:20230519T073742Z
UID:13147-1691845200-1691859600@aivovammayhdistykset.fi
SUMMARY:Elojuhla
DESCRIPTION:Elojuhla la 12.8. klo 13-17 Lomakoti Onnelassa Kiiminkijoen rannalla\, os. Saarikankaantie 5\, Haukipudas. \nTule viettämään koko perheen kanssa rentoa ja mukavaa lauantai-iltapäivää Onnelaan. Ilmoittautuminen ja erikoisruokavaliot/ainerajoitukset tarjoilun vuoksi 31.7. mennessä Eilalle teksiviestillä puh. 040 765 6989 tai eila.saasko@gmail.com \nJos autossasi on tilaa tai tarvitset kyytiä\, ota yhteyttä Eilaan\, niin yritämme järjestää. Tervetuloa!
URL:https://aivovammayhdistykset.fi/tapahtuma/elojuhla-2/
CATEGORIES:Oulun Seudun Aivovammayhdistys ry
END:VEVENT
BEGIN:VEVENT
DTSTART;TZID=Europe/Helsinki:20230816T170000
DTEND;TZID=Europe/Helsinki:20230816T180000
DTSTAMP:20260426T071120
CREATED:20230519T074226Z
LAST-MODIFIED:20230519T074226Z
UID:13155-1692205200-1692208800@aivovammayhdistykset.fi
SUMMARY:Nuoret Aikuiset
DESCRIPTION:Tule tutustumaan padeliin\, rento ja hauska mailapeli keskiviikkoisin 16.6.\, 19.7. ja 16.8. klo 17-18 NalliSport\, os. Vellamontie 9\, Oulu. Padelin on jäsenille maksuton. Kenkävuoka 2€ ja maila 2€ omakustanteinen.
URL:https://aivovammayhdistykset.fi/tapahtuma/nuoret-aikuiset-3/
CATEGORIES:Oulun Seudun Aivovammayhdistys ry
END:VEVENT
BEGIN:VEVENT
DTSTART;TZID=Europe/Helsinki:20230822T120000
DTEND;TZID=Europe/Helsinki:20230822T130000
DTSTAMP:20260426T071120
CREATED:20230328T175749Z
LAST-MODIFIED:20230328T175749Z
UID:12903-1692705600-1692709200@aivovammayhdistykset.fi
SUMMARY:Keilaus
DESCRIPTION:Yhdistys on varannut jäsentemme käyttöön kaksi keilarataa tiistaisin  klo 12-13 Oulun Keilahallilta\, os. Isokatu 97 Oulu (esteetön tila ja maksuton). Kenkävuokra (2€) omakustanteinen.
URL:https://aivovammayhdistykset.fi/tapahtuma/keilaus-76/
CATEGORIES:Oulun Seudun Aivovammayhdistys ry
END:VEVENT
BEGIN:VEVENT
DTSTART;TZID=Europe/Helsinki:20230824T110000
DTEND;TZID=Europe/Helsinki:20230824T170000
DTSTAMP:20260426T071120
CREATED:20230703T105839Z
LAST-MODIFIED:20230703T105839Z
UID:13232-1692874800-1692896400@aivovammayhdistykset.fi
SUMMARY:Syyskauden avajaiset Säkylässä
DESCRIPTION:Kokoontuminen Säkylän torille klo 11.00.\nRuokailu on tilattu Kristallirannasta klo 13.00 (Säkyläntie 275). Ruokailun hinta on 10.00 euroa/henkilö.\nKristallirannassa varattu mökki Pyhäjärven rannalla yhteiseen ajanviettoon ja iltapäiväkahville.\nKotiin lähtö noin klo 16-17.00.
URL:https://aivovammayhdistykset.fi/tapahtuma/syyskauden-avajaiset-sakylassa-2/
CATEGORIES:Kankaanpää,Pori,Rauma,Satakunnan aivovammayhdistys ry
END:VEVENT
END:VCALENDAR