BEGIN:VCALENDAR
VERSION:2.0
PRODID:-//Aivovammayhdistykset - ECPv6.15.18//NONSGML v1.0//EN
CALSCALE:GREGORIAN
METHOD:PUBLISH
X-ORIGINAL-URL:https://aivovammayhdistykset.fi
X-WR-CALDESC:Tapahtumat Aivovammayhdistykset
REFRESH-INTERVAL;VALUE=DURATION:PT1H
X-Robots-Tag:noindex
X-PUBLISHED-TTL:PT1H
BEGIN:VTIMEZONE
TZID:Europe/Helsinki
BEGIN:DAYLIGHT
TZOFFSETFROM:+0200
TZOFFSETTO:+0300
TZNAME:EEST
DTSTART:20250330T010000
END:DAYLIGHT
BEGIN:STANDARD
TZOFFSETFROM:+0300
TZOFFSETTO:+0200
TZNAME:EET
DTSTART:20251026T010000
END:STANDARD
BEGIN:DAYLIGHT
TZOFFSETFROM:+0200
TZOFFSETTO:+0300
TZNAME:EEST
DTSTART:20260329T010000
END:DAYLIGHT
BEGIN:STANDARD
TZOFFSETFROM:+0300
TZOFFSETTO:+0200
TZNAME:EET
DTSTART:20261025T010000
END:STANDARD
BEGIN:DAYLIGHT
TZOFFSETFROM:+0200
TZOFFSETTO:+0300
TZNAME:EEST
DTSTART:20270328T010000
END:DAYLIGHT
BEGIN:STANDARD
TZOFFSETFROM:+0300
TZOFFSETTO:+0200
TZNAME:EET
DTSTART:20271031T010000
END:STANDARD
END:VTIMEZONE
BEGIN:VEVENT
DTSTART;TZID=Europe/Helsinki:20260912T130000
DTEND;TZID=Europe/Helsinki:20260912T160000
DTSTAMP:20260422T002937
CREATED:20260219T153839Z
LAST-MODIFIED:20260219T153839Z
UID:18104-1789218000-1789228800@aivovammayhdistykset.fi
SUMMARY:SYYSKAUDEN AVAJAISET
DESCRIPTION:Lauantaina 12.9. klo 13.00-16.00 Peuhun kartanossa\, os. Peuhuntie 194\, Oulunsalo. Tunnelmallinen kartanoalue sijaitsee Perämeren rannalla. Matkaa Oulusta on noin 20 km. Perheelle suunnattu rento ja mukava lauantai-iltapäivä. Ohjelmassa mm. ensiapukoulutusta. \nIlmoittautuminen ja ruoka-aineallergiat/rajoitteet 3.9. mennessä Eilalle tekstiviestillä p. 040 765 6989 tai eila.saasko@gmail.com \nTervetuloa! \nJos autossasi on tilaa tai tarvitset kyytiä\, ota yhteyttä Eilaan\, niin yritämme järjestää.
URL:https://aivovammayhdistykset.fi/tapahtuma/syyskauden-avajaiset-3/
CATEGORIES:Oulun Seudun Aivovammayhdistys ry
END:VEVENT
END:VCALENDAR