BEGIN:VCALENDAR
VERSION:2.0
PRODID:-//Aivovammayhdistykset - ECPv6.15.18//NONSGML v1.0//EN
CALSCALE:GREGORIAN
METHOD:PUBLISH
X-ORIGINAL-URL:https://aivovammayhdistykset.fi
X-WR-CALDESC:Tapahtumat Aivovammayhdistykset
REFRESH-INTERVAL;VALUE=DURATION:PT1H
X-Robots-Tag:noindex
X-PUBLISHED-TTL:PT1H
BEGIN:VTIMEZONE
TZID:Europe/Helsinki
BEGIN:DAYLIGHT
TZOFFSETFROM:+0200
TZOFFSETTO:+0300
TZNAME:EEST
DTSTART:20250330T010000
END:DAYLIGHT
BEGIN:STANDARD
TZOFFSETFROM:+0300
TZOFFSETTO:+0200
TZNAME:EET
DTSTART:20251026T010000
END:STANDARD
BEGIN:DAYLIGHT
TZOFFSETFROM:+0200
TZOFFSETTO:+0300
TZNAME:EEST
DTSTART:20260329T010000
END:DAYLIGHT
BEGIN:STANDARD
TZOFFSETFROM:+0300
TZOFFSETTO:+0200
TZNAME:EET
DTSTART:20261025T010000
END:STANDARD
BEGIN:DAYLIGHT
TZOFFSETFROM:+0200
TZOFFSETTO:+0300
TZNAME:EEST
DTSTART:20270328T010000
END:DAYLIGHT
BEGIN:STANDARD
TZOFFSETFROM:+0300
TZOFFSETTO:+0200
TZNAME:EET
DTSTART:20271031T010000
END:STANDARD
END:VTIMEZONE
BEGIN:VEVENT
DTSTART;TZID=Europe/Helsinki:20260604T130000
DTEND;TZID=Europe/Helsinki:20260604T150000
DTSTAMP:20260421T194825
CREATED:20260415T100057Z
LAST-MODIFIED:20260415T100257Z
UID:18283-1780578000-1780585200@aivovammayhdistykset.fi
SUMMARY:Hyvinkään toimintaryhmän tapaaminen 4.6.26
DESCRIPTION:Kokoonnumme kahvin/teen merkeissä Teesalonki Sylviassa Hyvinkäällä klo 13.00-15.00. Omakustanteinen
URL:https://aivovammayhdistykset.fi/tapahtuma/hyvinkaan-toimintaryhman-tapaaminen-4-6-26/
LOCATION:sylvia\, Hämeenkatu 31\, HYVINKÄÄ\, 05800\, Finland
CATEGORIES:AVY Aivovammayhdistys ry,AVY Hyvinkään seutu
ORGANIZER;CN="sakari pihlaja":MAILTO:sakke.pihlaja@elisanet.fi
END:VEVENT
BEGIN:VEVENT
DTSTART;TZID=Europe/Helsinki:20260604T140000
DTEND;TZID=Europe/Helsinki:20260604T160000
DTSTAMP:20260421T194825
CREATED:20251231T145032Z
LAST-MODIFIED:20251231T145032Z
UID:17903-1780581600-1780588800@aivovammayhdistykset.fi
SUMMARY:Naisten kerho
DESCRIPTION:Vammautuneiden naisten ryhmä kokoontuu kuukauden ensimmäisenä torstaina Aivolassa. Myös naisten ryhmään ovat kaikki tervetulleita. Naisten ryhmästä voit kysellä\nRiitta\, puh. 040 770 3032.
URL:https://aivovammayhdistykset.fi/tapahtuma/naisten-kerho-16/
LOCATION:Aivola\, Puutarhakatu 19 a\, liiketila 4\, Turku\, 20100\, Finland
CATEGORIES:Varsinais-Suomen aivovammayhdistys ry
END:VEVENT
END:VCALENDAR