BEGIN:VCALENDAR
VERSION:2.0
PRODID:-//Aivovammayhdistykset - ECPv6.15.18//NONSGML v1.0//EN
CALSCALE:GREGORIAN
METHOD:PUBLISH
X-WR-CALNAME:Aivovammayhdistykset
X-ORIGINAL-URL:https://aivovammayhdistykset.fi
X-WR-CALDESC:Tapahtumat Aivovammayhdistykset
REFRESH-INTERVAL;VALUE=DURATION:PT1H
X-Robots-Tag:noindex
X-PUBLISHED-TTL:PT1H
BEGIN:VTIMEZONE
TZID:Europe/Helsinki
BEGIN:DAYLIGHT
TZOFFSETFROM:+0200
TZOFFSETTO:+0300
TZNAME:EEST
DTSTART:20250330T010000
END:DAYLIGHT
BEGIN:STANDARD
TZOFFSETFROM:+0300
TZOFFSETTO:+0200
TZNAME:EET
DTSTART:20251026T010000
END:STANDARD
BEGIN:DAYLIGHT
TZOFFSETFROM:+0200
TZOFFSETTO:+0300
TZNAME:EEST
DTSTART:20260329T010000
END:DAYLIGHT
BEGIN:STANDARD
TZOFFSETFROM:+0300
TZOFFSETTO:+0200
TZNAME:EET
DTSTART:20261025T010000
END:STANDARD
BEGIN:DAYLIGHT
TZOFFSETFROM:+0200
TZOFFSETTO:+0300
TZNAME:EEST
DTSTART:20270328T010000
END:DAYLIGHT
BEGIN:STANDARD
TZOFFSETFROM:+0300
TZOFFSETTO:+0200
TZNAME:EET
DTSTART:20271031T010000
END:STANDARD
END:VTIMEZONE
BEGIN:VEVENT
DTSTART;TZID=Europe/Helsinki:20260326T080000
DTEND;TZID=Europe/Helsinki:20260526T170000
DTSTAMP:20260421T182203
CREATED:20260326T081434Z
LAST-MODIFIED:20260326T081434Z
UID:18230-1774512000-1779814800@aivovammayhdistykset.fi
SUMMARY:Huhtikuun tapahtuma
DESCRIPTION:Huhtikuussa museo Aalto 2 Museo Alvar Aallonkatu 7 \ntorstaina 16.4 klo14 Museossa on nyt kahvila juomme ensin kahvit \nsen jälkeen kierrämme näyttelyjä kiinnostuksen ja jaksamisen mukaan. \n  \nToukokokuussa Leena on luvannut suvaita meitä mökillään. Loukkumäentie 106 Höytiä \ntiistaina 19.5 klo15 juodaan kahvia ehkä makkaraa ehkä sauna? \nPullatarpeen varmistamiseksi ilmoita Saku p 0400541119 sp saku.virtanen@elisanet.fi
URL:https://aivovammayhdistykset.fi/tapahtuma/huhtikuun-tapahtuma/
CATEGORIES:Jyväskylä
END:VEVENT
BEGIN:VEVENT
DTSTART;TZID=Europe/Helsinki:20260326T080000
DTEND;TZID=Europe/Helsinki:20260526T170000
DTSTAMP:20260421T182203
CREATED:20260326T084813Z
LAST-MODIFIED:20260326T084813Z
UID:18232-1774512000-1779814800@aivovammayhdistykset.fi
SUMMARY:Tapahtumat
DESCRIPTION:Huhtikuussa torstaina 16.4 klo14 Tapaaminen Aalto2 Museossa Alvar Aallonkatu 7 \nKahvio on avoinna\, juodaan ensi kahvit ja sen jälkeen tutustutaan näyttelyihin \n  \nToukokuussa Leena on luvanut meidät mökilleen Loukkumäentie 106 Höytiä \nTiistaina 19 toukokuuta klo14 Keitellään kahvia ehkä makkaraa. Saunakin mahdollista. \nPullatarpeen määritelemieksi ilmoita Sakulle p04005411116 sp saku.virtanen@elisanet.fi
URL:https://aivovammayhdistykset.fi/tapahtuma/tapahtumat/
CATEGORIES:Jyväskylä,Keski-Suomen aivovammayhdistys ry
END:VEVENT
BEGIN:VEVENT
DTSTART;TZID=Europe/Helsinki:20260326T080000
DTEND;TZID=Europe/Helsinki:20260527T170000
DTSTAMP:20260421T182203
CREATED:20260326T173911Z
LAST-MODIFIED:20260326T175053Z
UID:18234-1774512000-1779901200@aivovammayhdistykset.fi
SUMMARY:Huhtikuu
DESCRIPTION:Huhtikuussa menemme museoon Aalto2 Alvar Aallonkatu 7 \ntorstaina 16.4 klo14 Juodaan kahvit ensin ja tutustutaan siten näyttelyihin \n  \nToukokuussa Leena on luvannut meille vierailun mökilleen Luokuntie 106 Höytiä \nJuodaan kahvit ihaillaan Leenan maisemia ehkä makkaraa saunakin mahdollinen\, \npullatarpeen varmistamiseksi ilmoita Sakulle p0400541119 sp saku.virtanen@elisanet.fi
URL:https://aivovammayhdistykset.fi/tapahtuma/huhtikuu/
CATEGORIES:Jyväskylä
END:VEVENT
BEGIN:VEVENT
DTSTART;TZID=Europe/Helsinki:20260520T100000
DTEND;TZID=Europe/Helsinki:20260520T163000
DTSTAMP:20260421T182203
CREATED:20251231T132900Z
LAST-MODIFIED:20260404T072204Z
UID:17864-1779271200-1779294600@aivovammayhdistykset.fi
SUMMARY:KEVÄTRETKI kohteisiin Enkelipuisto ja Maatalousmuseo Sarka\, ilmoittauminen viim. 14.4.
DESCRIPTION:Kevätretki tehdään invabussilla Riihikosken Enkelipuistoon ja Loimaan maatalousmuseo Sarkaan. Ilmoittautumiset viimeistään ti 14.4. Ristolle osoitteeseen info.vsavy@gmail.com\, tai puh. 044 314 4838.  \nAluksi tutustumme Riihikoskella Kyösti Iitin Enkelipuistoon. Näemme erilaisia teoksia\, jotka on tehty metallista hitsaten ja hioen. On enkeleitä\, eläimiä ja erilaisia hahmoja. Kyösti Iitti kertoo meille näistä teoksista tarinoita. Nämä kaikki ovat hänen itsensä suunnittelemia ja tekemiä. \nTäältä jatkamme matkaa Maatalousmuseo Sarkaan Loimaalle. Käymme ensin ruokailemassa. Sen jälkeen lähdemme opastetulle kierrokselle Maatalousmuseoon. Näemme entisajan maataloustyökaluja ja koneita joilla on tehty maatalon töitä\, paikallinen opas kertoo meille erilaisia asoita. \nMatkaan lähdemme Turusta\n10:00 Turun linja-autoasema\n11:00 Saavumme Riihikosken Enkelipuistoon\n12:30 Lähtö Enkelipuistosta\n13:00 Saavumme Maatalousmuseo Sarkaan\, ruokailu\n14:00 Opastus ja tutustuminen Maatalousmuseo Sarkaan\n15:00 Lähdemme kotimatkalle\n15:30 ABC-Aura pullakahvit. Kun kaikki ovat juoneet kahvit lähdemmekin kotimatkalle.\n16:30 Olemme Turussa \nMatkan hinta on 75€\, jäsenhinta 55€. Kun avustettavalla on EU-vammaiskortti A-merkinnällä\, avustaja pääsee ilmaiseksi Sarkaan ja Enkelipuistoon\, jolloin hänen matkansa hinta on myös 55€. Museokortti oikeuttaa Sarkaan ilmaisen sisäänpääsyn\, jolloin matkan hintaan tulee 12€ alennus. Hinta sisältää kaikki\, mitä matkaohjelmassa on mainittu. \nMatkalle voi tulla mukaan myös ABC-Auran asemalta. Jos tulet mukaan matkalta\, kerro siitä ilmoittautumisen yhteydessä.  \nKevätretken järjestää\nLahja Pappila\nwww.lahjanmatkat.fi\ninfo@lahjanmatkat.fi\npuh. 0400 695 525
URL:https://aivovammayhdistykset.fi/tapahtuma/kevatretki-3/
LOCATION:Aivola\, Puutarhakatu 19 a\, liiketila 4\, Turku\, 20100\, Finland
CATEGORIES:Varsinais-Suomen aivovammayhdistys ry
END:VEVENT
END:VCALENDAR