BEGIN:VCALENDAR
VERSION:2.0
PRODID:-//Aivovammayhdistykset - ECPv6.15.18//NONSGML v1.0//EN
CALSCALE:GREGORIAN
METHOD:PUBLISH
X-ORIGINAL-URL:https://aivovammayhdistykset.fi
X-WR-CALDESC:Tapahtumat Aivovammayhdistykset
REFRESH-INTERVAL;VALUE=DURATION:PT1H
X-Robots-Tag:noindex
X-PUBLISHED-TTL:PT1H
BEGIN:VTIMEZONE
TZID:Europe/Helsinki
BEGIN:DAYLIGHT
TZOFFSETFROM:+0200
TZOFFSETTO:+0300
TZNAME:EEST
DTSTART:20250330T010000
END:DAYLIGHT
BEGIN:STANDARD
TZOFFSETFROM:+0300
TZOFFSETTO:+0200
TZNAME:EET
DTSTART:20251026T010000
END:STANDARD
BEGIN:DAYLIGHT
TZOFFSETFROM:+0200
TZOFFSETTO:+0300
TZNAME:EEST
DTSTART:20260329T010000
END:DAYLIGHT
BEGIN:STANDARD
TZOFFSETFROM:+0300
TZOFFSETTO:+0200
TZNAME:EET
DTSTART:20261025T010000
END:STANDARD
BEGIN:DAYLIGHT
TZOFFSETFROM:+0200
TZOFFSETTO:+0300
TZNAME:EEST
DTSTART:20270328T010000
END:DAYLIGHT
BEGIN:STANDARD
TZOFFSETFROM:+0300
TZOFFSETTO:+0200
TZNAME:EET
DTSTART:20271031T010000
END:STANDARD
END:VTIMEZONE
BEGIN:VEVENT
DTSTART;TZID=Europe/Helsinki:20260202T113000
DTEND;TZID=Europe/Helsinki:20260202T123000
DTSTAMP:20260421T194825
CREATED:20251231T115744Z
LAST-MODIFIED:20260112T170437Z
UID:17766-1770031800-1770035400@aivovammayhdistykset.fi
SUMMARY:Keilaus\, huom. poikkeuksellinen aika klo 11.30-12.30
DESCRIPTION:Tervetuloa keilaamaan Raision keilailukeskukseen. Kevätkauden kurssimaksu on 30 € (15 kertaa) ja yksittäisen käyntikerran osallistujamaksu on 4 €/kerta. Lisäksi tulee 1 € kenkävuokra\, joka maksetaan kassalle aina osallistuessa. Kauden kurssimaksu tai yksittäisen kerran osallistuminen maksetaan käteisellä (tasaraha) Terjelle tai Mobile Paylla yhdistyksen tapahtumakassaan\, numeroon 25861. Tiedustelut 044 314 4838.
URL:https://aivovammayhdistykset.fi/tapahtuma/keilaus-192/
CATEGORIES:Varsinais-Suomen aivovammayhdistys ry
END:VEVENT
BEGIN:VEVENT
DTSTART;TZID=Europe/Helsinki:20260202T180000
DTEND;TZID=Europe/Helsinki:20260202T190000
DTSTAMP:20260421T194825
CREATED:20260115T073047Z
LAST-MODIFIED:20260115T073047Z
UID:17980-1770055200-1770058800@aivovammayhdistykset.fi
SUMMARY:Sählyryhmän kauden avaus 2.2.2026 - Helsinki
DESCRIPTION:Toiminta jatkuu Validia talolla maanantaina 2.2.2026. Kuntoutuskeskus Synapsia | Validia\, Nordenskiöldinkatu 18 B\, 00250 Helsinki. \nKausimaksu 70€ jäsenille. Tiedustelut yhdistyksen sähköpostiin: uudenmaan.aivovammayhdistys(at)gmail.com. \nJäsenmaksu sekä kausimaksu tulee olla maksettuna ennen osallistumista. \n\nRyhmä on suunnattu pääasiallisesti hyvin liikkuville. Ensimmäisillä kerroilla tehdään arviointi molemmin puolin\, riittääkö kunto/vamman tilanne siihen\, että pystyy turvallisesti pelaamaan. Koekerrasta ei tarvitse maksaa mikäli ei jatka!
URL:https://aivovammayhdistykset.fi/tapahtuma/sahlyryhman-kauden-avaus-2-2-2026-helsinki/
CATEGORIES:AVY Aivovammayhdistys ry,Uudenmaan Aivovammayhdistys ry
END:VEVENT
END:VCALENDAR