BEGIN:VCALENDAR
VERSION:2.0
PRODID:-//Aivovammayhdistykset - ECPv6.15.18//NONSGML v1.0//EN
CALSCALE:GREGORIAN
METHOD:PUBLISH
X-WR-CALNAME:Aivovammayhdistykset
X-ORIGINAL-URL:https://aivovammayhdistykset.fi
X-WR-CALDESC:Tapahtumat Aivovammayhdistykset
REFRESH-INTERVAL;VALUE=DURATION:PT1H
X-Robots-Tag:noindex
X-PUBLISHED-TTL:PT1H
BEGIN:VTIMEZONE
TZID:Europe/Helsinki
BEGIN:DAYLIGHT
TZOFFSETFROM:+0200
TZOFFSETTO:+0300
TZNAME:EEST
DTSTART:20240331T010000
END:DAYLIGHT
BEGIN:STANDARD
TZOFFSETFROM:+0300
TZOFFSETTO:+0200
TZNAME:EET
DTSTART:20241027T010000
END:STANDARD
BEGIN:DAYLIGHT
TZOFFSETFROM:+0200
TZOFFSETTO:+0300
TZNAME:EEST
DTSTART:20250330T010000
END:DAYLIGHT
BEGIN:STANDARD
TZOFFSETFROM:+0300
TZOFFSETTO:+0200
TZNAME:EET
DTSTART:20251026T010000
END:STANDARD
BEGIN:DAYLIGHT
TZOFFSETFROM:+0200
TZOFFSETTO:+0300
TZNAME:EEST
DTSTART:20260329T010000
END:DAYLIGHT
BEGIN:STANDARD
TZOFFSETFROM:+0300
TZOFFSETTO:+0200
TZNAME:EET
DTSTART:20261025T010000
END:STANDARD
END:VTIMEZONE
BEGIN:VEVENT
DTSTART;TZID=Europe/Helsinki:20250618T153000
DTEND;TZID=Europe/Helsinki:20250618T170000
DTSTAMP:20260422T091009
CREATED:20250516T114359Z
LAST-MODIFIED:20250517T081126Z
UID:16762-1750260600-1750266000@aivovammayhdistykset.fi
SUMMARY:Nuoret Aikuiset
DESCRIPTION:Tule mukaan nuorten aikuisten rentoon vertaistapaamiseen keskiviikkoisin 18.6.\, 20.8. ja 17.9. klo 15.30-17 kahvila Iso-Ilmari (Huovisen leipomo) os. Ilmarinkatu 16. Tapaaminen on tarkoitettu nuorille ja nuorille aikuisille.Yhdistys tarjoaa pullakahvit.\nHuom! Paikka ja aika on muuttunut.
URL:https://aivovammayhdistykset.fi/tapahtuma/nuoret-aikuiset-17/
CATEGORIES:Oulun Seudun Aivovammayhdistys ry
END:VEVENT
END:VCALENDAR