BEGIN:VCALENDAR
VERSION:2.0
PRODID:-//Aivovammayhdistykset - ECPv6.15.18//NONSGML v1.0//EN
CALSCALE:GREGORIAN
METHOD:PUBLISH
X-ORIGINAL-URL:https://aivovammayhdistykset.fi
X-WR-CALDESC:Tapahtumat Aivovammayhdistykset
REFRESH-INTERVAL;VALUE=DURATION:PT1H
X-Robots-Tag:noindex
X-PUBLISHED-TTL:PT1H
BEGIN:VTIMEZONE
TZID:Europe/Helsinki
BEGIN:DAYLIGHT
TZOFFSETFROM:+0200
TZOFFSETTO:+0300
TZNAME:EEST
DTSTART:20240331T010000
END:DAYLIGHT
BEGIN:STANDARD
TZOFFSETFROM:+0300
TZOFFSETTO:+0200
TZNAME:EET
DTSTART:20241027T010000
END:STANDARD
BEGIN:DAYLIGHT
TZOFFSETFROM:+0200
TZOFFSETTO:+0300
TZNAME:EEST
DTSTART:20250330T010000
END:DAYLIGHT
BEGIN:STANDARD
TZOFFSETFROM:+0300
TZOFFSETTO:+0200
TZNAME:EET
DTSTART:20251026T010000
END:STANDARD
BEGIN:DAYLIGHT
TZOFFSETFROM:+0200
TZOFFSETTO:+0300
TZNAME:EEST
DTSTART:20260329T010000
END:DAYLIGHT
BEGIN:STANDARD
TZOFFSETFROM:+0300
TZOFFSETTO:+0200
TZNAME:EET
DTSTART:20261025T010000
END:STANDARD
END:VTIMEZONE
BEGIN:VEVENT
DTSTART;TZID=Europe/Helsinki:20250610T150000
DTEND;TZID=Europe/Helsinki:20250610T160000
DTSTAMP:20260422T105909
CREATED:20250326T152833Z
LAST-MODIFIED:20250326T152833Z
UID:16470-1749567600-1749571200@aivovammayhdistykset.fi
SUMMARY:Keilaus
DESCRIPTION:Yhdistys on varannut jäsentemme käyttöön kaksi keilarataa tiistaisin  10.6  klo 15.00-16.00 Oulun Keilahallilta os. Isokatu 97\, esteetön tila ja jäsenille maksuton.\nKenkävuokra 2 € on omakustanteinen.
URL:https://aivovammayhdistykset.fi/tapahtuma/keilaus-153/
CATEGORIES:Oulun Seudun Aivovammayhdistys ry
END:VEVENT
BEGIN:VEVENT
DTSTART;TZID=Europe/Helsinki:20250610T160000
DTEND;TZID=Europe/Helsinki:20250610T190000
DTSTAMP:20260422T105909
CREATED:20250120T115746Z
LAST-MODIFIED:20250120T115814Z
UID:16196-1749571200-1749582000@aivovammayhdistykset.fi
SUMMARY:Kevätkauden päättäjäiset
DESCRIPTION:KEVÄTKAUDEN PÄÄTTÄJÄISET \ntiistaina 10.6. klo 16.00-19.00  \nSiikaniemen kurssikeskuksen Rantasaunalla\, Siikaniementie 210\, 16730 Kutajärvi \nLuvassa mukavaa ja rentoa yhdessäoloa: grillataan makkaraa\, nautitaan pizzapaloja\, vihersalaattia ja patonkia.\nJa lopuksi kahvit kera makean herkun. Jos haluat saunoa ja uida\, ota oma uimapuku ja pyyhe mukaan. \nHinta jäsenille 10e\, avustajat 5e\, muut 15e. \nIlmoittaudu viimeistään 25.5. Karille\, p. 040 828 0906 tai info.phavy@gmail.com.\nKerro samalla ruoka-aineallergiat.\nMaksa osallistumisesi P-H Aivovammayhdistyksen tilille FI15 4212 0010 1321 95. Käytä viitettä 1504. \n TERVETULOA MUKAAN! \n 
URL:https://aivovammayhdistykset.fi/tapahtuma/kevatkauden-paattajaiset-4/
LOCATION:Siikaniemen kurssikeskus\, Siikaniementie 210\, Kutajärvi\, 16730
CATEGORIES:Päijät-Hämeen aivovammayhdistys ry
END:VEVENT
END:VCALENDAR