BEGIN:VCALENDAR
VERSION:2.0
PRODID:-//Aivovammayhdistykset - ECPv6.15.18//NONSGML v1.0//EN
CALSCALE:GREGORIAN
METHOD:PUBLISH
X-WR-CALNAME:Aivovammayhdistykset
X-ORIGINAL-URL:https://aivovammayhdistykset.fi
X-WR-CALDESC:Tapahtumat Aivovammayhdistykset
REFRESH-INTERVAL;VALUE=DURATION:PT1H
X-Robots-Tag:noindex
X-PUBLISHED-TTL:PT1H
BEGIN:VTIMEZONE
TZID:Europe/Helsinki
BEGIN:DAYLIGHT
TZOFFSETFROM:+0200
TZOFFSETTO:+0300
TZNAME:EEST
DTSTART:20240331T010000
END:DAYLIGHT
BEGIN:STANDARD
TZOFFSETFROM:+0300
TZOFFSETTO:+0200
TZNAME:EET
DTSTART:20241027T010000
END:STANDARD
BEGIN:DAYLIGHT
TZOFFSETFROM:+0200
TZOFFSETTO:+0300
TZNAME:EEST
DTSTART:20250330T010000
END:DAYLIGHT
BEGIN:STANDARD
TZOFFSETFROM:+0300
TZOFFSETTO:+0200
TZNAME:EET
DTSTART:20251026T010000
END:STANDARD
BEGIN:DAYLIGHT
TZOFFSETFROM:+0200
TZOFFSETTO:+0300
TZNAME:EEST
DTSTART:20260329T010000
END:DAYLIGHT
BEGIN:STANDARD
TZOFFSETFROM:+0300
TZOFFSETTO:+0200
TZNAME:EET
DTSTART:20261025T010000
END:STANDARD
END:VTIMEZONE
BEGIN:VEVENT
DTSTART;TZID=Europe/Helsinki:20250315T130000
DTEND;TZID=Europe/Helsinki:20250315T150000
DTSTAMP:20260422T155247
CREATED:20250113T155254Z
LAST-MODIFIED:20250113T155334Z
UID:16099-1742043600-1742050800@aivovammayhdistykset.fi
SUMMARY:Kevätkokous
DESCRIPTION:Yhdistyksen kevätkokous la 15.3. klo 13.00-15.00.\nPaikka: Kumppanuuskeskus\, os. Kansankatu 53\, Oulu (sisäänkäynti Vanhantullinkadun puolelta). Kokoustila Asema\, 2. kerros. Kokouksessa käsitellään sääntömääräiset asiat.\nKahvitarjoilu. Tervetuloa!
URL:https://aivovammayhdistykset.fi/tapahtuma/kevatkokous-5/
CATEGORIES:Oulun Seudun Aivovammayhdistys ry
END:VEVENT
BEGIN:VEVENT
DTSTART;TZID=Europe/Helsinki:20250315T130000
DTEND;TZID=Europe/Helsinki:20250315T150000
DTSTAMP:20260422T155247
CREATED:20250306T121325Z
LAST-MODIFIED:20250306T121325Z
UID:16336-1742043600-1742050800@aivovammayhdistykset.fi
SUMMARY:VUOSIKOKOUS  LAUANTAINA 15.3. KLO.13.00 JÄRJESTÖTALO 4.KERROS
DESCRIPTION:VUOSIKOKOUS\nJärjestötalo Seinäjoki klo.13.00 kokoushuone Metsä neljäs kerros.\nKäsitellään sääntöjen määräämät asiat. Kahvitarjoilu.\nTervetuloa!
URL:https://aivovammayhdistykset.fi/tapahtuma/vuosikokous-lauantaina-15-3-klo-13-00-jarjestotalo-4-kerros/
LOCATION:Järjestötalo Seinäjoki\, Ruukintie 1\, Seinäjoki\, Etelä-Pohjanmaa\, 60100\, Suomi
CATEGORIES:Etelä-Pohjanmaan aivovammayhdistys ry
END:VEVENT
END:VCALENDAR