BEGIN:VCALENDAR
VERSION:2.0
PRODID:-//Aivovammayhdistykset - ECPv6.15.18//NONSGML v1.0//EN
CALSCALE:GREGORIAN
METHOD:PUBLISH
X-ORIGINAL-URL:https://aivovammayhdistykset.fi
X-WR-CALDESC:Tapahtumat Aivovammayhdistykset
REFRESH-INTERVAL;VALUE=DURATION:PT1H
X-Robots-Tag:noindex
X-PUBLISHED-TTL:PT1H
BEGIN:VTIMEZONE
TZID:Europe/Helsinki
BEGIN:DAYLIGHT
TZOFFSETFROM:+0200
TZOFFSETTO:+0300
TZNAME:EEST
DTSTART:20240331T010000
END:DAYLIGHT
BEGIN:STANDARD
TZOFFSETFROM:+0300
TZOFFSETTO:+0200
TZNAME:EET
DTSTART:20241027T010000
END:STANDARD
BEGIN:DAYLIGHT
TZOFFSETFROM:+0200
TZOFFSETTO:+0300
TZNAME:EEST
DTSTART:20250330T010000
END:DAYLIGHT
BEGIN:STANDARD
TZOFFSETFROM:+0300
TZOFFSETTO:+0200
TZNAME:EET
DTSTART:20251026T010000
END:STANDARD
BEGIN:DAYLIGHT
TZOFFSETFROM:+0200
TZOFFSETTO:+0300
TZNAME:EEST
DTSTART:20260329T010000
END:DAYLIGHT
BEGIN:STANDARD
TZOFFSETFROM:+0300
TZOFFSETTO:+0200
TZNAME:EET
DTSTART:20261025T010000
END:STANDARD
END:VTIMEZONE
BEGIN:VEVENT
DTSTART;TZID=Europe/Helsinki:20250304T163000
DTEND;TZID=Europe/Helsinki:20250304T173000
DTSTAMP:20260422T155243
CREATED:20250115T192114Z
LAST-MODIFIED:20250115T192114Z
UID:16126-1741105800-1741109400@aivovammayhdistykset.fi
SUMMARY:Taidekerho
DESCRIPTION:Vetäjänä Marjo Tiainen
URL:https://aivovammayhdistykset.fi/tapahtuma/taidekerho-2/
CATEGORIES:Varsinais-Suomen aivovammayhdistys ry
END:VEVENT
BEGIN:VEVENT
DTSTART;TZID=Europe/Helsinki:20250304T170000
DTEND;TZID=Europe/Helsinki:20250304T190000
DTSTAMP:20260422T155243
CREATED:20250120T114652Z
LAST-MODIFIED:20250120T114936Z
UID:16190-1741107600-1741114800@aivovammayhdistykset.fi
SUMMARY:Vuosikokous
DESCRIPTION:Päijät-Hämeen Aivovammayhdistys ry:n \nVUOSIKOKOUS \npidetään tiistaina 4.3.2025 klo 17.30\nPäijät-Hämeen hyvinvointiyhdistykset ry:n tiloissa\nLahden Tiedepuistossa\, Niemenkatu 73\, 4.krs. \nKokouksessa käsitellään sääntömääräiset asiat.\nEnnen kokousta Aivovammaliiton viestintävastaava\nPia Kilpeläinen tuo terveiset liitosta. Kahvitarjoilu. \nTERVETULOA! \n 
URL:https://aivovammayhdistykset.fi/tapahtuma/vuosikokous-11/
LOCATION:Päijät-Hämeen Hyvinvointiyhdistykset ry\, Niemenkatu 73\, 4.krs\, Lahti\, 15140
CATEGORIES:Lahti,Päijät-Hämeen aivovammayhdistys ry
END:VEVENT
BEGIN:VEVENT
DTSTART;TZID=Europe/Helsinki:20250304T180000
DTEND;TZID=Europe/Helsinki:20250304T200000
DTSTAMP:20260422T155243
CREATED:20250115T194729Z
LAST-MODIFIED:20250115T194729Z
UID:16150-1741111200-1741118400@aivovammayhdistykset.fi
SUMMARY:Jäsenilta
DESCRIPTION:
URL:https://aivovammayhdistykset.fi/tapahtuma/jasenilta-45/
CATEGORIES:Varsinais-Suomen aivovammayhdistys ry
END:VEVENT
END:VCALENDAR