BEGIN:VCALENDAR
VERSION:2.0
PRODID:-//Aivovammayhdistykset - ECPv6.15.18//NONSGML v1.0//EN
CALSCALE:GREGORIAN
METHOD:PUBLISH
X-ORIGINAL-URL:https://aivovammayhdistykset.fi
X-WR-CALDESC:Tapahtumat Aivovammayhdistykset
REFRESH-INTERVAL;VALUE=DURATION:PT1H
X-Robots-Tag:noindex
X-PUBLISHED-TTL:PT1H
BEGIN:VTIMEZONE
TZID:Europe/Helsinki
BEGIN:DAYLIGHT
TZOFFSETFROM:+0200
TZOFFSETTO:+0300
TZNAME:EEST
DTSTART:20240331T010000
END:DAYLIGHT
BEGIN:STANDARD
TZOFFSETFROM:+0300
TZOFFSETTO:+0200
TZNAME:EET
DTSTART:20241027T010000
END:STANDARD
BEGIN:DAYLIGHT
TZOFFSETFROM:+0200
TZOFFSETTO:+0300
TZNAME:EEST
DTSTART:20250330T010000
END:DAYLIGHT
BEGIN:STANDARD
TZOFFSETFROM:+0300
TZOFFSETTO:+0200
TZNAME:EET
DTSTART:20251026T010000
END:STANDARD
BEGIN:DAYLIGHT
TZOFFSETFROM:+0200
TZOFFSETTO:+0300
TZNAME:EEST
DTSTART:20260329T010000
END:DAYLIGHT
BEGIN:STANDARD
TZOFFSETFROM:+0300
TZOFFSETTO:+0200
TZNAME:EET
DTSTART:20261025T010000
END:STANDARD
END:VTIMEZONE
BEGIN:VEVENT
DTSTART;TZID=Europe/Helsinki:20250204T163000
DTEND;TZID=Europe/Helsinki:20250204T173000
DTSTAMP:20260422T173153
CREATED:20250115T191834Z
LAST-MODIFIED:20250115T191834Z
UID:16123-1738686600-1738690200@aivovammayhdistykset.fi
SUMMARY:Taidekerho
DESCRIPTION:Taidekerho\, vetäjänä Marjo Tiainen
URL:https://aivovammayhdistykset.fi/tapahtuma/taidekerho/
CATEGORIES:Varsinais-Suomen aivovammayhdistys ry
END:VEVENT
BEGIN:VEVENT
DTSTART;TZID=Europe/Helsinki:20250204T180000
DTEND;TZID=Europe/Helsinki:20250204T200000
DTSTAMP:20260422T173153
CREATED:20250107T090901Z
LAST-MODIFIED:20250107T090901Z
UID:15989-1738692000-1738699200@aivovammayhdistykset.fi
SUMMARY:Jäsenilta
DESCRIPTION:Helmikuussa jäsenilta ti 4.2. klo 18 ( äänimaljarentoutus)
URL:https://aivovammayhdistykset.fi/tapahtuma/jasenilta-44/
CATEGORIES:Varsinais-Suomen aivovammayhdistys ry
END:VEVENT
END:VCALENDAR