BEGIN:VCALENDAR
VERSION:2.0
PRODID:-//Aivovammayhdistykset - ECPv6.15.18//NONSGML v1.0//EN
CALSCALE:GREGORIAN
METHOD:PUBLISH
X-WR-CALNAME:Aivovammayhdistykset
X-ORIGINAL-URL:https://aivovammayhdistykset.fi
X-WR-CALDESC:Tapahtumat Aivovammayhdistykset
REFRESH-INTERVAL;VALUE=DURATION:PT1H
X-Robots-Tag:noindex
X-PUBLISHED-TTL:PT1H
BEGIN:VTIMEZONE
TZID:Europe/Helsinki
BEGIN:DAYLIGHT
TZOFFSETFROM:+0200
TZOFFSETTO:+0300
TZNAME:EEST
DTSTART:20240331T010000
END:DAYLIGHT
BEGIN:STANDARD
TZOFFSETFROM:+0300
TZOFFSETTO:+0200
TZNAME:EET
DTSTART:20241027T010000
END:STANDARD
BEGIN:DAYLIGHT
TZOFFSETFROM:+0200
TZOFFSETTO:+0300
TZNAME:EEST
DTSTART:20250330T010000
END:DAYLIGHT
BEGIN:STANDARD
TZOFFSETFROM:+0300
TZOFFSETTO:+0200
TZNAME:EET
DTSTART:20251026T010000
END:STANDARD
BEGIN:DAYLIGHT
TZOFFSETFROM:+0200
TZOFFSETTO:+0300
TZNAME:EEST
DTSTART:20260329T010000
END:DAYLIGHT
BEGIN:STANDARD
TZOFFSETFROM:+0300
TZOFFSETTO:+0200
TZNAME:EET
DTSTART:20261025T010000
END:STANDARD
END:VTIMEZONE
BEGIN:VEVENT
DTSTART;TZID=Europe/Helsinki:20250109T170000
DTEND;TZID=Europe/Helsinki:20250109T190000
DTSTAMP:20260422T191250
CREATED:20250104T123227Z
LAST-MODIFIED:20250104T123227Z
UID:15976-1736442000-1736449200@aivovammayhdistykset.fi
SUMMARY:TAMMIKUUN JÄSENTAPAAMINEN 9.1. klo.17.00
DESCRIPTION:Tapaamme tammikuun 9. päivä Äärellä Kuppi & Kattila kahvilassa Seinäjoella\nNyykoolinkatu 25 (Itikanmäellä Kalevan navetta)\nYhdistys tarjoaa pulla/leivos kahvit ja vertaistuellista seuraa!\nTervetuloa mukaan!
URL:https://aivovammayhdistykset.fi/tapahtuma/tammikuun-jasentapaaminen-9-1-klo-17-00/
LOCATION:Äärellä Kuppi & Kattila\, Nyykoolinkatu 25\, Seinäjoki\, 60100\, Suomi
CATEGORIES:Etelä-Pohjanmaan aivovammayhdistys ry,Hämeenlinna,Hyvinkää,Jyväskylä,Kankaanpää,Pääkaupunkiseutu,Pori,Porvoo,Tampere
END:VEVENT
END:VCALENDAR