BEGIN:VCALENDAR
VERSION:2.0
PRODID:-//Aivovammayhdistykset - ECPv6.15.18//NONSGML v1.0//EN
CALSCALE:GREGORIAN
METHOD:PUBLISH
X-WR-CALNAME:Aivovammayhdistykset
X-ORIGINAL-URL:https://aivovammayhdistykset.fi
X-WR-CALDESC:Tapahtumat Aivovammayhdistykset
REFRESH-INTERVAL;VALUE=DURATION:PT1H
X-Robots-Tag:noindex
X-PUBLISHED-TTL:PT1H
BEGIN:VTIMEZONE
TZID:Europe/Helsinki
BEGIN:DAYLIGHT
TZOFFSETFROM:+0200
TZOFFSETTO:+0300
TZNAME:EEST
DTSTART:20230326T010000
END:DAYLIGHT
BEGIN:STANDARD
TZOFFSETFROM:+0300
TZOFFSETTO:+0200
TZNAME:EET
DTSTART:20231029T010000
END:STANDARD
BEGIN:DAYLIGHT
TZOFFSETFROM:+0200
TZOFFSETTO:+0300
TZNAME:EEST
DTSTART:20240331T010000
END:DAYLIGHT
BEGIN:STANDARD
TZOFFSETFROM:+0300
TZOFFSETTO:+0200
TZNAME:EET
DTSTART:20241027T010000
END:STANDARD
BEGIN:DAYLIGHT
TZOFFSETFROM:+0200
TZOFFSETTO:+0300
TZNAME:EEST
DTSTART:20250330T010000
END:DAYLIGHT
BEGIN:STANDARD
TZOFFSETFROM:+0300
TZOFFSETTO:+0200
TZNAME:EET
DTSTART:20251026T010000
END:STANDARD
END:VTIMEZONE
BEGIN:VEVENT
DTSTART;TZID=Europe/Helsinki:20241207T150000
DTEND;TZID=Europe/Helsinki:20241207T180000
DTSTAMP:20260422T205459
CREATED:20240923T082700Z
LAST-MODIFIED:20240923T082706Z
UID:15592-1733583600-1733594400@aivovammayhdistykset.fi
SUMMARY:JOULUPÄIVÄLLINEN
DESCRIPTION:Lauantaina 7.12. klo 15-18.00 Ravintola Nallikarissa\, Nallikarinranta 15\, Oulu. \nPäivällisen hinta 20€/jäsen ja 59 €/ei jäsen. \n  \nIlmoittautuminen ja erikoisruokavaliot/ainerajoitukset 23.11. mennessä Eilalle\, eila.saasko@gmail.com tai tekstiviestillä puh. 040 765 6989. \n  \nMaksu Oulun Seudun Aivovammayhdistys ry:n tilille FI78 5740 7520 0587 68\, viimeistään 23.11.\, viestiksi joulupäivällinen. \n  \nTervetuloa!
URL:https://aivovammayhdistykset.fi/tapahtuma/joulupaivallinen/
CATEGORIES:Oulun Seudun Aivovammayhdistys ry
END:VEVENT
END:VCALENDAR