BEGIN:VCALENDAR
VERSION:2.0
PRODID:-//Aivovammayhdistykset - ECPv6.15.18//NONSGML v1.0//EN
CALSCALE:GREGORIAN
METHOD:PUBLISH
X-WR-CALNAME:Aivovammayhdistykset
X-ORIGINAL-URL:https://aivovammayhdistykset.fi
X-WR-CALDESC:Tapahtumat Aivovammayhdistykset
REFRESH-INTERVAL;VALUE=DURATION:PT1H
X-Robots-Tag:noindex
X-PUBLISHED-TTL:PT1H
BEGIN:VTIMEZONE
TZID:Europe/Helsinki
BEGIN:DAYLIGHT
TZOFFSETFROM:+0200
TZOFFSETTO:+0300
TZNAME:EEST
DTSTART:20230326T010000
END:DAYLIGHT
BEGIN:STANDARD
TZOFFSETFROM:+0300
TZOFFSETTO:+0200
TZNAME:EET
DTSTART:20231029T010000
END:STANDARD
BEGIN:DAYLIGHT
TZOFFSETFROM:+0200
TZOFFSETTO:+0300
TZNAME:EEST
DTSTART:20240331T010000
END:DAYLIGHT
BEGIN:STANDARD
TZOFFSETFROM:+0300
TZOFFSETTO:+0200
TZNAME:EET
DTSTART:20241027T010000
END:STANDARD
BEGIN:DAYLIGHT
TZOFFSETFROM:+0200
TZOFFSETTO:+0300
TZNAME:EEST
DTSTART:20250330T010000
END:DAYLIGHT
BEGIN:STANDARD
TZOFFSETFROM:+0300
TZOFFSETTO:+0200
TZNAME:EET
DTSTART:20251026T010000
END:STANDARD
END:VTIMEZONE
BEGIN:VEVENT
DTSTART;TZID=Europe/Helsinki:20241106T073000
DTEND;TZID=Europe/Helsinki:20241107T080000
DTSTAMP:20260422T222752
CREATED:20240805T164608Z
LAST-MODIFIED:20240805T164720Z
UID:15372-1730878200-1730966400@aivovammayhdistykset.fi
SUMMARY:VIKING LINE!
DESCRIPTION:KUTSU RISTEILEMÄÄN!  \nTURUN SEUDUN EPILEPSIAYHDISTYKSEN JA VARSINAIS-SUOMEN AIVOVAMMAYHDISTYKSEN YHTEINEN RISTELY JÄRJSTETÄÄN 6 – 7.11.2024 VIKING GLORY:LLA.  \n  \nOhjelmassa on aamupäivällä 2. luentoa. \nNeurologi Anna Pitkänen puhuu aiheesta: Ajoterveys\, ja Neuropsykologi Tarja Ketola kertoo: Mitä aivon kaipaavat. \n  \nIltapäivällä lounaan ja levon jälkeen ohjelma jatkuu keveämmissä merkeissä..  \n  \nLaiva lähtee satamasta klo. 8.45 ja laivaan nousu alkaa n. 20 minuuttia ennen lähtöä. Turussa olemme seuraavana päivänä 07.35. \n  \nHinnat alkaen 42\,50 (2 hengen hyttipaikka) 63 € (1 hengen hytti) \nHytti on ikkunaton \nHinta sisältää menomatkalla lounaan klo.12.00 \n  \nMuut ruokailut varattavissa erikseen ja niihin voi tutustua osoitteessa: www.vikingline.fi \n  \nIlmoittautuminen päättyy pe 27.9.2024. Tilitys maksetusta matkasta tulee näkyä viimeistään 4.10.2024 \nIlmoittautumisen yhteydessä saat tilinumeron ja viitteen. \n  \n  \nIlmoittautumiset: tiina.rentto@hotmail.com / 0400 532 887
URL:https://aivovammayhdistykset.fi/tapahtuma/viking-line-2/
LOCATION:Viking Glory
CATEGORIES:Varsinais-Suomen aivovammayhdistys ry
END:VEVENT
END:VCALENDAR