BEGIN:VCALENDAR
VERSION:2.0
PRODID:-//Aivovammayhdistykset - ECPv6.15.18//NONSGML v1.0//EN
CALSCALE:GREGORIAN
METHOD:PUBLISH
X-ORIGINAL-URL:https://aivovammayhdistykset.fi
X-WR-CALDESC:Tapahtumat Aivovammayhdistykset
REFRESH-INTERVAL;VALUE=DURATION:PT1H
X-Robots-Tag:noindex
X-PUBLISHED-TTL:PT1H
BEGIN:VTIMEZONE
TZID:Europe/Helsinki
BEGIN:DAYLIGHT
TZOFFSETFROM:+0200
TZOFFSETTO:+0300
TZNAME:EEST
DTSTART:20230326T010000
END:DAYLIGHT
BEGIN:STANDARD
TZOFFSETFROM:+0300
TZOFFSETTO:+0200
TZNAME:EET
DTSTART:20231029T010000
END:STANDARD
BEGIN:DAYLIGHT
TZOFFSETFROM:+0200
TZOFFSETTO:+0300
TZNAME:EEST
DTSTART:20240331T010000
END:DAYLIGHT
BEGIN:STANDARD
TZOFFSETFROM:+0300
TZOFFSETTO:+0200
TZNAME:EET
DTSTART:20241027T010000
END:STANDARD
BEGIN:DAYLIGHT
TZOFFSETFROM:+0200
TZOFFSETTO:+0300
TZNAME:EEST
DTSTART:20250330T010000
END:DAYLIGHT
BEGIN:STANDARD
TZOFFSETFROM:+0300
TZOFFSETTO:+0200
TZNAME:EET
DTSTART:20251026T010000
END:STANDARD
END:VTIMEZONE
BEGIN:VEVENT
DTSTART;TZID=Europe/Helsinki:20240920T180000
DTEND;TZID=Europe/Helsinki:20240922T130000
DTSTAMP:20260423T014750
CREATED:20240625T153719Z
LAST-MODIFIED:20240625T154228Z
UID:15254-1726855200-1727010000@aivovammayhdistykset.fi
SUMMARY:Virkistysviikonloppu!
DESCRIPTION:Aivovammaleiri:\nMeren aalloilla \n20.-22.9. 2028 Sinapin leirikeskuksessa \nVsavy järjestää yhteistyössä seurakuntien vammaistyön kanssa\nvirkistysviikonlopun Sinapin leirikeskuksessa meren rannalla \n20.-22.9.2024. Paikkoja on rajatusti. \nLeirillä majoittaudutaan 2 hengen huoneissa. Leiri alkaa\nperjantaina klo 18 ja päättyy sunnuntaina klo 13. Hinta 75e sis. \nruuan\, majoituksen liinavaattein ja ohjelman.\nAivovammaleiri:\nMeren aalloilla \n20.-22.9. 2028 Sinapin leirikeskuksessa \nLeirin teemana on Meren aalloilla. Ohjelmassa on toisiimme\ntutustumista\, merellistä musiikkia\, ohjelmahetkiä. Päivien\naikana on eri tilanteissa mahdollisuus ulkoilla ja nauttia\nmerestä\, yhdessä olosta ja myös omasta rauhasta.\nLisätiedot yhdistyksestä tai Tanja Rantapere p.040-341 7244 \ntai tanja.rantapere@evl.fi \nIlmoittaudu\n30.8.2024\nmennessä.
URL:https://aivovammayhdistykset.fi/tapahtuma/15254/
CATEGORIES:Varsinais-Suomen aivovammayhdistys ry
END:VEVENT
END:VCALENDAR