BEGIN:VCALENDAR
VERSION:2.0
PRODID:-//Aivovammayhdistykset - ECPv6.15.18//NONSGML v1.0//EN
CALSCALE:GREGORIAN
METHOD:PUBLISH
X-WR-CALNAME:Aivovammayhdistykset
X-ORIGINAL-URL:https://aivovammayhdistykset.fi
X-WR-CALDESC:Tapahtumat Aivovammayhdistykset
REFRESH-INTERVAL;VALUE=DURATION:PT1H
X-Robots-Tag:noindex
X-PUBLISHED-TTL:PT1H
BEGIN:VTIMEZONE
TZID:Europe/Helsinki
BEGIN:DAYLIGHT
TZOFFSETFROM:+0200
TZOFFSETTO:+0300
TZNAME:EEST
DTSTART:20230326T010000
END:DAYLIGHT
BEGIN:STANDARD
TZOFFSETFROM:+0300
TZOFFSETTO:+0200
TZNAME:EET
DTSTART:20231029T010000
END:STANDARD
BEGIN:DAYLIGHT
TZOFFSETFROM:+0200
TZOFFSETTO:+0300
TZNAME:EEST
DTSTART:20240331T010000
END:DAYLIGHT
BEGIN:STANDARD
TZOFFSETFROM:+0300
TZOFFSETTO:+0200
TZNAME:EET
DTSTART:20241027T010000
END:STANDARD
BEGIN:DAYLIGHT
TZOFFSETFROM:+0200
TZOFFSETTO:+0300
TZNAME:EEST
DTSTART:20250330T010000
END:DAYLIGHT
BEGIN:STANDARD
TZOFFSETFROM:+0300
TZOFFSETTO:+0200
TZNAME:EET
DTSTART:20251026T010000
END:STANDARD
END:VTIMEZONE
BEGIN:VEVENT
DTSTART;TZID=Europe/Helsinki:20240521T120000
DTEND;TZID=Europe/Helsinki:20240521T130000
DTSTAMP:20260425T165943
CREATED:20240111T151550Z
LAST-MODIFIED:20240423T114841Z
UID:14325-1716292800-1716296400@aivovammayhdistykset.fi
SUMMARY:Keilaus
DESCRIPTION:Yhdistys on varannut jäsentemme käyttöön kaksi keilarataa tiistaisin 21.5. klo 12-13 Oulun Keilahallilta\, Isokatu 97. Tila esteetön ja maksuton. Kenkävuokra 2€ omakustanteinen.
URL:https://aivovammayhdistykset.fi/tapahtuma/keilaus-111/
CATEGORIES:Oulun Seudun Aivovammayhdistys ry
END:VEVENT
BEGIN:VEVENT
DTSTART;TZID=Europe/Helsinki:20240521T153000
DTEND;TZID=Europe/Helsinki:20240521T200000
DTSTAMP:20260425T165943
CREATED:20240225T132007Z
LAST-MODIFIED:20240510T084921Z
UID:14633-1716305400-1716321600@aivovammayhdistykset.fi
SUMMARY:YHDISTYS TÄYTTÄÄ 30 VUOTTA!!
DESCRIPTION:Varsinais-Suomen\nAivovammayhdistys ry.\nToivotamme teidät lämpimästi tervetulleeksi\nyhdistyksen 30-vuotisjuhlaan tiistaina 21.5.2024 \nPaikka: Taito – ravintola\nLemminkäisenkatu 14 -18 b\nTurku \nAika 16.00 – 20.00 \nHinta: 10 euroa / osallistuja \nIlmoittautumisaikaa jatkettu 12.5. 2024\ntiedotus.vsavy@gmail.com \nIlmoittautumisen yhteydessä saat maksutiedot\,\nmuistathan kertoa myös ruoka-allergiat.\nPaikat täytetään ilmoittautumisjärjestyksessä\,\nMaksun jälkeen olet varmistanut paikan. \nPs Saavuthan ajoissa\, ovet aukeavat klo. 15.30
URL:https://aivovammayhdistykset.fi/tapahtuma/yhdistys-tayttaa-30-vuotta/
LOCATION:Opetusravintola TAITO\, Lemminkäisenkatu 14 B\, Turku\, Varsinais - Suomi\, 20100\, Suomi
CATEGORIES:Varsinais-Suomen aivovammayhdistys ry
END:VEVENT
END:VCALENDAR