BEGIN:VCALENDAR
VERSION:2.0
PRODID:-//Aivovammayhdistykset - ECPv6.15.18//NONSGML v1.0//EN
CALSCALE:GREGORIAN
METHOD:PUBLISH
X-WR-CALNAME:Aivovammayhdistykset
X-ORIGINAL-URL:https://aivovammayhdistykset.fi
X-WR-CALDESC:Tapahtumat Aivovammayhdistykset
REFRESH-INTERVAL;VALUE=DURATION:PT1H
X-Robots-Tag:noindex
X-PUBLISHED-TTL:PT1H
BEGIN:VTIMEZONE
TZID:Europe/Helsinki
BEGIN:DAYLIGHT
TZOFFSETFROM:+0200
TZOFFSETTO:+0300
TZNAME:EEST
DTSTART:20230326T010000
END:DAYLIGHT
BEGIN:STANDARD
TZOFFSETFROM:+0300
TZOFFSETTO:+0200
TZNAME:EET
DTSTART:20231029T010000
END:STANDARD
BEGIN:DAYLIGHT
TZOFFSETFROM:+0200
TZOFFSETTO:+0300
TZNAME:EEST
DTSTART:20240331T010000
END:DAYLIGHT
BEGIN:STANDARD
TZOFFSETFROM:+0300
TZOFFSETTO:+0200
TZNAME:EET
DTSTART:20241027T010000
END:STANDARD
BEGIN:DAYLIGHT
TZOFFSETFROM:+0200
TZOFFSETTO:+0300
TZNAME:EEST
DTSTART:20250330T010000
END:DAYLIGHT
BEGIN:STANDARD
TZOFFSETFROM:+0300
TZOFFSETTO:+0200
TZNAME:EET
DTSTART:20251026T010000
END:STANDARD
END:VTIMEZONE
BEGIN:VEVENT
DTSTART;TZID=Europe/Helsinki:20240407T200000
DTEND;TZID=Europe/Helsinki:20240408T200000
DTSTAMP:20260425T184842
CREATED:20240204T125647Z
LAST-MODIFIED:20240204T175106Z
UID:14519-1712520000-1712606400@aivovammayhdistykset.fi
SUMMARY:VIKING LINE!
DESCRIPTION:VIKING LINE!\nKevät on täällä taas ja Varsinais- Suomen\naivovammayhdistys kutsuu ottamaan kevättä vastaa\n23h risteilyllä Itämeren aalloille M/S Viking Gracella.\nLähtö tapahtuu Turun sataman Viking Linen terminaalista Ilta lähtönä 7.4.2024. Osoitteesta: Ensimmäinen Linja\, 20100 Turku. \nSatamassa olisi hyvä olla viimeistään klo. 20.15 \nTanssin pyörteistä vastaa Mikko Mäkeläinen& Myrskylyhty. \nVoit varat matkan itsellesi tai kaverin kanssa. Hintaa sisältyy hytti-\npaikka\, sekä seuraavan päivän lounas. Saatavilla on myös I-hytti.\nHinnat:\nRisteily 2hh hytissä 70\,00€\n1hh hytissä 98\,00€\n1hh invahytti 76\,00€\nHintaan sisältyy. Lounasbuffet ja polttoainemaksu. \nLisäksi voit varat seuraavia ruokailuja varauksen yhteydessä:\n* Buffet aamiainen 16\,00 /hlö\n* Premium aamiainen 23\,00 / hlö\n*Buffet Illallinen klo.20.55 tai 21.15 kattaukseen on 38.00 euroa /hlö.\n* (RUOKAILUJEN HINNAT OVAT EDULLISEMMAT ETUKÄTEEN VARATTUNA) \nRisteilyn varaukset vastaan ottaa Tiina Rentto.\nPuh. 0400 532 887 / tiina.rentto@hotmail.com\nMatkan viimeinen varauspäivä on 29.2.2024 \nMatka maksetaan Varsinais-Suomen aivovammayhdistyksen tilille\nkäyttäen viitenumeroa. Tili ja viitenumeron sekä viimeisen maksupäivän\ntiedot saat Tiina Rennolta ilmoittautumisen yhteydessä. \nEmme voi taata matkakaveria jos varaat matkan 2. hengen hytissä\,\njoten etukäteen tiedetty matkakaveri takaa alkaen 70 euron matkan.\nYstävällisin terveisin: Varsinais- Suomen aivovammayhdistys ry.
URL:https://aivovammayhdistykset.fi/tapahtuma/viking-line/
CATEGORIES:Varsinais-Suomen aivovammayhdistys ry
END:VEVENT
END:VCALENDAR