BEGIN:VCALENDAR
VERSION:2.0
PRODID:-//Aivovammayhdistykset - ECPv6.15.18//NONSGML v1.0//EN
CALSCALE:GREGORIAN
METHOD:PUBLISH
X-WR-CALNAME:Aivovammayhdistykset
X-ORIGINAL-URL:https://aivovammayhdistykset.fi
X-WR-CALDESC:Tapahtumat Aivovammayhdistykset
REFRESH-INTERVAL;VALUE=DURATION:PT1H
X-Robots-Tag:noindex
X-PUBLISHED-TTL:PT1H
BEGIN:VTIMEZONE
TZID:Europe/Helsinki
BEGIN:DAYLIGHT
TZOFFSETFROM:+0200
TZOFFSETTO:+0300
TZNAME:EEST
DTSTART:20230326T010000
END:DAYLIGHT
BEGIN:STANDARD
TZOFFSETFROM:+0300
TZOFFSETTO:+0200
TZNAME:EET
DTSTART:20231029T010000
END:STANDARD
BEGIN:DAYLIGHT
TZOFFSETFROM:+0200
TZOFFSETTO:+0300
TZNAME:EEST
DTSTART:20240331T010000
END:DAYLIGHT
BEGIN:STANDARD
TZOFFSETFROM:+0300
TZOFFSETTO:+0200
TZNAME:EET
DTSTART:20241027T010000
END:STANDARD
BEGIN:DAYLIGHT
TZOFFSETFROM:+0200
TZOFFSETTO:+0300
TZNAME:EEST
DTSTART:20250330T010000
END:DAYLIGHT
BEGIN:STANDARD
TZOFFSETFROM:+0300
TZOFFSETTO:+0200
TZNAME:EET
DTSTART:20251026T010000
END:STANDARD
END:VTIMEZONE
BEGIN:VEVENT
DTSTART;TZID=Europe/Helsinki:20240404T140000
DTEND;TZID=Europe/Helsinki:20240404T153000
DTSTAMP:20260425T184843
CREATED:20240315T205050Z
LAST-MODIFIED:20240315T205050Z
UID:14828-1712239200-1712244600@aivovammayhdistykset.fi
SUMMARY:Naisten ja miesten ryhmän kuukausitapaaminen
DESCRIPTION:
URL:https://aivovammayhdistykset.fi/tapahtuma/naisten-ja-miesten-ryhman-kuukausitapaaminen/
CATEGORIES:Varsinais-Suomen aivovammayhdistys ry
END:VEVENT
BEGIN:VEVENT
DTSTART;TZID=Europe/Helsinki:20240404T170000
DTEND;TZID=Europe/Helsinki:20240404T190000
DTSTAMP:20260425T184843
CREATED:20240326T100414Z
LAST-MODIFIED:20240326T100414Z
UID:14880-1712250000-1712257200@aivovammayhdistykset.fi
SUMMARY:Huhtikuun jäsentapaaminen 4.4. klo.17.00 S.Q.B. Center Seinäjoki
DESCRIPTION:Tapaamme Seinäjoella KEILAUKSEN MERKEISSÄ S.Q.B. Centterissä 4.4. klo.17.00 alkaen.\nMeille varattuna 4 rataa kahdeksi tunniksi.\nKeilauksen päätteeksi tarjolla pullakahvit.\nJäsenille maksuton!\nTervetuloa mukaan!
URL:https://aivovammayhdistykset.fi/tapahtuma/huhtikuun-jasentapaaminen-4-4-klo-17-00-s-q-b-center-seinajoki/
LOCATION:S.Q.B. Center Seinäjoki\, Urheilupuisto 4\, Seinäjoki\, 60100\, Suomi
CATEGORIES:Etelä-Pohjanmaan aivovammayhdistys ry
END:VEVENT
END:VCALENDAR