BEGIN:VCALENDAR
VERSION:2.0
PRODID:-//Aivovammayhdistykset - ECPv6.15.18//NONSGML v1.0//EN
CALSCALE:GREGORIAN
METHOD:PUBLISH
X-ORIGINAL-URL:https://aivovammayhdistykset.fi
X-WR-CALDESC:Tapahtumat Aivovammayhdistykset
REFRESH-INTERVAL;VALUE=DURATION:PT1H
X-Robots-Tag:noindex
X-PUBLISHED-TTL:PT1H
BEGIN:VTIMEZONE
TZID:Europe/Helsinki
BEGIN:DAYLIGHT
TZOFFSETFROM:+0200
TZOFFSETTO:+0300
TZNAME:EEST
DTSTART:20230326T010000
END:DAYLIGHT
BEGIN:STANDARD
TZOFFSETFROM:+0300
TZOFFSETTO:+0200
TZNAME:EET
DTSTART:20231029T010000
END:STANDARD
BEGIN:DAYLIGHT
TZOFFSETFROM:+0200
TZOFFSETTO:+0300
TZNAME:EEST
DTSTART:20240331T010000
END:DAYLIGHT
BEGIN:STANDARD
TZOFFSETFROM:+0300
TZOFFSETTO:+0200
TZNAME:EET
DTSTART:20241027T010000
END:STANDARD
BEGIN:DAYLIGHT
TZOFFSETFROM:+0200
TZOFFSETTO:+0300
TZNAME:EEST
DTSTART:20250330T010000
END:DAYLIGHT
BEGIN:STANDARD
TZOFFSETFROM:+0300
TZOFFSETTO:+0200
TZNAME:EET
DTSTART:20251026T010000
END:STANDARD
END:VTIMEZONE
BEGIN:VEVENT
DTSTART;TZID=Europe/Helsinki:20240319T120000
DTEND;TZID=Europe/Helsinki:20240319T130000
DTSTAMP:20260425T214209
CREATED:20231126T075814Z
LAST-MODIFIED:20231126T075814Z
UID:13985-1710849600-1710853200@aivovammayhdistykset.fi
SUMMARY:Keilaus
DESCRIPTION:Keilaus\nYhdistys on varannut jäsentemme käyttöön kaksi keilarataa tiistaisin 19.3  klo 12.00-13.00 Oulun Keilahallilta os. Isokatu 97\, esteetön tila ja jäsenille maksuton.\nKenkävuokra 2 € on omakustanteinen.
URL:https://aivovammayhdistykset.fi/tapahtuma/keilaus-90/
CATEGORIES:Oulun Seudun Aivovammayhdistys ry
END:VEVENT
BEGIN:VEVENT
DTSTART;TZID=Europe/Helsinki:20240319T180000
DTEND;TZID=Europe/Helsinki:20240319T200000
DTSTAMP:20260425T214209
CREATED:20231208T111335Z
LAST-MODIFIED:20240105T114002Z
UID:14096-1710871200-1710878400@aivovammayhdistykset.fi
SUMMARY:Yhdistyksen vuosikokous.
DESCRIPTION:Vuosikokous.
URL:https://aivovammayhdistykset.fi/tapahtuma/jasenilta-38/
LOCATION:Turun Seudun TST ry\, Kanslerintie 19\, Turku\, 20200
CATEGORIES:Varsinais-Suomen aivovammayhdistys ry
END:VEVENT
END:VCALENDAR