BEGIN:VCALENDAR
VERSION:2.0
PRODID:-//Aivovammayhdistykset - ECPv6.15.18//NONSGML v1.0//EN
CALSCALE:GREGORIAN
METHOD:PUBLISH
X-WR-CALNAME:Aivovammayhdistykset
X-ORIGINAL-URL:https://aivovammayhdistykset.fi
X-WR-CALDESC:Tapahtumat Aivovammayhdistykset
REFRESH-INTERVAL;VALUE=DURATION:PT1H
X-Robots-Tag:noindex
X-PUBLISHED-TTL:PT1H
BEGIN:VTIMEZONE
TZID:Europe/Helsinki
BEGIN:DAYLIGHT
TZOFFSETFROM:+0200
TZOFFSETTO:+0300
TZNAME:EEST
DTSTART:20230326T010000
END:DAYLIGHT
BEGIN:STANDARD
TZOFFSETFROM:+0300
TZOFFSETTO:+0200
TZNAME:EET
DTSTART:20231029T010000
END:STANDARD
BEGIN:DAYLIGHT
TZOFFSETFROM:+0200
TZOFFSETTO:+0300
TZNAME:EEST
DTSTART:20240331T010000
END:DAYLIGHT
BEGIN:STANDARD
TZOFFSETFROM:+0300
TZOFFSETTO:+0200
TZNAME:EET
DTSTART:20241027T010000
END:STANDARD
BEGIN:DAYLIGHT
TZOFFSETFROM:+0200
TZOFFSETTO:+0300
TZNAME:EEST
DTSTART:20250330T010000
END:DAYLIGHT
BEGIN:STANDARD
TZOFFSETFROM:+0300
TZOFFSETTO:+0200
TZNAME:EET
DTSTART:20251026T010000
END:STANDARD
END:VTIMEZONE
BEGIN:VEVENT
DTSTART;TZID=Europe/Helsinki:20240208T183000
DTEND;TZID=Europe/Helsinki:20240208T213000
DTSTAMP:20260425T232031
CREATED:20231216T141241Z
LAST-MODIFIED:20231216T141241Z
UID:14211-1707417000-1707427800@aivovammayhdistykset.fi
SUMMARY:Iloinen iltapäivä MAAGIKOT 2024- KIERTUE!
DESCRIPTION:Yhdistyksen nuoremille jäsenille jo perinteiseksi muodostunut tapahtuma Iloinen iltapäivä järjestetään tällä kertaa turun logomolla. \n  \nSUOMEN SUURIN MAGIA-KIERTUE MAAGIKOT 3 SAAPUU LOGOMOON HELMIKUUSSA 2024! \nMaagikot 3 – Suomen suurin magia-kiertue hämmästyttää jälleen helmikuussa 2024: ”Rautainen kokonaisuus\, jolla voisi kiertää missä päin maailmaa tahansa” \nTo 8.2.2023 klo 19.00 LOGOMO \n Ovet auki asiakkaille klo 18.30\n– Siirtyminen saliin viimeistään klo 18.50\n– Konsertti alkaa klo 19.00 \nLipun hinta 30 € Liput rivillä 9. Huom! Lippuja on 9 kpl tähän hintaan. \nLippu maksetaan yhdistyksen tilille\, jonka tiedot saat ilmoittautumisen yhteydessä. \nPyörätuolipaikkoja tai paikkoja avustajille ei varattu. \nIlmoittautuminen viimeistään: 26.1.2024 \nIlmoittautuminen sähköpostilla: puheenjohtaja.vsavy@gmail.com\n\ntai puh. 044 314 4838\n\nVaraus ja maksu mahdollisimman pian.
URL:https://aivovammayhdistykset.fi/tapahtuma/iloinen-iltapaiva-maagikot-2024-kiertue/
LOCATION:LOGOMO\, Junakatu 9\, Turku\, 20100
CATEGORIES:Varsinais-Suomen aivovammayhdistys ry
END:VEVENT
END:VCALENDAR