BEGIN:VCALENDAR
VERSION:2.0
PRODID:-//Aivovammayhdistykset - ECPv6.15.18//NONSGML v1.0//EN
CALSCALE:GREGORIAN
METHOD:PUBLISH
X-ORIGINAL-URL:https://aivovammayhdistykset.fi
X-WR-CALDESC:Tapahtumat Aivovammayhdistykset
REFRESH-INTERVAL;VALUE=DURATION:PT1H
X-Robots-Tag:noindex
X-PUBLISHED-TTL:PT1H
BEGIN:VTIMEZONE
TZID:Europe/Helsinki
BEGIN:DAYLIGHT
TZOFFSETFROM:+0200
TZOFFSETTO:+0300
TZNAME:EEST
DTSTART:20230326T010000
END:DAYLIGHT
BEGIN:STANDARD
TZOFFSETFROM:+0300
TZOFFSETTO:+0200
TZNAME:EET
DTSTART:20231029T010000
END:STANDARD
BEGIN:DAYLIGHT
TZOFFSETFROM:+0200
TZOFFSETTO:+0300
TZNAME:EEST
DTSTART:20240331T010000
END:DAYLIGHT
BEGIN:STANDARD
TZOFFSETFROM:+0300
TZOFFSETTO:+0200
TZNAME:EET
DTSTART:20241027T010000
END:STANDARD
BEGIN:DAYLIGHT
TZOFFSETFROM:+0200
TZOFFSETTO:+0300
TZNAME:EEST
DTSTART:20250330T010000
END:DAYLIGHT
BEGIN:STANDARD
TZOFFSETFROM:+0300
TZOFFSETTO:+0200
TZNAME:EET
DTSTART:20251026T010000
END:STANDARD
END:VTIMEZONE
BEGIN:VEVENT
DTSTART;TZID=Europe/Helsinki:20240109T120000
DTEND;TZID=Europe/Helsinki:20240109T130000
DTSTAMP:20260426T005226
CREATED:20231126T075309Z
LAST-MODIFIED:20231126T075309Z
UID:13975-1704801600-1704805200@aivovammayhdistykset.fi
SUMMARY:Keilaus
DESCRIPTION:Keilaus\nYhdistys on varannut jäsentemme käyttöön kaksi keilarataa tiistaisin 9.1 klo 12.00-13.00 Oulun Keilahallilta os. Isokatu 97\, esteetön tila ja jäsenille maksuton.\nKenkävuokra 2 € on omakustanteinen.
URL:https://aivovammayhdistykset.fi/tapahtuma/keilaus-83/
CATEGORIES:Oulun Seudun Aivovammayhdistys ry
END:VEVENT
BEGIN:VEVENT
DTSTART;TZID=Europe/Helsinki:20240109T180000
DTEND;TZID=Europe/Helsinki:20240109T200000
DTSTAMP:20260426T005226
CREATED:20231208T101031Z
LAST-MODIFIED:20231208T101031Z
UID:14073-1704823200-1704830400@aivovammayhdistykset.fi
SUMMARY:Jäsenilta
DESCRIPTION:Kevään ensimmäinen jäsenilta pidetään Salossa klo. 18.00 – 20.00. \nTervehdimme Salon toimintaryhmää ja käymme tutustumassa uusiin toimitiloihin. \nYhteislähtö tapahtuu turusta klo. 17.00 osoitteesta Kanslerintie 19 ja paluu on n. klo. 20.15 – 20.30 \nKuljemme jokainen lähtökohtaisesti omatoimisesti\, ja yhteiskyydeistä voi etukäteen sopia keskenään. \nTervetuloa mukaan.
URL:https://aivovammayhdistykset.fi/tapahtuma/jasenilta-31/
LOCATION:Salon Syty\, Helsingintie 6\, Salo\, Salo\, 24100\, Finland
CATEGORIES:Varsinais-Suomen aivovammayhdistys ry
END:VEVENT
END:VCALENDAR