BEGIN:VCALENDAR
VERSION:2.0
PRODID:-//Aivovammayhdistykset - ECPv6.15.18//NONSGML v1.0//EN
CALSCALE:GREGORIAN
METHOD:PUBLISH
X-ORIGINAL-URL:https://aivovammayhdistykset.fi
X-WR-CALDESC:Tapahtumat Aivovammayhdistykset
REFRESH-INTERVAL;VALUE=DURATION:PT1H
X-Robots-Tag:noindex
X-PUBLISHED-TTL:PT1H
BEGIN:VTIMEZONE
TZID:Europe/Helsinki
BEGIN:DAYLIGHT
TZOFFSETFROM:+0200
TZOFFSETTO:+0300
TZNAME:EEST
DTSTART:20220327T010000
END:DAYLIGHT
BEGIN:STANDARD
TZOFFSETFROM:+0300
TZOFFSETTO:+0200
TZNAME:EET
DTSTART:20221030T010000
END:STANDARD
BEGIN:DAYLIGHT
TZOFFSETFROM:+0200
TZOFFSETTO:+0300
TZNAME:EEST
DTSTART:20230326T010000
END:DAYLIGHT
BEGIN:STANDARD
TZOFFSETFROM:+0300
TZOFFSETTO:+0200
TZNAME:EET
DTSTART:20231029T010000
END:STANDARD
BEGIN:DAYLIGHT
TZOFFSETFROM:+0200
TZOFFSETTO:+0300
TZNAME:EEST
DTSTART:20240331T010000
END:DAYLIGHT
BEGIN:STANDARD
TZOFFSETFROM:+0300
TZOFFSETTO:+0200
TZNAME:EET
DTSTART:20241027T010000
END:STANDARD
END:VTIMEZONE
BEGIN:VEVENT
DTSTART;TZID=Europe/Helsinki:20231214T180000
DTEND;TZID=Europe/Helsinki:20231214T200000
DTSTAMP:20260426T022657
CREATED:20231011T111320Z
LAST-MODIFIED:20231011T111320Z
UID:13798-1702576800-1702584000@aivovammayhdistykset.fi
SUMMARY:Neuropsykologian erikoispsykologi Jaana Sarajuuri\, luento 14.12.2023
DESCRIPTION:  \nKampin palvelukeskuksessa\, Salomonkatu 21 B\, Helsinki\, ruokasali\, alakerros \nLuennot ovat iltaisin 18-20
URL:https://aivovammayhdistykset.fi/tapahtuma/neuropsykologian-erikoispsykologi-jaana-sarajuuri-luento-14-12-2023/
LOCATION:Kampin palvelukeskus\, Salomonkatu 21 B\, Helsinki\, 00100\, Suomi
CATEGORIES:AVY Aivovammayhdistys ry
END:VEVENT
END:VCALENDAR